Workbook

Sheet Uppgifter om filen
B4: Materialets namn: | D4: Preliminära statsandelar för kommunerna 2027, september 2026
B5: Uppgifter om materialet: | D5: FM:s preliminära statsandelsberäkning, september 2026, och UKM:s statsandel enligt läget 3.8.2026
B6: Kontaktperson: | D6: Olli Riikonen, tfn 050 477 5619, olli.riikonen@kuntaliitto.fi
B7: Datum: | D7: 22.9.2026 (19.10.2026 avlägsnades formelreferenserna för säkerhets skull)
B8: Användningsvillkor:
B9: Du får
D11: Dela
D12: kopiera och sprida materialet vidare i vilket medium och format som helst
D14: Bearbeta
D15: remixa och bearbeta materialet samt skapa nytt material utifrån det
D16: för vilket ändamål som helst, även kommersiellt.

Sheet 1.a. Statsandelsberäkning
A1: Preliminär statsandelsberäkning för 2027, sammanfattning | V1: Kommunernas statsandelar och ersättningar för skatteförluster 2026, sammanfattning
A2: Sammandrag av FM:s preliminära statsandelsberäkning för 2027 + UKM:s statsandel enligt statsandelsbeslutet för 2026 | V2: Sammandrag av FM:s slutliga statsandelsberäkning för 2026 utan behovsprövade höjningar + UKM:s statsandel enligt statsandelsbesluten för 2026
A3: Kommunförbundets publikation 22.9.2026
A4: Källor: | V4: Källor:
A5: Preliminära beräkningsuppgifter för statsandelarna 2027 / FM, september 2026 | V5: Beräkningsuppgifter för statsandelarna 2026 / FM, juni 2026
A6: UKM:s statsandelar 2026 / UKM 3.8.2026 (Utbildningsstyrelsens beräkning 24.7.2026) | V6: UKM:s statsandelar 2026 / UKM 3.8.2026 (Utbildningsstyrelsens beräkning 24.7.2026)
A7: Förändringsberäkningar Kommunförbundet / Olli Riikonen | V7: Förändringsberäkningar Kommunförbundet / Olli Riikonen
A8: Numret i kolumnrubriken hänvisar till det bokföringskonto där posten i fråga bokförs. | V8: Numret i kolumnrubriken hänvisar till det bokföringskonto där posten i fråga bokförs.
A9: Kommunnr | B9: Kommun | C9: Invånarantal 31.12.2025 | D9: Statsandel för basservice utan utjämning och social- och hälsovårdsposter (F–E) | E9: Social- och hälsovårds-poster | F9: 5501 Statsandel för basservice utan utjämning (D+E) | G9: 5502 Utjämning av statsandelen på basis av skatteinkomster | H9: Kommunens statsandel för basservice totalt (F+G) | I9: 5890 Ersättning för skatteförluster | J9: FM:s statsandelar och ersättning för skatteförluster totalt (H+I) | K9: 5701 Statsandel för undervisnings- och kulturverksamhet (s.k. UKM-statsandel) 2026 | L9: Kommunens statsandelar totalt (J+K) | M9: Kommunens statsandelar totalt, euro/invånare | N9: Hemkommunsersättning, netto | O9: Utbetalning av statsandelar (statsandelar + hemkommunsersättningar) | P9: Landskapsnr | Q9: Välfärdsområdesnr | R9: Förändring av statsandelarna totalt, euro 2026–2027 | S9: Förändring totalt, % | T9: Förändring totalt, euro/invånare | V9: Kommunnr | W9: Kommun | X9: Invånarantal 31.12.2024 | Y9: Statsandel för basservice utan utjämning och social- och hälsovårdsposter (AA–Z) | Z9: Social- och hälsovårdsposter | AA9: 5501 Statsandel för basservice utan utjämning (Y+Z) | AB9: 5502 Utjämning av statsandelen på basis av skatteinkomster | AC9: Kommunens statsandel för basservice totalt (AA+AB) | AD9: 5890 Ersättning för skattebortfall | AE9: FM:s statsandelar och ersättning för skattebortfall totalt | AF9: 5701 Statsandel för undervisnings- och kulturverksamhet (s.k. UKM-statsandel) 2026 | AG9: Kommunens statsandelar totalt (AE+AF) | AH9: Kommunens statsandelar totalt, euro/invånare | AI9: Hemkommunsersättning, netto | AJ9: Utbetalning av statsandelar (statsandelar + hemkommunsersättningar) | AK9: Landskapsnr | AL9: Välfärdsområdesnr
B10: TOTALT | C10: 5622045 | D10: 2.5988348e+09 | E10: 0.27999703 | F10: 2.5988348e+09 | G10: 8.0492514e+08 | H10: 3.4037599e+09 | I10: 6.165e+08 | J10: 4.0202599e+09 | K10: 153721870 | L10: 4.1739818e+09 | M10: 742.43123 | N10: -2.7181064e+08 | O10: 3.9021711e+09 | P10: 0 | Q10: 0 | R10: -28268220 | S10: -0.0067269249 | T10: -5.0281028 | W10: TOTALT | X10: 5605317 | Y10: 2.7390108e+09 | Z10: 0.27999703 | AA10: 2.7390108e+09 | AB10: 7.8251737e+08 | AC10: 3.5215281e+09 | AD10: 5.27e+08 | AE10: 4.0485281e+09 | AF10: 153721870 | AG10: 4.20225e+09 | AH10: 749.68998 | AI10: -2.5286194e+08 | AJ10: 3.9493881e+09 | AK10: 0 | AL10: 0
A11: 5 | B11: Alajärvi | C11: 8982 | D11: 4566114.2 | E11: 1057381.1 | F11: 5623495.3 | G11: 5336568.5 | H11: 10960064 | I11: 1524212.6 | J11: 12484276 | K11: 525570 | L11: 13009846 | M11: 1448.4354 | N11: -520411.02 | O11: 12489435 | P11: 14 | Q11: 14 | R11: 117704.54 | S11: 0.0091299448 | T11: 13.104492 | V11: 5 | W11: Alajärvi | X11: 9078 | Y11: 4806528.8 | Z11: 1070292.2 | AA11: 5876821 | AB11: 5075761.3 | AC11: 10952582 | AD11: 1413989.6 | AE11: 12366572 | AF11: 525570 | AG11: 12892142 | AH11: 1420.1522 | AI11: -399462.17 | AJ11: 12492680 | AK11: 14 | AL11: 14
A12: 9 | B12: Alavieska | C12: 2384 | D12: 1497790.4 | E12: 494035.1 | F12: 1991825.5 | G12: 1766431.5 | H12: 3758257 | I12: 392967.77 | J12: 4151224.8 | K12: -538205 | L12: 3613019.8 | M12: 1515.5284 | N12: 110890.63 | O12: 3723910.4 | P12: 17 | Q12: 17 | R12: -101727.59 | S12: -0.027384794 | T12: -42.67097 | V12: 9 | W12: Alavieska | X12: 2410 | Y12: 1620188.4 | Z12: 497475.54 | AA12: 2117664 | AB12: 1776047 | AC12: 3893711 | AD12: 359241.4 | AE12: 4252952.4 | AF12: -538205 | AG12: 3714747.4 | AH12: 1541.3889 | AI12: 113072 | AJ12: 3827819.4 | AK12: 17 | AL12: 17
A13: 10 | B13: Alavus | C13: 10634 | D13: 4626380.7 | E13: -916360.13 | F13: 3710020.5 | G13: 6680702.6 | H13: 10390723 | I13: 1802651.7 | J13: 12193375 | K13: -767804 | L13: 11425571 | M13: 1074.4377 | N13: -79431.641 | O13: 11346139 | P13: 14 | Q13: 14 | R13: -38187.6 | S13: -0.0033311589 | T13: -3.5910852 | V13: 10 | W13: Alavus | X13: 10780 | Y13: 4872991.1 | Z13: -1067280.9 | AA13: 3805710.2 | AB13: 6775281.5 | AC13: 10580992 | AD13: 1650570.7 | AE13: 12231562 | AF13: -767804 | AG13: 11463758 | AH13: 1063.4284 | AI13: 8922.0875 | AJ13: 11472680 | AK13: 14 | AL13: 14
A14: 16 | B14: Asikkala | C14: 7841 | D14: 323478.51 | E14: 3783635.9 | F14: 4107114.5 | G14: 2363417.2 | H14: 6470531.7 | I14: 1093228.5 | J14: 7563760.2 | K14: -637863 | L14: 6925897.2 | M14: 883.29259 | N14: 473416.27 | O14: 7399313.4 | P14: 7 | Q14: 7 | R14: -827378.34 | S14: -0.10671339 | T14: -105.51949 | V14: 16 | W14: Asikkala | X14: 7889 | Y14: 1073993.7 | Z14: 3915113.5 | AA14: 4989107.2 | AB14: 2433035 | AC14: 7422142.1 | AD14: 968996.37 | AE14: 8391138.5 | AF14: -637863 | AG14: 7753275.5 | AH14: 982.79573 | AI14: 483347.47 | AJ14: 8236623 | AK14: 7 | AL14: 7
A15: 18 | B15: Askola | C15: 4677 | D15: 2219179.3 | E15: -547602.15 | F15: 1671577.1 | G15: 1017533.3 | H15: 2689110.4 | I15: 501608.6 | J15: 3190719 | K15: -121633 | L15: 3069086 | M15: 656.20825 | N15: 706581.81 | O15: 3775667.8 | P15: 1 | Q15: 34 | R15: -96952.658 | S15: -0.030622702 | T15: -20.729668 | V15: 18 | W15: Askola | X15: 4651 | Y15: 2489657.5 | Z15: -612350.46 | AA15: 1877307 | AB15: 996978.65 | AC15: 2874285.7 | AD15: 413385.97 | AE15: 3287671.7 | AF15: -121633 | AG15: 3166038.7 | AH15: 680.72214 | AI15: 641595.26 | AJ15: 3807633.9 | AK15: 1 | AL15: 34
A16: 19 | B16: Aura | C16: 3937 | D16: 2066457.6 | E16: -712801.28 | F16: 1353656.4 | G16: 1375014.2 | H16: 2728670.6 | I16: 369193.06 | J16: 3097863.6 | K16: -964731 | L16: 2133132.6 | M16: 541.81677 | N16: 56515.474 | O16: 2189648.1 | P16: 2 | Q16: 2 | R16: -120455.98 | S16: -0.053450741 | T16: -30.595881 | V16: 19 | W16: Aura | X16: 3966 | Y16: 2094842.1 | Z16: -766701.56 | AA16: 1328140.5 | AB16: 1588957.8 | AC16: 2917098.4 | AD16: 301221.26 | AE16: 3218319.6 | AF16: -964731 | AG16: 2253588.6 | AH16: 568.22708 | AI16: 79592.087 | AJ16: 2333180.7 | AK16: 2 | AL16: 2
A17: 20 | B17: Akaa | C17: 16429 | D17: 5355738.6 | E17: -4489516.3 | F17: 866222.3 | G17: 6794825.4 | H17: 7661047.7 | I17: 1423814.2 | J17: 9084861.9 | K17: -2763453 | L17: 6321408.9 | M17: 384.77137 | N17: -96129.814 | O17: 6225279.1 | P17: 6 | Q17: 6 | R17: 217506.32 | S17: 0.035633976 | T17: 13.23917 | V17: 20 | W17: Akaa | X17: 16387 | Y17: 5703508.4 | Z17: -4713450.5 | AA17: 990057.9 | AB17: 6747448.9 | AC17: 7737506.8 | AD17: 1129848.8 | AE17: 8867355.6 | AF17: -2763453 | AG17: 6103902.6 | AH17: 372.48444 | AI17: -358561.91 | AJ17: 5745340.7 | AK17: 6 | AL17: 6
A18: 46 | B18: Enonkoski | C18: 1273 | D18: 1044539 | E18: 609099.58 | F18: 1653638.6 | G18: 460678.57 | H18: 2114317.2 | I18: 260111.19 | J18: 2374428.4 | K18: -381686 | L18: 1992742.4 | M18: 1565.3907 | N18: 540707.14 | O18: 2533449.5 | P18: 10 | Q18: 10 | R18: 12562.278 | S18: 0.006344008 | T18: 9.8682469 | V18: 46 | W18: Enonkoski | X18: 1288 | Y18: 952773.76 | Z18: 631100 | AA18: 1583873.8 | AB18: 532260.5 | AC18: 2116134.3 | AD18: 245731.84 | AE18: 2361866.1 | AF18: -381686 | AG18: 1980180.1 | AH18: 1537.4069 | AI18: 510944.1 | AJ18: 2491124.2 | AK18: 10 | AL18: 10
A19: 47 | B19: Enontekiö | C19: 1769 | D19: 2320694.6 | E19: 355521.56 | F19: 2676216.2 | G19: 294775.03 | H19: 2970991.2 | I19: 306294.05 | J19: 3277285.2 | K19: -46308 | L19: 3230977.2 | M19: 1826.4428 | N19: -53507.958 | O19: 3177469.3 | P19: 19 | Q19: 19 | R19: -205035.85 | S19: -0.059672606 | T19: -115.90495 | V19: 47 | W19: Enontekiö | X19: 1762 | Y19: 2396193.2 | Z19: 385232.79 | AA19: 2781426 | AB19: 415214.51 | AC19: 3196640.5 | AD19: 285680.62 | AE19: 3482321.1 | AF19: -46308 | AG19: 3436013.1 | AH19: 1950.0642 | AI19: -68903.25 | AJ19: 3367109.8 | AK19: 19 | AL19: 19
A20: 49 | B20: Espoo | C20: 325716 | D20: 3.2164575e+08 | E20: 1.4616114e+08 | F20: 4.6780689e+08 | G20: -25866900 | H20: 4.4193999e+08 | I20: 27145350 | J20: 4.6908534e+08 | K20: 8305398 | L20: 4.7739074e+08 | M20: 1465.6656 | N20: -19426448 | O20: 4.5796429e+08 | P20: 1 | Q20: 33 | R20: 1147827 | S20: 0.0024101713 | T20: 3.5240118 | V20: 49 | W20: Espoo | X20: 320931 | Y20: 3.201854e+08 | Z20: 1.5116946e+08 | AA20: 4.7135486e+08 | AB20: -25136908 | AC20: 4.4621795e+08 | AD20: 21719562 | AE20: 4.6793752e+08 | AF20: 8305398 | AG20: 4.7624291e+08 | AH20: 1483.9418 | AI20: -19057102 | AJ20: 4.5718581e+08 | AK20: 1 | AL20: 33
A21: 50 | B21: Eura | C21: 11005 | D21: 2397093.9 | E21: -965338.08 | F21: 1431755.8 | G21: 2924786.7 | H21: 4356542.5 | I21: 1282106.5 | J21: 5638649 | K21: -1286895 | L21: 4351754 | M21: 395.43426 | N21: 360606.73 | O21: 4712360.7 | P21: 4 | Q21: 4 | R21: -593755.86 | S21: -0.12005959 | T21: -53.953281 | V21: 50 | W21: Eura | X21: 11084 | Y21: 3075083.8 | Z21: -1097089.3 | AA21: 1977994.4 | AB21: 3171299.7 | AC21: 5149294.2 | AD21: 1083110.7 | AE21: 6232404.9 | AF21: -1286895 | AG21: 4945509.9 | AH21: 446.18458 | AI21: 273015.88 | AJ21: 5218525.7 | AK21: 4 | AL21: 4
A22: 51 | B22: Eurajoki | C22: 8920 | D22: 2800596.2 | E22: -8194793.7 | F22: -5394197.4 | G22: -267086.25 | H22: -5661283.7 | I22: 1440172.8 | J22: -4221110.8 | K22: -746766 | L22: -4967876.8 | M22: -556.93686 | N22: 14668.561 | O22: -4953208.3 | P22: 4 | Q22: 4 | R22: -509856.76 | S22: -0.11436843 | T22: -57.15883 | V22: 51 | W22: Eurajoki | X22: 9052 | Y22: 3668408.5 | Z22: -8320008.2 | AA22: -4651599.6 | AB22: -341571.7 | AC22: -4993171.3 | AD22: 1281917.3 | AE22: -3711254.1 | AF22: -746766 | AG22: -4458020.1 | AH22: -492.49007 | AI22: -6978.6625 | AJ22: -4464998.7 | AK22: 4 | AL22: 4
... A32: 79 | B32: Harjavalta | C32: 6565 | D32: 1088623.4 | E32: -1673522.1 | F32: -584898.76 | G32: -419529.23 | H32: -1004428 | I32: 686137.06 | J32: -318290.92 | K32: -76868 | L32: -395158.92 | M32: -60.191763 | N32: 7380.408 | O32: -387778.51 | P32: 4 | Q32: 4 | R32: -70545.146 | S32: -0.21732025 | T32: -10.745643 | V32: 79 | W32: Harjavalta | X32: 6647 | Y32: 1260439.1 | Z32: -1765322.5 | AA32: -504883.41 | AB32: -317898.59 | AC32: -822782 | AD32: 575036.22 | AE32: -247745.78 | AF32: -76868 | AG32: -324613.78 | AH32: -48.836133 | AI32: 49557.338 | AJ32: -275056.44 | AK32: 4 | AL32: 4
A33: 81 | B33: Hartola | C33: 2401 | D33: 22164.957 | E33: -155180.8 | F33: -133015.85 | G33: 265789.4 | H33: 132773.56 | I33: 494708.08 | J33: 627481.64 | K33: -744608 | L33: -117126.36 | M33: -48.782324 | N33: -107015.92 | O33: -224142.27 | P33: 7 | Q33: 7 | R33: -187366.37 | S33: inte meningsfull | T33: -78.036805 | V33: 81 | W33: Hartola | X33: 2482 | Y33: 97304.34 | Z33: -151561.8 | AA33: -54257.465 | AB33: 398264.71 | AC33: 344007.24 | AD33: 470840.77 | AE33: 814848.01 | AF33: -744608 | AG33: 70240.01 | AH33: 28.299762 | AI33: -171374.75 | AJ33: -101134.74 | AK33: 7 | AL33: 7
A34: 82 | B34: Hattula | C34: 9346 | D34: 3231680.5 | E34: 93459.116 | F34: 3325139.6 | G34: 1645745.3 | H34: 4970884.9 | I34: 819611.64 | J34: 5790496.5 | K34: -2196127 | L34: 3594369.5 | M34: 384.58908 | N34: -42326.64 | O34: 3552042.9 | P34: 5 | Q34: 5 | R34: 1049166.5 | S34: 0.41221329 | T34: 112.25835 | V34: 82 | W34: Hattula | X34: 9361 | Y34: 3473480.6 | Z34: 106617.7 | AA34: 3580098.3 | AB34: 523213.92 | AC34: 4103312.3 | AD34: 638017.76 | AE34: 4741330 | AF34: -2196127 | AG34: 2545203 | AH34: 271.89435 | AI34: 759.7025 | AJ34: 2545962.7 | AK34: 5 | AL34: 5
A35: 86 | B35: Hausjärvi | C35: 7862 | D35: 2675880.3 | E35: -480961.98 | F35: 2194918.3 | G35: 2420625.8 | H35: 4615544.2 | I35: 838830.65 | J35: 5454374.8 | K35: -1186904 | L35: 4267470.8 | M35: 542.7971 | N35: -7103.6427 | O35: 4260367.2 | P35: 5 | Q35: 5 | R35: -62279.578 | S35: -0.014384104 | T35: -7.9215948 | V35: 86 | W35: Hausjärvi | X35: 7901 | Y35: 2868779.4 | Z35: -590135.53 | AA35: 2278643.9 | AB35: 2536218.7 | AC35: 4814862.6 | AD35: 701791.78 | AE35: 5516654.4 | AF35: -1186904 | AG35: 4329750.4 | AH35: 548.0003 | AI35: 23144.425 | AJ35: 4352894.8 | AK35: 5 | AL35: 5
A36: 90 | B36: Heinävesi | C36: 2888 | D36: 1037826.1 | E36: -1395164.6 | F36: -357338.51 | G36: 567197.3 | H36: 209858.79 | I36: 560710.73 | J36: 770569.52 | K36: -451712 | L36: 318857.52 | M36: 110.40773 | N36: -36994.295 | O36: 281863.22 | P36: 12 | Q36: 12 | R36: -364551.47 | S36: -0.5334309 | T36: -126.22973 | V36: 90 | W36: Heinävesi | X36: 2929 | Y36: 1214928.5 | Z36: -1436775.8 | AA36: -221847.34 | AB36: 827417.58 | AC36: 605570.24 | AD36: 529550.75 | AE36: 1135121 | AF36: -451712 | AG36: 683408.99 | AH36: 233.32502 | AI36: -26501.25 | AJ36: 656907.74 | AK36: 12 | AL36: 12
A37: 91 | B37: Helsinki | C37: 694392 | D37: 3.7971993e+08 | E37: 51335851 | F37: 4.3105578e+08 | G37: -60175059 | H37: 3.7088073e+08 | I37: 81090538 | J37: 4.5197126e+08 | K37: 58267327 | L37: 5.1023859e+08 | M37: 734.79906 | N37: -1.2727526e+08 | O37: 3.8296333e+08 | P37: 1 | Q37: 31 | R37: 28107155 | S37: 0.058297702 | T37: 40.47736 | V37: 91 | W37: Helsinki | X37: 684018 | Y37: 3.6634472e+08 | Z37: 43805943 | AA37: 4.1015067e+08 | AB37: -57146063 | AC37: 3.530046e+08 | AD37: 70859505 | AE37: 4.2386411e+08 | AF37: 58267327 | AG37: 4.8213144e+08 | AH37: 704.85197 | AI37: -1.2043121e+08 | AJ37: 3.6170023e+08 | AK37: 1 | AL37: 31
A38: 92 | B38: Vantaa | C38: 252956 | D38: 2.4030928e+08 | E38: -27833347 | F38: 2.1247594e+08 | G38: -1503615.3 | H38: 2.1097232e+08 | I38: 22740654 | J38: 2.3371297e+08 | K38: 44548683 | L38: 2.7826166e+08 | M38: 1100.0398 | N38: -7270449.1 | O38: 2.7099121e+08 | P38: 1 | Q38: 32 | R38: 4275543.5 | S38: 0.015604964 | T38: 16.902321 | V38: 92 | W38: Vantaa | X38: 251269 | Y38: 2.4051505e+08 | Z38: -27491948 | AA38: 2.130231e+08 | AB38: -2595864.4 | AC38: 2.1042723e+08 | AD38: 19010198 | AE38: 2.2943743e+08 | AF38: 44548683 | AG38: 2.7398611e+08 | AH38: 1090.4095 | AI38: -7487020.1 | AJ38: 2.6649909e+08 | AK38: 1 | AL38: 32
A39: 97 | B39: Hirvensalmi | C39: 2023 | D39: 463708.74 | E39: -339939.37 | F39: 123769.37 | G39: 131016.62 | H39: 254785.99 | I39: 381359 | J39: 636144.99 | K39: -513243 | L39: 122901.99 | M39: 60.752341 | N39: 65132.101 | O39: 188034.09 | P39: 10 | Q39: 10 | R39: -220684.02 | S39: -0.64229629 | T39: -109.0875 | V39: 97 | W39: Hirvensalmi | X39: 2059 | Y39: 608472.3 | Z39: -305634.46 | AA39: 302837.84 | AB39: 198554.8 | AC39: 501392.63 | AD39: 355436.37 | AE39: 856829 | AF39: -513243 | AG39: 343586 | AH39: 166.87033 | AI39: 13745.315 | AJ39: 357331.32 | AK39: 10 | AL39: 10
A40: 98 | B40: Hollola | C40: 22775 | D40: 8325051.3 | E40: 6018666.7 | F40: 14343718 | G40: 6296751.2 | H40: 20640469 | I40: 2195020.6 | J40: 22835490 | K40: -5535804 | L40: 17299686 | M40: 759.59104 | N40: -3382441 | O40: 13917245 | P40: 7 | Q40: 7 | R40: 112966.63 | S40: 0.0065729027 | T40: 4.9601157 | V40: 98 | W40: Hollola | X40: 22849 | Y40: 8503742.5 | Z40: 6395069.2 | AA40: 14898812 | AB40: 6071419.2 | AC40: 20970231 | AD40: 1752292.3 | AE40: 22722523 | AF40: -5535804 | AG40: 17186719 | AH40: 752.18693 | AI40: -2635231.3 | AJ40: 14551488 | AK40: 7 | AL40: 7
A41: 102 | B41: Huittinen | C41: 9546 | D41: 1905525.7 | E41: 255394.45 | F41: 2160920.2 | G41: 3571704.8 | H41: 5732624.9 | I41: 1575762.3 | J41: 7308387.2 | K41: 830210 | L41: 8138597.2 | M41: 852.56623 | N41: 158771.03 | O41: 8297368.2 | P41: 4 | Q41: 4 | R41: -280988.63 | S41: -0.033373213 | T41: -29.435222 | V41: 102 | W41: Huittinen | X41: 9555 | Y41: 1982827.2 | Z41: 269095.75 | AA41: 2251923 | AB41: 3890123.3 | AC41: 6142046.3 | AD41: 1447329.5 | AE41: 7589375.8 | AF41: 830210 | AG41: 8419585.8 | AH41: 881.17068 | AI41: 191074.01 | AJ41: 8610659.8 | AK41: 4 | AL41: 4
A42: 103 | B42: Humppila | C42: 2074 | D42: 18936.002 | E42: 129927.43 | F42: 148863.43 | G42: 1071814.4 | H42: 1220677.8 | I42: 377683.69 | J42: 1598361.5 | K42: -546962 | L42: 1051399.5 | M42: 506.94287 | N42: 7472.6631 | O42: 1058872.2 | P42: 5 | Q42: 5 | R42: -148711.8 | S42: -0.12391501 | T42: -71.702894 | V42: 103 | W42: Humppila | X42: 2094 | Y42: 158721.73 | Z42: 132965.76 | AA42: 291687.49 | AB42: 1101990 | AC42: 1393677.5 | AD42: 353395.84 | AE42: 1747073.3 | AF42: -546962 | AG42: 1200111.3 | AH42: 573.11906 | AI42: 47702.25 | AJ42: 1247813.6 | AK42: 5 | AL42: 5
A43: 105 | B43: Hyrynsalmi | C43: 1984 | D43: 1084145.5 | E43: 674653.1 | F43: 1758798.6 | G43: 867278.21 | H43: 2626076.8 | I43: 390032.91 | J43: 3016109.8 | K43: -483888 | L43: 2532221.8 | M43: 1276.3214 | N43: -64578.57 | O43: 2467643.2 | P43: 18 | Q43: 18 | R43: -301604.7 | S43: -0.1064302 | T43: -152.0185 | V43: 105 | W43: Hyrynsalmi | X43: 2002 | Y43: 1192173.7 | Z43: 709007.23 | AA43: 1901180.9 | AB43: 1049361.4 | AC43: 2950542.3 | AD43: 367172.16 | AE43: 3317714.5 | AF43: -483888 | AG43: 2833826.5 | AH43: 1415.4977 | AI43: -19434.25 | AJ43: 2814392.2 | AK43: 18 | AL43: 18
A44: 106 | B44: Hyvinkää | C44: 47015 | D44: 13370800 | E44: -1609694.4 | F44: 11761105 | G44: -57403.94 | H44: 11703701 | I44: 4338218 | J44: 16041919 | K44: -990726 | L44: 15051193 | M44: 320.13598 | N44: -340273.71 | O44: 14710920 | P44: 1 | Q44: 35 | R44: -1639133.2 | S44: -0.098208577 | T44: -34.864048 | V44: 106 | W44: Hyvinkää | X44: 47031 | Y44: 15363412 | Z44: -1543898.6 | AA44: 13819513 | AB44: 367626.2 | AC44: 14187140 | AD44: 3493912.8 | AE44: 17681052 | AF44: -990726 | AG44: 16690326 | AH44: 354.87926 | AI44: -225454.97 | AJ44: 16464871 | AK44: 1 | AL44: 35
A45: 108 | B45: Hämeenkyrö | C45: 10249 | D45: 3720533.2 | E45: 816899.14 | F45: 4537432.3 | G45: 4631285.3 | H45: 9168717.6 | I45: 1063011.7 | J45: 10231729 | K45: -1454199 | L45: 8777530.3 | M45: 856.42797 | N45: 27768.785 | O45: 8805299.1 | P45: 6 | Q45: 6 | R45: -263911.69 | S45: -0.029189115 | T45: -25.749995 | V45: 108 | W45: Hämeenkyrö | X45: 10348 | Y45: 4288561.5 | Z45: 831320.3 | AA45: 5119881.8 | AB45: 4499072.1 | AC45: 9618953.9 | AD45: 876687.15 | AE45: 10495641 | AF45: -1454199 | AG45: 9041442 | AH45: 873.73811 | AI45: 40546.912 | AJ45: 9081988.9 | AK45: 6 | AL45: 6
... A302: 992 | B302: Äänekoski | C302: 17492 | D302: 4662584.5 | E302: -319434.92 | F302: 4343149.6 | G302: 5174610.9 | H302: 9517760.5 | I302: 1767027.6 | J302: 11284788 | K302: -842235 | L302: 10442553 | M302: 596.99023 | N302: 34189.74 | O302: 10476743 | P302: 13 | Q302: 13 | R302: 537022.14 | S302: 0.054214372 | T302: 30.701014 | V302: 992 | W302: Äänekoski | X302: 17740 | Y302: 5989209.3 | Z302: -222478.78 | AA302: 5766730.5 | AB302: 3507342.9 | AC302: 9274073.4 | AD302: 1473692.6 | AE302: 10747766 | AF302: -842235 | AG302: 9905531 | AH302: 558.37266 | AI302: -36342.048 | AJ302: 9869188.9 | AK302: 13 | AL302: 13

Sheet 1.b. Statsandelsberäkning_€inv
A1: Preliminär statsandelsberäkning för 2027, sammanfattning, belopp i euro/invånare | X1: Kommunernas statsandelar och ersättningar för skatteförluster 2026, sammanfattning
A2: Sammandrag av FM:s preliminära statsandelsberäkning för 2027 + UKM:s statsandel enligt statsandelsbeslutet för 2026 | X2: Sammandrag av FM:s slutliga statsandelsberäkning för 2026 utan behovsprövade höjningar + UKM:s statsandel enligt statsandelsbesluten för 2026
A3: Kommunförbundets publikation 22.9.2026
A4: Källor: | X4: Källor:
A5: Preliminära beräkningsuppgifter för statsandelarna 2027 / FM, september 2026 | X5: Beräkningsuppgifter för statsandelarna 2026 / FM, juni 2026
A6: UKM:s statsandelar 2026 / UKM 3.8.2026 (Utbildningsstyrelsens beräkning 24.7.2026) | X6: UKM:s statsandelar 2026 / UKM 3.8.2026 (Utbildningsstyrelsens beräkning 24.7.2026)
A7: Förändringsberäkningar Kommunförbundet / Olli Riikonen | X7: Förändringsberäkningar Kommunförbundet / Olli Riikonen
A8: Numret i kolumnrubriken hänvisar till det bokföringskonto där posten i fråga bokförs. | X8: Numret i kolumnrubriken hänvisar till det bokföringskonto där posten i fråga bokförs.
A9: Kommunnr | B9: Kommun | C9: Invånarantal 31.12.2025 | D9: Statsandel för basservice utan utjämning och social- och hälsovårdsposter (F–E) | E9: Social- och hälsovårdsposter | F9: 5501 Statsandel för basservice utan utjämning (D+E) | G9: 5502 Utjämning av statsandelen på basis av skatteinkomster | H9: Kommunens statsandel för basservice totalt (F+G) | I9: 5890 Ersättning för skatteförluster | J9: FM:s statsandelar och ersättning för skatteförluster totalt (H+I) | K9: 5701 Statsandel för undervisnings- och kulturverksamhet (s.k. UKM-statsandel) 2026 | L9: Kommunens statsandelar totalt (J+K) | M9: Hemkommunsersättning, netto | N9: Utbetalning av statsandelar (statsandelar + hemkommunsersättningar) | O9: Förändring av statsandelarna 2026–2027 | P9: Förändring totalt, % | Q9: Landskapsnr | R9: Välfärdsområdesnr | X9: Kommunnr | Y9: Kommun | Z9: Invånarantal 31.12.2024 | AA9: Statsandel för basservice utan utjämning och social- och hälsovårdsposter (AA–Z) | AB9: Social- och hälsovårdsposter | AC9: 5501 Statsandel för basservice utan utjämning (Y+Z) | AD9: 5502 Utjämning av statsandelen på basis av skatteinkomster | AE9: Kommunens statsandel för basservice totalt (AA+AB) | AF9: 5890 Ersättning för skatteförluster | AG9: FM:s statsandelar och ersättning för skatteförluster totalt (AD+AE) | AH9: 5701 Statsandel för undervisnings- och kulturverksamhet (s.k. UKM-statsandel) 2026 | AI9: Kommunens statsandelar totalt (AF+AG) | AJ9: Kommunens statsandelar totalt, euro/invånare | AK9: Hemkommunsersättning, netto | AL9: Utbetalning av statsandelar (statsandelar + hemkommunsersättningar) | AM9: Välfärdsområdesnr
B10: TOTALT | C10: 5622045 | D10: 462.25791 | E10: 4.9803413e-08 | F10: 462.25791 | G10: 143.17302 | H10: 605.43093 | I10: 109.65761 | J10: 715.08853 | K10: 27.342696 | L10: 742.43123 | M10: -48.34729 | N10: 694.08394 | O10: -5.0281028 | P10: -0.0067269249 | Q10: 0 | R10: 0 | Y10: TOTALT | Z10: 5605317 | AA10: 488.64511 | AB10: 4.9952041e-08 | AC10: 488.64511 | AD10: 139.6027 | AE10: 628.24781 | AF10: 94.017876 | AG10: 722.26569 | AH10: 27.424296 | AI10: 749.68998 | AJ10: -45.111086 | AK10: 704.5789 | AL10: 0 | AM10: 0
A11: 5 | B11: Alajärvi | C11: 8982 | D11: 508.36275 | E11: 117.72223 | F11: 626.08499 | G11: 594.14034 | H11: 1220.2253 | I11: 169.69635 | J11: 1389.9217 | K11: 58.513694 | L11: 1448.4354 | M11: -57.939325 | N11: 1390.496 | O11: 13.104492 | P11: 0.0091299448 | Q11: 14 | R11: 14 | X11: 5 | Y11: Alajärvi | Z11: 9078 | AA11: 529.47001 | AB11: 117.89956 | AC11: 647.36957 | AD11: 559.1277 | AE11: 1206.4973 | AF11: 155.76004 | AG11: 1362.2573 | AH11: 57.894911 | AI11: 1420.1522 | AJ11: -44.003324 | AK11: 1376.1489 | AL11: 14 | AM11: 14
A12: 9 | B12: Alavieska | C12: 2384 | D12: 628.26778 | E12: 207.22949 | F12: 835.49727 | G12: 740.95282 | H12: 1576.4501 | I12: 164.83547 | J12: 1741.2856 | K12: -225.75713 | L12: 1515.5284 | M12: 46.514526 | N12: 1562.0429 | O12: -42.67097 | P12: -0.027384794 | Q12: 17 | R12: 17 | X12: 9 | Y12: Alavieska | Z12: 2410 | AA12: 672.27735 | AB12: 206.42139 | AC12: 878.69874 | AD12: 736.94896 | AE12: 1615.6477 | AF12: 149.06282 | AG12: 1764.7105 | AH12: -223.32158 | AI12: 1541.3889 | AJ12: 46.917842 | AK12: 1588.3068 | AL12: 17 | AM12: 17
A13: 10 | B13: Alavus | C13: 10634 | D13: 435.05554 | E13: -86.172666 | F13: 348.88288 | G13: 628.23985 | H13: 977.12273 | I13: 169.51774 | J13: 1146.6405 | K13: -72.202746 | L13: 1074.4377 | M13: -7.469592 | N13: 1066.9681 | O13: -3.5910852 | P13: -0.0033311589 | Q13: 14 | R13: 14 | X13: 10 | Y13: Alavus | Z13: 10780 | AA13: 452.03999 | AB13: -99.005651 | AC13: 353.03434 | AD13: 628.50478 | AE13: 981.53912 | AF13: 153.11417 | AG13: 1134.6533 | AH13: -71.224861 | AI13: 1063.4284 | AJ13: 0.8276519 | AK13: 1064.2561 | AL13: 14 | AM13: 14
A14: 16 | B14: Asikkala | C14: 7841 | D14: 41.254752 | E14: 482.54508 | F14: 523.79983 | G14: 301.41783 | H14: 825.21766 | I14: 139.42463 | J14: 964.64229 | K14: -81.3497 | L14: 883.29259 | M14: 60.377027 | N14: 943.66961 | O14: -105.51949 | P14: -0.10671339 | Q14: 7 | R14: 7 | X14: 16 | Y14: Asikkala | Z14: 7889 | AA14: 136.13813 | AB14: 496.275 | AC14: 632.41313 | AD14: 308.40854 | AE14: 940.82167 | AF14: 122.8288 | AG14: 1063.6505 | AH14: -80.854734 | AI14: 982.79573 | AJ14: 61.268534 | AK14: 1044.0643 | AL14: 7 | AM14: 7
A15: 18 | B15: Askola | C15: 4677 | D15: 474.48776 | E15: -117.08406 | F15: 357.4037 | G15: 217.5611 | H15: 574.9648 | I15: 107.25008 | J15: 682.21488 | K15: -26.006628 | L15: 656.20825 | M15: 151.07586 | N15: 807.28411 | O15: -20.729668 | P15: -0.030622702 | Q15: 1 | R15: 34 | X15: 18 | Y15: Askola | Z15: 4651 | AA15: 535.2951 | AB15: -131.65996 | AC15: 403.63514 | AD15: 214.35791 | AE15: 617.99305 | AF15: 88.881095 | AG15: 706.87415 | AH15: -26.15201 | AI15: 680.72214 | AJ15: 137.94781 | AK15: 818.66995 | AL15: 1 | AM15: 34
A16: 19 | B16: Aura | C16: 3937 | D16: 524.88129 | E16: -181.05189 | F16: 343.8294 | G16: 349.25431 | H16: 693.08371 | I16: 93.775224 | J16: 786.85893 | K16: -245.04216 | L16: 541.81677 | M16: 14.354959 | N16: 556.17173 | O16: -30.595881 | P16: -0.053450741 | Q16: 2 | R16: 2 | X16: 19 | Y16: Aura | Z16: 3966 | AA16: 528.20022 | AB16: -193.3186 | AC16: 334.88163 | AD16: 400.64494 | AE16: 735.52656 | AF16: 75.950897 | AG16: 811.47746 | AH16: -243.25038 | AI16: 568.22708 | AJ16: 20.068605 | AK16: 588.29569 | AL16: 2 | AM16: 2
A17: 20 | B17: Akaa | C17: 16429 | D17: 325.99297 | E17: -273.26777 | F17: 52.7252 | G17: 413.58728 | H17: 466.31248 | I17: 86.664688 | J17: 552.97717 | K17: -168.20579 | L17: 384.77137 | M17: -5.8512274 | N17: 378.92015 | O17: 13.23917 | P17: 0.035633976 | Q17: 6 | R17: 6 | X17: 20 | Y17: Akaa | Z17: 16387 | AA17: 348.0508 | AB17: -287.63352 | AC17: 60.417276 | AD17: 411.7562 | AE17: 472.17348 | AF17: 68.947873 | AG17: 541.12135 | AH17: -168.63691 | AI17: 372.48444 | AJ17: -21.880876 | AK17: 350.60357 | AL17: 6 | AM17: 6
A18: 46 | B18: Enonkoski | C18: 1273 | D18: 820.53342 | E18: 478.47571 | F18: 1299.0091 | G18: 361.88418 | H18: 1660.8933 | I18: 204.3293 | J18: 1865.2226 | K18: -299.83189 | L18: 1565.3907 | M18: 424.75031 | N18: 1990.141 | O18: 9.8682469 | P18: 0.006344008 | Q18: 10 | R18: 10 | X18: 46 | Y18: Enonkoski | Z18: 1288 | AA18: 739.73118 | AB18: 489.98447 | AC18: 1229.7156 | AD18: 413.24573 | AE18: 1642.9614 | AF18: 190.78559 | AG18: 1833.747 | AH18: -296.34006 | AI18: 1537.4069 | AJ18: 396.69573 | AK18: 1934.1026 | AL18: 10 | AM18: 10
A19: 47 | B19: Enontekiö | C19: 1769 | D19: 1311.8681 | E19: 200.97318 | F19: 1512.8412 | G19: 166.63371 | H19: 1679.4749 | I19: 173.14531 | J19: 1852.6203 | K19: -26.177501 | L19: 1826.4428 | M19: -30.247574 | N19: 1796.1952 | O19: -115.90495 | P19: -0.059672606 | Q19: 19 | R19: 19 | X19: 47 | Y19: Enontekiö | Z19: 1762 | AA19: 1359.928 | AB19: 218.63382 | AC19: 1578.5618 | AD19: 235.64955 | AE19: 1814.2114 | AF19: 162.13429 | AG19: 1976.3457 | AH19: -26.281498 | AI19: 1950.0642 | AJ19: -39.105136 | AK19: 1910.959 | AL19: 19 | AM19: 19
A20: 49 | B20: Espoo | C20: 325716 | D20: 987.50368 | E20: 448.738 | F20: 1436.2417 | G20: -79.415505 | H20: 1356.8262 | I20: 83.340547 | J20: 1440.1667 | K20: 25.498895 | L20: 1465.6656 | M20: -59.642289 | N20: 1406.0233 | O20: 3.5240118 | P20: 0.0024101713 | Q20: 1 | R20: 33 | X20: 49 | Y20: Espoo | Z20: 320931 | AA20: 997.67675 | AB20: 471.03416 | AC20: 1468.7109 | AD20: -78.324961 | AE20: 1390.386 | AF20: 67.676733 | AG20: 1458.0627 | AH20: 25.879077 | AI20: 1483.9418 | AJ20: -59.380683 | AK20: 1424.5611 | AL20: 1 | AM20: 33
A21: 50 | B21: Eura | C21: 11005 | D21: 217.81862 | E21: -87.718136 | F21: 130.10048 | G21: 265.7689 | H21: 395.86938 | I21: 116.50218 | J21: 512.37156 | K21: -116.9373 | L21: 395.43426 | M21: 32.767536 | N21: 428.20179 | O21: -53.953281 | P21: -0.12005959 | Q21: 4 | R21: 4 | X21: 50 | Y21: Eura | Z21: 11084 | AA21: 277.43448 | AB21: -98.979551 | AC21: 178.45493 | AD21: 286.1151 | AE21: 464.57003 | AF21: 97.718394 | AG21: 562.28842 | AH21: -116.10384 | AI21: 446.18458 | AJ21: 24.63153 | AK21: 470.81611 | AL21: 4 | AM21: 4
A22: 51 | B22: Eurajoki | C22: 8920 | D22: 313.96819 | E22: -918.69884 | F22: -604.73065 | G22: -29.942404 | H22: -634.67306 | I22: 161.45435 | J22: -473.2187 | K22: -83.718161 | L22: -556.93686 | M22: 1.6444575 | N22: -555.29241 | O22: -57.15883 | P22: -0.11436843 | Q22: 4 | R22: 4 | X22: 51 | Y22: Eurajoki | Z22: 9052 | AA22: 405.25945 | AB22: -919.13479 | AC22: -513.87535 | AD22: -37.734391 | AE22: -551.60974 | AF22: 141.61702 | AG22: -409.99272 | AH22: -82.497349 | AI22: -492.49007 | AJ22: -0.77095255 | AK22: -493.26102 | AL22: 4 | AM22: 4
... A32: 79 | B32: Harjavalta | C32: 6565 | D32: 165.8223 | E32: -254.91579 | F32: -89.09349 | G32: -63.903919 | H32: -152.99741 | I32: 104.5144 | J32: -48.483004 | K32: -11.708759 | L32: -60.191763 | M32: 1.1242053 | N32: -59.067557 | O32: -10.745643 | P32: -0.21732025 | Q32: 4 | R32: 4 | X32: 79 | Y32: Harjavalta | Z32: 6647 | AA32: 189.62526 | AB32: -265.58185 | AC32: -75.956584 | AD32: -47.825874 | AE32: -123.78246 | AF32: 86.51064 | AG32: -37.271818 | AH32: -11.564315 | AI32: -48.836133 | AJ32: 7.4555946 | AK32: -41.380538 | AL32: 4 | AM32: 4
A33: 81 | B33: Hartola | C33: 2401 | D33: 9.2315524 | E33: -64.631738 | F33: -55.400186 | G33: 110.69946 | H33: 55.299274 | I33: 206.04252 | J33: 261.34179 | K33: -310.12411 | L33: -48.782324 | M33: -44.571394 | N33: -93.353717 | O33: -78.036805 | P33: inte meningsfull | Q33: 7 | R33: 7 | X33: 81 | Y33: Hartola | Z33: 2482 | AA33: 39.204005 | AB33: -61.064385 | AC33: -21.860381 | AD33: 160.4612 | AE33: 138.60082 | AF33: 189.70216 | AG33: 328.30299 | AH33: -300.00322 | AI33: 28.299762 | AJ33: -69.047039 | AK33: -40.747276 | AL33: 7 | AM33: 7
A34: 82 | B34: Hattula | C34: 9346 | D34: 345.7822 | E34: 9.9999054 | F34: 355.78211 | G34: 176.09087 | H34: 531.87298 | I34: 87.696516 | J34: 619.5695 | K34: -234.98042 | L34: 384.58908 | M34: -4.5288508 | N34: 380.06023 | O34: 112.25835 | P34: 0.41221329 | Q34: 5 | R34: 5 | X34: 82 | Y34: Hattula | Z34: 9361 | AA34: 371.05871 | AB34: 11.389564 | AC34: 382.44828 | AD34: 55.892952 | AE34: 438.34123 | AF34: 68.157008 | AG34: 506.49824 | AH34: -234.60389 | AI34: 271.89435 | AJ34: 0.081156126 | AK34: 271.97551 | AL34: 5 | AM34: 5
A35: 86 | B35: Hausjärvi | C35: 7862 | D35: 340.35619 | E35: -61.175525 | F35: 279.18066 | G35: 307.88932 | H35: 587.06998 | I35: 106.69431 | J35: 693.76429 | K35: -150.96718 | L35: 542.7971 | M35: -0.90354143 | N35: 541.89356 | O35: -7.9215948 | P35: -0.014384104 | Q35: 5 | R35: 5 | X35: 86 | Y35: Hausjärvi | Z35: 7901 | AA35: 363.09068 | AB35: -74.691246 | AC35: 288.39943 | AD35: 320.99971 | AE35: 609.39914 | AF35: 88.82316 | AG35: 698.2223 | AH35: -150.222 | AI35: 548.0003 | AJ35: 2.9293033 | AK35: 550.92961 | AL35: 5 | AM35: 5
A36: 90 | B36: Heinävesi | C36: 2888 | D36: 359.35805 | E36: -483.09022 | F36: -123.73217 | G36: 196.39796 | H36: 72.665786 | I36: 194.15191 | J36: 266.8177 | K36: -156.40997 | L36: 110.40773 | M36: -12.809659 | N36: 97.598068 | O36: -126.22973 | P36: -0.5334309 | Q36: 12 | R36: 12 | X36: 90 | Y36: Heinävesi | Z36: 2929 | AA36: 414.79293 | AB36: -490.5346 | AC36: -75.741666 | AD36: 282.49149 | AE36: 206.74983 | AF36: 180.79575 | AG36: 387.54558 | AH36: -154.22055 | AI36: 233.32502 | AJ36: -9.0478832 | AK36: 224.27714 | AL36: 12 | AM36: 12
A37: 91 | B37: Helsinki | C37: 694392 | D37: 546.838 | E37: 73.929208 | F37: 620.76721 | G37: -86.65863 | H37: 534.10858 | I37: 116.77919 | J37: 650.88777 | K37: 83.911288 | L37: 734.79906 | M37: -183.29021 | N37: 551.50885 | O37: 40.47736 | P37: 0.058297702 | Q37: 1 | R37: 31 | X37: 91 | Y37: Helsinki | Z37: 684018 | AA37: 535.57761 | AB37: 64.042092 | AC37: 599.6197 | AD37: -83.544677 | AE37: 516.07502 | AF37: 103.59304 | AG37: 619.66806 | AH37: 85.183909 | AI37: 704.85197 | AJ37: -176.06438 | AK37: 528.78759 | AL37: 1 | AM37: 31
A38: 92 | B38: Vantaa | C38: 252956 | D38: 950.00428 | E38: -110.03237 | F38: 839.97191 | G38: -5.9441771 | H38: 834.02774 | I38: 89.899641 | J38: 923.92738 | K38: 176.11238 | L38: 1100.0398 | M38: -28.741952 | N38: 1071.2978 | O38: 16.902321 | P38: 0.015604964 | Q38: 1 | R38: 32 | X38: 92 | Y38: Vantaa | Z38: 251269 | AA38: 957.20143 | AB38: -109.41241 | AC38: 847.78901 | AD38: -10.331017 | AE38: 837.45799 | AF38: 75.656756 | AG38: 913.11475 | AH38: 177.29478 | AI38: 1090.4095 | AJ38: -29.796832 | AK38: 1060.6127 | AL38: 1 | AM38: 32
A39: 97 | B39: Hirvensalmi | C39: 2023 | D39: 229.21836 | E39: -168.03726 | F39: 61.181102 | G39: 64.76353 | H39: 125.94463 | I39: 188.51162 | J39: 314.45625 | K39: -253.70391 | L39: 60.752341 | M39: 32.195799 | N39: 92.94814 | O39: -109.0875 | P39: -0.64229629 | Q39: 10 | R39: 10 | X39: 97 | Y39: Hirvensalmi | Z39: 2059 | AA39: 295.51836 | AB39: -148.4383 | AC39: 147.08006 | AD39: 96.432635 | AE39: 243.51269 | AF39: 172.62573 | AG39: 416.13842 | AH39: -249.26809 | AI39: 166.87033 | AJ39: 6.6757237 | AK39: 173.54605 | AL39: 10 | AM39: 10
A40: 98 | B40: Hollola | C40: 22775 | D40: 365.53463 | E40: 264.26638 | F40: 629.80101 | G40: 276.47645 | H40: 906.27746 | I40: 96.378512 | J40: 1002.656 | K40: -243.06494 | L40: 759.59104 | M40: -148.51552 | N40: 611.07552 | O40: 4.9601157 | P40: 0.0065729027 | Q40: 7 | R40: 7 | X40: 98 | Y40: Hollola | Z40: 22849 | AA40: 372.17132 | AB40: 279.88399 | AC40: 652.05531 | AD40: 265.71925 | AE40: 917.77456 | AF40: 76.690109 | AG40: 994.46467 | AH40: -242.27774 | AI40: 752.18693 | AJ40: -115.33246 | AK40: 636.85448 | AL40: 7 | AM40: 7
A41: 102 | B41: Huittinen | C41: 9546 | D41: 199.6151 | E41: 26.75408 | F41: 226.36918 | G41: 374.15721 | H41: 600.52639 | I41: 165.07043 | J41: 765.59682 | K41: 86.969411 | L41: 852.56623 | M41: 16.632205 | N41: 869.19843 | O41: -29.435222 | P41: -0.033373213 | Q41: 4 | R41: 4 | X41: 102 | Y41: Huittinen | Z41: 9555 | AA41: 207.51724 | AB41: 28.16282 | AC41: 235.68006 | AD41: 407.1296 | AE41: 642.80966 | AF41: 151.47353 | AG41: 794.28318 | AH41: 86.887493 | AI41: 881.17068 | AJ41: 19.99728 | AK41: 901.16796 | AL41: 4 | AM41: 4
A42: 103 | B42: Humppila | C42: 2074 | D42: 9.1301842 | E42: 62.645819 | F42: 71.776003 | G42: 516.78611 | H42: 588.56211 | I42: 182.104 | J42: 770.66611 | K42: -263.72324 | L42: 506.94287 | M42: 3.6030198 | N42: 510.54589 | O42: -71.702894 | P42: -0.12391501 | Q42: 5 | R42: 5 | X42: 103 | Y42: Humppila | Z42: 2094 | AA42: 75.798343 | AB42: 63.498451 | AC42: 139.29679 | AD42: 526.26074 | AE42: 665.55753 | AF42: 168.76592 | AG42: 834.32345 | AH42: -261.20439 | AI42: 573.11906 | AJ42: 22.780444 | AK42: 595.8995 | AL42: 5 | AM42: 5
A43: 105 | B43: Hyrynsalmi | C43: 1984 | D43: 546.44432 | E43: 340.04693 | F43: 886.49125 | G43: 437.13619 | H43: 1323.6274 | I43: 196.58917 | J43: 1520.2166 | K43: -243.89516 | L43: 1276.3214 | M43: -32.549682 | N43: 1243.7718 | O43: -152.0185 | P43: -0.1064302 | Q43: 18 | R43: 18 | X43: 105 | Y43: Hyrynsalmi | Z43: 2002 | AA43: 595.49134 | AB43: 354.14947 | AC43: 949.6408 | AD43: 524.15655 | AE43: 1473.7974 | AF43: 183.40268 | AG43: 1657.2 | AH43: -241.7023 | AI43: 1415.4977 | AJ43: -9.7074176 | AK43: 1405.7903 | AL43: 18 | AM43: 18
A44: 106 | B44: Hyvinkää | C44: 47015 | D44: 284.39433 | E44: -34.23789 | F44: 250.15644 | G44: -1.2209708 | H44: 248.93547 | I44: 92.273062 | J44: 341.20853 | K44: -21.072551 | L44: 320.13598 | M44: -7.2375563 | N44: 312.89843 | O44: -34.864048 | P44: -0.098208577 | Q44: 1 | R44: 35 | X44: 106 | Y44: Hyvinkää | Z44: 47031 | AA44: 326.66565 | AB44: -32.827255 | AC44: 293.83839 | AD44: 7.8166784 | AE44: 301.65507 | AF44: 74.28957 | AG44: 375.94464 | AH44: -21.065382 | AI44: 354.87926 | AJ44: -4.7937524 | AK44: 350.08551 | AL44: 1 | AM44: 35
A45: 108 | B45: Hämeenkyrö | C45: 10249 | D45: 363.01426 | E45: 79.705253 | F45: 442.71951 | G45: 451.8768 | H45: 894.59632 | I45: 103.71857 | J45: 998.31489 | K45: -141.88692 | L45: 856.42797 | M45: 2.7094141 | N45: 859.13739 | O45: -25.749995 | P45: -0.029189115 | Q45: 6 | R45: 6 | X45: 108 | Y45: Hämeenkyrö | Z45: 10348 | AA45: 414.43385 | AB45: 80.336326 | AC45: 494.77018 | AD45: 434.77697 | AE45: 929.54714 | AF45: 84.720443 | AG45: 1014.2676 | AH45: -140.52947 | AI45: 873.73811 | AJ45: 3.9183333 | AK45: 877.65645 | AL45: 6 | AM45: 6
... A302: 992 | B302: Äänekoski | C302: 17492 | D302: 266.55526 | E302: -18.261772 | F302: 248.29348 | G302: 295.82728 | H302: 544.12077 | I302: 101.01919 | J302: 645.13996 | K302: -48.149726 | L302: 596.99023 | M302: 1.954593 | N302: 598.94482 | O302: 30.701014 | P302: 0.054214372 | Q302: 13 | R302: 13 | X302: 992 | Y302: Äänekoski | Z302: 17740 | AA302: 337.61044 | AB302: -12.541081 | AC302: 325.06936 | AD302: 197.70817 | AE302: 522.77753 | AF302: 83.071734 | AG302: 605.84926 | AH302: -47.476607 | AI302: 558.37266 | AJ302: -2.0485934 | AK302: 556.32406 | AL302: 13 | AM302: 13

Sheet 2.a. Vos-laskelma
A1: Kuntien valtionosuudet ja veromenetysten korvaukset 2027, yhteenveto
A2: Laajempi tiivistelmä VM:n ennakollisesta vos-laskelmasta 2027
A3: Tällä sivulla on avattu VM:n peruspalvelujen valtionosuuden osatekijöitä laajemmin näkyväksi kuin 1.a. Vos-laskelma -välilehdellä (tämän taulukon sarake Q = sarake D välilehdellä 1.a.)
A4: 22.9.2026
G8: 1. | I8: 2. | J8: 3. | L8: Valtionosuuteen tehtävät vähennykset ja lisäykset | T8: 1+2+3 | U8: 4. | W8: 5. | Y8: 6.
A9: Kunta-nro | B9: Mk-nro | C9: Hva-nro | D9: Kunta | E9: Asukasluku 31.12.2025 | F9: Laskennalliset kustannukset yhteensä | G9: Valtionosuus laskennallisiin kustannuksiin kunnan omarahoitusosuuden (-1584,69 €/as.) jälkeen | H9: Valtionosuus-% kunnan laskennallisista kustannuksista | I9: Lisäosat yhteensä | J9: Valtionosuuteen tehtävät vähennykset ja lisäykset yhteensä | K9: Kumulatiivinen verotuloihin perustuvan tasauksen muutoksen neutralisointi | L9: Kunnan rahoitusosuus perustoimeentulotuesta | M9: Sote-uudistuksen muutosrajoitin | N9: Sote-uudistuksen järjestelmämuutoksen tasaus vuodelle 2026 | O9: Jälkikäteistarkistuksesta johtuva valtionosuuden lisäsiirtotarve vuodelta 2023, 501 milj. € (1/3) | P9: Määräaikaisen v 2024 tehdyn lisäyksen takaisinperintä (1/3) | Q9: Valtionosuusjärjestelmän 75 M€ leikkaus / -2 % (Lisätoimet 2025- ) | R9: TE25: Kunnan työttömyysetuuksien rahoitusvastuun laajentamisen korvaus | S9: Muut lisäykset ja vähennykset yhteensä | T9: Valtionosuus ennen verotuloihin perustuvaa valtionosuuden tasausta (G+I+J) | U9: Verotuloihin perustuva valtionosuuden tasaus | V9: Kunnan peruspalvelujen valtionosuus yhteensä (T+U) | W9: Veroperustemuutoksista johtuvien veromenetysten korvaus | X9: VM-vos = Peruspalvelujen valtionosuus ja veromenetysten korvaus YHTEENSÄ | Y9: OKM-vos 2026 YHTEENSÄ | Z9: VM+OKM -vos YHTEENSÄ
A10: 0 | B10: 0 | C10: 0 | D10: Kunnat yhteensä | E10: 5622045 | F10: 1.188684e+10 | G10: 2.9776416e+09 | H10: 0.250499 | I10: 3.2394281e+08 | J10: -7.0274964e+08 | K10: -1.2093019e+08 | L10: -4.8177096e+08 | M10: 0.27999702 | N10: 1.5657861e-08 | O10: -1.6708718e+08 | P10: -63978872 | Q10: -75000000 | R10: 2.1608102e+08 | S10: -10063461 | T10: 2.5988348e+09 | U10: 8.0492514e+08 | V10: 3.4037599e+09 | W10: 6.165e+08 | X10: 4.0202599e+09 | Y10: 153721870 | Z10: 4.1739818e+09
A11: 5 | B11: 14 | C11: 14 | D11: Alajärvi | E11: 8982 | F11: 19003914 | G11: 4770228.5 | H11: 0.25101295 | I11: 671516.87 | J11: 181749.96 | K11: -193202.82 | L11: -373551.55 | M11: 1109106.1 | N11: -51725.025 | O11: -266945.04 | P11: -102215.16 | Q11: -238067.87 | R11: 316760.57 | S11: -18409.26 | T11: 5623495.3 | U11: 5336568.5 | V11: 10960064 | W11: 1524212.6 | X11: 12484276 | Y11: 525570 | Z11: 13009846
A12: 9 | B12: 17 | C12: 17 | D12: Alavieska | E12: 2384 | F12: 5474378.7 | G12: 1696477.7 | H12: 0.30989411 | I12: 81600.156 | J12: 213747.59 | K12: -51279.84 | L12: -120313.38 | M12: 507818.31 | N12: -13783.201 | O12: -70852.48 | P12: -27129.92 | Q12: -81498.646 | R12: 76029.623 | S12: -5242.876 | T12: 1991825.5 | U12: 1766431.5 | V12: 3758257 | W12: 392967.77 | X12: 4151224.8 | Y12: -538205 | Z12: 3613019.8
A13: 10 | B13: 14 | C13: 14 | D13: Alavus | E13: 10634 | F13: 21549288 | G13: 4697694.5 | H13: 0.21799767 | I13: 763873.84 | J13: -1751547.9 | K13: -228737.34 | L13: -456596.26 | M13: -338822.05 | N13: -577538.08 | O13: -316042.48 | P13: -121014.92 | Q13: -225385.94 | R13: 534209.62 | S13: -21620.405 | T13: 3710020.5 | U13: 6680702.6 | V13: 10390723 | W13: 1802651.7 | X13: 12193375 | Y13: -767804 | Z13: 11425571
A14: 16 | B14: 7 | C14: 7 | D14: Asikkala | E14: 7841 | F14: 13184204 | G14: 758649.7 | H14: 0.057542321 | I14: 251126.79 | J14: 3097338 | K14: -168659.91 | L14: -333975.59 | M14: 2193579.7 | N14: 1590056.2 | O14: -233034.52 | P14: -89230.58 | Q14: -139394.84 | R14: 294529.83 | S14: -16532.374 | T14: 4107114.5 | U14: 2363417.2 | V14: 6470531.7 | W14: 1093228.5 | X14: 7563760.2 | Y14: -637863 | Z14: 6925897.2
A15: 18 | B15: 1 | C15: 34 | D15: Askola | E15: 4677 | F15: 9861572.5 | G15: 2449977.4 | H15: 0.24843679 | I15: 130336.94 | J15: -908737.22 | K15: -100602.27 | L15: -136196.36 | M15: -455651.56 | N15: -91950.59 | O15: -139000.44 | P15: -53224.26 | Q15: -58877.479 | R15: 135236.42 | S15: -8470.6785 | T15: 1671577.1 | U15: 1017533.3 | V15: 2689110.4 | W15: 501608.6 | X15: 3190719 | Y15: -121633 | Z15: 3069086
A16: 19 | B16: 2 | C16: 2 | D16: Aura | E16: 3937 | F16: 8561668.7 | G16: 2322744.2 | H16: 0.27129573 | I16: 103090.82 | J16: -1072178.6 | K16: -84684.87 | L16: -122901.2 | M16: -363181.43 | N16: -349619.85 | O16: -117007.64 | P16: -44803.06 | Q16: -60209.714 | R16: 77081.082 | S16: -6851.9474 | T16: 1353656.4 | U16: 1375014.2 | V16: 2728670.6 | W16: 369193.06 | X16: 3097863.6 | Y16: -964731 | Z16: 2133132.6
A17: 20 | B17: 6 | C17: 6 | D17: Akaa | E17: 16429 | F17: 32164269 | G17: 6129396.9 | H17: 0.1905654 | I17: 498334.67 | J17: -5761509.2 | K17: -353387.79 | L17: -1074485.5 | M17: -2785117.3 | N17: -1704398.9 | O17: -488269.88 | P17: -186962.02 | Q17: -167080.78 | R17: 1028469.9 | S17: -30276.838 | T17: 866222.3 | U17: 6794825.4 | V17: 7661047.7 | W17: 1423814.2 | X17: 9084861.9 | Y17: -2763453 | Z17: 6321408.9
A18: 46 | B18: 10 | C18: 10 | D18: Enonkoski | E18: 1273 | F18: 2991556.1 | G18: 974245.75 | H18: 0.32566521 | I18: 208472.07 | J18: 470920.8 | K18: -27382.23 | L18: -49261.91 | M18: 386486.76 | N18: 222612.82 | O18: -37833.56 | P18: -14486.74 | Q18: -45598.453 | R18: 39422.01 | S18: -3037.8952 | T18: 1653638.6 | U18: 460678.57 | V18: 2114317.2 | W18: 260111.19 | X18: 2374428.4 | Y18: -381686 | Z18: 1992742.4
A19: 47 | B19: 19 | C19: 19 | D19: Enontekiö | E19: 1769 | F19: 4322042.5 | G19: 1518725.9 | H19: 0.35139078 | I19: 956597.07 | J19: 200893.23 | K19: -38051.19 | L19: -20311.53 | M19: -127873.58 | N19: 483395.14 | O19: -52574.68 | P19: -20131.22 | Q19: -64528.815 | R19: 44772.3 | S19: -3803.1941 | T19: 2676216.2 | U19: 294775.03 | V19: 2970991.2 | W19: 306294.05 | X19: 3277285.2 | Y19: -46308 | Z19: 3230977.2
A20: 49 | B20: 1 | C20: 33 | D20: Espoo | E20: 325716 | F20: 8.7524135e+08 | G20: 3.5908247e+08 | H20: 0.4102668 | I20: 19717484 | J20: 89006942 | K20: -7006151.2 | L20: -35487621 | M20: 1.1640318e+08 | N20: 29757964 | O20: -9680279.5 | P20: -3706648.1 | Q20: -9699166.2 | R20: 9001638.3 | S20: -575975.03 | T20: 4.6780689e+08 | U20: -25866900 | V20: 4.4193999e+08 | W20: 27145350 | X20: 4.6908534e+08 | Y20: 8305398 | Z20: 4.7739074e+08
A21: 50 | B21: 4 | C21: 4 | D21: Eura | E21: 11005 | F21: 20349065 | G21: 2909551.5 | H21: 0.14298207 | I21: 317874.63 | J21: -1795670.3 | K21: -236717.55 | L21: -322338.41 | M21: -901823.83 | N21: -63514.253 | O21: -327068.6 | P21: -125236.9 | Q21: -94176.826 | R21: 295813.23 | S21: -20607.191 | T21: 1431755.8 | U21: 2924786.7 | V21: 4356542.5 | W21: 1282106.5 | X21: 5638649 | Y21: -1286895 | Z21: 4351754
... A302: 992 | B302: 13 | C302: 13 | D302: Äänekoski | E302: 17492 | F302: 33343225 | G302: 5623827.8 | H302: 0.16866478 | I302: 628417.14 | J302: -1909095.4 | K302: -376252.92 | L302: -1570295.9 | M302: -217370.52 | N302: -102064.41 | O302: -519862.24 | P302: -199058.96 | Q302: -208013.27 | R302: 1316622.2 | S302: -32799.319 | T302: 4343149.6 | U302: 5174610.9 | V302: 9517760.5 | W302: 1767027.6 | X302: 11284788 | Y302: -842235 | Z302: 10442553

Sheet 2.b. Vos-laskelma_€as
A1: Kuntien valtionosuudet ja veromenetysten korvaukset 2027, yhteenveto
A2: Laajempi tiivistelmä VM:n ennakollisesta vos-laskelmasta 2027
A3: Tällä sivulla on avattu VM:n peruspalvelujen valtionosuuden osatekijöitä laajemmin näkyväksi kuin 1.a. Vos-laskelma -välilehdellä (tämän taulukon sarake Q = sarake D välilehdellä 1.a.)
A4: 22.9.2026
G8: 1. | I8: 2. | J8: 3. | L8: Valtionosuuteen tehtävät vähennykset ja lisäykset | T8: 1+2+3 | U8: 4. | W8: 5. | Y8: 6.
A9: Kunta-nro | B9: Mk-nro | C9: Hva-nro | D9: Kunta | E9: Asukasluku 31.12.2025 | F9: Laskennalliset kustannukset yhteensä | G9: Valtionosuus laskennallisiin kustannuksiin kunnan omarahoitusosuuden (-1584,69 €/as.) jälkeen | H9: Valtionosuus-% kunnan laskennallisista kustannuksista | I9: Lisäosat yhteensä | J9: Valtionosuuteen tehtävät vähennykset ja lisäykset yhteensä | K9: Kumulatiivinen verotuloihin perustuvan tasauksen muutoksen neutralisointi | L9: Kunnan rahoitusosuus perustoimeentulotuesta | M9: Sote-uudistuksen muutosrajoitin | N9: Sote-uudistuksen järjestelmämuutoksen tasaus vuodelle 2026 | O9: Jälkikäteistarkistuksesta johtuva valtionosuuden lisäsiirtotarve vuodelta 2023, 501 milj. € (1/3) | P9: Määräaikaisen v 2024 tehdyn lisäyksen takaisinperintä (1/3) | Q9: Valtionosuusjärjestelmän 75 M€ leikkaus / -2 % (Lisätoimet 2025- ) | R9: TE25: Kunnan työttömyysetuuksien rahoitusvastuun laajentamisen korvaus | S9: Muut lisäykset ja vähennykset yhteensä | T9: Valtionosuus ennen verotuloihin perustuvaa valtionosuuden tasausta (G+I+J) | U9: Verotuloihin perustuva valtionosuuden tasaus | V9: Kunnan peruspalvelujen valtionosuus yhteensä (T+U) | W9: Veroperuste-muutoksista johtuvien veromenetysten korvaus | X9: VM-vos = Peruspalvelujen valtionosuus ja veromenetysten korvaus YHTEENSÄ | Y9: OKM-vos 2026 YHTEENSÄ | Z9: VM+OKM -vos YHTEENSÄ
A10: 0 | B10: 0 | C10: 0 | E10: 5622045 | F10: 2114.3267 | G10: 529.63674 | H10: 0.250499 | I10: 57.620103 | J10: -124.99894 | K10: -21.51 | L10: -85.693188 | M10: 4.9803411e-08 | N10: 2.7850828e-15 | O10: -29.72 | P10: -11.38 | Q10: -13.340341 | R10: 38.434594 | S10: -1.79 | T10: 462.25791 | U10: 143.17302 | V10: 605.43093 | W10: 109.65761 | X10: 715.08853 | Y10: 27.342696 | Z10: 742.43123
A11: 5 | B11: 14 | C11: 14 | D11: Alajärvi | E11: 8982 | F11: 2115.7776 | G11: 531.08757 | H11: 0.25101295 | I11: 74.76251 | J11: 20.23491 | K11: -21.51 | L11: -41.588906 | M11: 123.48098 | N11: -5.7587425 | O11: -29.72 | P11: -11.38 | Q11: -26.504996 | R11: 35.266151 | S11: -2.0495725 | T11: 626.08499 | U11: 594.14034 | V11: 1220.2253 | W11: 169.69635 | X11: 1389.9217 | Y11: 58.513694 | Z11: 1448.4354
A12: 9 | B12: 17 | C12: 17 | D12: Alavieska | E12: 2384 | F12: 2296.2998 | G12: 711.60979 | H12: 0.30989411 | I12: 34.228253 | J12: 89.659222 | K12: -21.51 | L12: -50.467022 | M12: 213.01103 | N12: -5.7815441 | O12: -29.72 | P12: -11.38 | Q12: -34.185673 | R12: 31.891621 | S12: -2.199193 | T12: 835.49727 | U12: 740.95282 | V12: 1576.4501 | W12: 164.83547 | X12: 1741.2856 | Y12: -225.75713 | Z12: 1515.5284
A13: 10 | B13: 14 | C13: 14 | D13: Alavus | E13: 10634 | F13: 2026.4518 | G13: 441.76176 | H13: 0.21799767 | I13: 71.833162 | J13: -164.71204 | K13: -21.51 | L13: -42.937395 | M13: -31.862145 | N13: -54.310521 | O13: -29.72 | P13: -11.38 | Q13: -21.194841 | R13: 50.235999 | S13: -2.0331395 | T13: 348.88288 | U13: 628.23985 | V13: 977.12273 | W13: 169.51774 | X13: 1146.6405 | Y13: -72.202746 | Z13: 1074.4377
A14: 16 | B14: 7 | C14: 7 | D14: Asikkala | E14: 7841 | F14: 1681.4442 | G14: 96.754203 | H14: 0.057542321 | I14: 32.027393 | J14: 395.01823 | K14: -21.51 | L14: -42.593494 | M14: 279.75765 | N14: 202.78743 | O14: -29.72 | P14: -11.38 | Q14: -17.777686 | R14: 37.562789 | S14: -2.1084522 | T14: 523.79983 | U14: 301.41783 | V14: 825.21766 | W14: 139.42463 | X14: 964.64229 | Y14: -81.3497 | Z14: 883.29259
A15: 18 | B15: 1 | C15: 34 | D15: Askola | E15: 4677 | F15: 2108.5252 | G15: 523.83523 | H15: 0.24843679 | I15: 27.867638 | J15: -194.29917 | K15: -21.51 | L15: -29.120453 | M15: -97.423896 | N15: -19.660165 | O15: -29.72 | P15: -11.38 | Q15: -12.588728 | R15: 28.915207 | S15: -1.811135 | T15: 357.4037 | U15: 217.5611 | V15: 574.9648 | W15: 107.25008 | X15: 682.21488 | Y15: -26.006628 | Z15: 656.20825
A16: 19 | B16: 2 | C16: 2 | D16: Aura | E16: 3937 | F16: 2174.6682 | G16: 589.9782 | H16: 0.27129573 | I16: 26.185119 | J16: -272.33392 | K16: -21.51 | L16: -31.216967 | M16: -92.248268 | N16: -88.803619 | O16: -29.72 | P16: -11.38 | Q16: -15.293298 | R16: 19.578634 | S16: -1.7403981 | T16: 343.8294 | U16: 349.25431 | V16: 693.08371 | W16: 93.775224 | X16: 786.85893 | Y16: -245.04216 | Z16: 541.81677
A17: 20 | B17: 6 | C17: 6 | D17: Akaa | E17: 16429 | F17: 1957.774 | G17: 373.08399 | H17: 0.1905654 | I17: 30.332623 | J17: -350.69141 | K17: -21.51 | L17: -65.401759 | M17: -169.52446 | N17: -103.74332 | O17: -29.72 | P17: -11.38 | Q17: -10.169869 | R17: 62.60088 | S17: -1.8428899 | T17: 52.7252 | U17: 413.58728 | V17: 466.31248 | W17: 86.664688 | X17: 552.97717 | Y17: -168.20579 | Z17: 384.77137
A18: 46 | B18: 10 | C18: 10 | D18: Enonkoski | E18: 1273 | F18: 2350.0048 | G18: 765.31481 | H18: 0.32566521 | I18: 163.76439 | J18: 369.92993 | K18: -21.51 | L18: -38.697494 | M18: 303.60311 | N18: 174.8726 | O18: -29.72 | P18: -11.38 | Q18: -35.819681 | R18: 30.9678 | S18: -2.3864063 | T18: 1299.0091 | U18: 361.88418 | V18: 1660.8933 | W18: 204.3293 | X18: 1865.2226 | Y18: -299.83189 | Z18: 1565.3907
A19: 47 | B19: 19 | C19: 19 | D19: Enontekiö | E19: 1769 | F19: 2443.2122 | G19: 858.52225 | H19: 0.35139078 | I19: 540.75584 | J19: 113.56316 | K19: -21.51 | L19: -11.481928 | M19: -72.285802 | N19: 273.25898 | O19: -29.72 | P19: -11.38 | Q19: -36.477567 | R19: 25.309384 | S19: -2.1499119 | T19: 1512.8412 | U19: 166.63371 | V19: 1679.4749 | W19: 173.14531 | X19: 1852.6203 | Y19: -26.177501 | Z19: 1826.4428
A20: 49 | B20: 1 | C20: 33 | D20: Espoo | E20: 325716 | F20: 2687.1304 | G20: 1102.4404 | H20: 0.4102668 | I20: 60.535818 | J20: 273.26549 | K20: -21.51 | L20: -108.95265 | M20: 357.3763 | N20: 91.361691 | O20: -29.72 | P20: -11.38 | Q20: -29.777985 | R20: 27.636463 | S20: -1.7683351 | T20: 1436.2417 | U20: -79.415505 | V20: 1356.8262 | W20: 83.340547 | X20: 1440.1667 | Y20: 25.498895 | Z20: 1465.6656
A21: 50 | B21: 4 | C21: 4 | D21: Eura | E21: 11005 | F21: 1849.0745 | G21: 264.38451 | H21: 0.14298207 | I21: 28.884564 | J21: -163.16859 | K21: -21.51 | L21: -29.290178 | M21: -81.946736 | N21: -5.7713996 | O21: -29.72 | P21: -11.38 | Q21: -8.5576398 | R21: 26.879894 | S21: -1.8725298 | T21: 130.10048 | U21: 265.7689 | V21: 395.86938 | W21: 116.50218 | X21: 512.37156 | Y21: -116.9373 | Z21: 395.43426
A22: 51 | B22: 4 | C22: 4 | D22: Eurajoki | E22: 8920 | F22: 1919.9054 | G22: 335.21538 | H22: 0.17459995 | I22: 36.632658 | J22: -976.57869 | K22: -21.51 | L22: -23.049712 | M22: -458.98749 | N22: -459.71135 | O22: -29.72 | P22: -11.38 | Q22: 0 | R22: 29.569861 | S22: -1.79 | T22: -604.73065 | U22: -29.942404 | V22: -634.67306 | W22: 161.45435 | X22: -473.2187 | Y22: -83.718161 | Z22: -556.93686
... A302: 992 | B302: 13 | C302: 13 | D302: Äänekoski | E302: 17492 | F302: 1906.1986 | G302: 321.50857 | H302: 0.16866478 | I302: 35.925974 | J302: -109.14106 | K302: -21.51 | L302: -89.772235 | M302: -12.426853 | N302: -5.8349193 | O302: -29.72 | P302: -11.38 | Q302: -11.891909 | R302: 75.269964 | S302: -1.875104 | T302: 248.29348 | U302: 295.82728 | V302: 544.12077 | W302: 101.01919 | X302: 645.13996 | Y302: -48.149726 | Z302: 596.99023

Sheet 3. Vos-muutos_tiivis_2026-27
A1: Kuntien valtionosuudet yhteensä 2026-27, muutosvertailu
A2: 22.9.2026
C9: Vos 2026 yhteensä | D9: Vos 2027 yhteensä | E9: Muutos 2026-27 | F9: Muutos, % | G9: Vos 2026 €/as. | H9: Vos 2027 €/as. | I9: Muutos €/as. | J9: % vos:sta -27 | K9: % väestöstä -25 | L9: Väestö 31.12.2024 | M9: Väestö 31.12.2025 | N9: Mk | O9: Hva
A10: Nro | B10: Manner-Suomi | C10: {=_xlfn.XLOOKUP(TRUE,ISBLANK('1.a. Statsandelsberäkning'!$V$10:$V$302),'1.a. Statsandelsberäkning'!$AG$10:$AG$302,"")} -> 4.20225e+09 | D10: {=_xlfn.XLOOKUP(TRUE,ISBLANK('1.a. Statsandelsberäkning'!$A$10:$A$302),'1.a. Statsandelsberäkning'!$L$10:$L$302,"")} -> 4.1739818e+09 | E10: =D10-C10 -> -28268220 | F10: =E10/C10 -> -0.0067269249 | G10: =C10/L10 -> 749.68998 | H10: =D10/M10 -> 742.43123 | I10: =H10-G10 -> -7.2587527 | J10: =C10/$C$10 -> 1 | K10: =M10/$M$10 -> 1 | L10: 5605317 | M10: {=_xlfn.XLOOKUP(TRUE,ISBLANK('1.a. Statsandelsberäkning'!$A$10:$A$302),'1.a. Statsandelsberäkning'!$C$10:$C$302,"")} -> 5622045 | N10: 0 | O10: 0
A11: 5 | B11: Alajärvi | C11: =_xlfn.XLOOKUP(IF(ISNUMBER($A11),IF($A11=0,"",$A11),""),'1.a. Statsandelsberäkning'!$V$10:$V$302,'1.a. Statsandelsberäkning'!$AG$10:$AG$302,"") -> 12892142 | D11: =_xlfn.XLOOKUP(IF(ISNUMBER($A11),IF($A11=0,"",$A11),""),'1.a. Statsandelsberäkning'!$A$10:$A$302,'1.a. Statsandelsberäkning'!$L$10:$L$302,"") -> 13009846 | E11: =D11-C11 -> 117704.54 | F11: =E11/C11 -> 0.0091299448 | G11: =C11/L11 -> 1420.1522 | H11: =D11/M11 -> 1448.4354 | I11: =H11-G11 -> 28.283139 | J11: =C11/$C$10 -> 0.0030679141 | K11: =M11/$M$10 -> 0.0015976393 | L11: 9078 | M11: =_xlfn.XLOOKUP(IF(ISNUMBER($A11),IF($A11=0,"",$A11),""),'1.a. Statsandelsberäkning'!$A$10:$A$302,'1.a. Statsandelsberäkning'!$C$10:$C$302,"") -> 8982 | N11: 14 | O11: 14
A12: 9 | B12: Alavieska | C12: =_xlfn.XLOOKUP(IF(ISNUMBER($A12),IF($A12=0,"",$A12),""),'1.a. Statsandelsberäkning'!$V$10:$V$302,'1.a. Statsandelsberäkning'!$AG$10:$AG$302,"") -> 3714747.4 | D12: =_xlfn.XLOOKUP(IF(ISNUMBER($A12),IF($A12=0,"",$A12),""),'1.a. Statsandelsberäkning'!$A$10:$A$302,'1.a. Statsandelsberäkning'!$L$10:$L$302,"") -> 3613019.8 | E12: =D12-C12 -> -101727.59 | F12: =E12/C12 -> -0.027384794 | G12: =C12/L12 -> 1541.3889 | H12: =D12/M12 -> 1515.5284 | I12: =H12-G12 -> -25.86052 | J12: =C12/$C$10 -> 0.00088399009 | K12: =M12/$M$10 -> 0.00042404499 | L12: 2410 | M12: =_xlfn.XLOOKUP(IF(ISNUMBER($A12),IF($A12=0,"",$A12),""),'1.a. Statsandelsberäkning'!$A$10:$A$302,'1.a. Statsandelsberäkning'!$C$10:$C$302,"") -> 2384 | N12: 17 | O12: 17
A13: 10 | B13: Alavus | C13: =_xlfn.XLOOKUP(IF(ISNUMBER($A13),IF($A13=0,"",$A13),""),'1.a. Statsandelsberäkning'!$V$10:$V$302,'1.a. Statsandelsberäkning'!$AG$10:$AG$302,"") -> 11463758 | D13: =_xlfn.XLOOKUP(IF(ISNUMBER($A13),IF($A13=0,"",$A13),""),'1.a. Statsandelsberäkning'!$A$10:$A$302,'1.a. Statsandelsberäkning'!$L$10:$L$302,"") -> 11425571 | E13: =D13-C13 -> -38187.6 | F13: =E13/C13 -> -0.0033311589 | G13: =C13/L13 -> 1063.4284 | H13: =D13/M13 -> 1074.4377 | I13: =H13-G13 -> 11.009305 | J13: =C13/$C$10 -> 0.0027280048 | K13: =M13/$M$10 -> 0.0018914825 | L13: 10780 | M13: =_xlfn.XLOOKUP(IF(ISNUMBER($A13),IF($A13=0,"",$A13),""),'1.a. Statsandelsberäkning'!$A$10:$A$302,'1.a. Statsandelsberäkning'!$C$10:$C$302,"") -> 10634 | N13: 14 | O13: 14
A14: 16 | B14: Asikkala | C14: =_xlfn.XLOOKUP(IF(ISNUMBER($A14),IF($A14=0,"",$A14),""),'1.a. Statsandelsberäkning'!$V$10:$V$302,'1.a. Statsandelsberäkning'!$AG$10:$AG$302,"") -> 7753275.5 | D14: =_xlfn.XLOOKUP(IF(ISNUMBER($A14),IF($A14=0,"",$A14),""),'1.a. Statsandelsberäkning'!$A$10:$A$302,'1.a. Statsandelsberäkning'!$L$10:$L$302,"") -> 6925897.2 | E14: =D14-C14 -> -827378.34 | F14: =E14/C14 -> -0.10671339 | G14: =C14/L14 -> 982.79573 | H14: =D14/M14 -> 883.29259 | I14: =H14-G14 -> -99.503143 | J14: =C14/$C$10 -> 0.0018450296 | K14: =M14/$M$10 -> 0.0013946882 | L14: 7889 | M14: =_xlfn.XLOOKUP(IF(ISNUMBER($A14),IF($A14=0,"",$A14),""),'1.a. Statsandelsberäkning'!$A$10:$A$302,'1.a. Statsandelsberäkning'!$C$10:$C$302,"") -> 7841 | N14: 7 | O14: 7
A15: 18 | B15: Askola | C15: =_xlfn.XLOOKUP(IF(ISNUMBER($A15),IF($A15=0,"",$A15),""),'1.a. Statsandelsberäkning'!$V$10:$V$302,'1.a. Statsandelsberäkning'!$AG$10:$AG$302,"") -> 3166038.7 | D15: =_xlfn.XLOOKUP(IF(ISNUMBER($A15),IF($A15=0,"",$A15),""),'1.a. Statsandelsberäkning'!$A$10:$A$302,'1.a. Statsandelsberäkning'!$L$10:$L$302,"") -> 3069086 | E15: =D15-C15 -> -96952.658 | F15: =E15/C15 -> -0.030622702 | G15: =C15/L15 -> 680.72214 | H15: =D15/M15 -> 656.20825 | I15: =H15-G15 -> -24.513884 | J15: =C15/$C$10 -> 0.00075341511 | K15: =M15/$M$10 -> 0.00083190369 | L15: 4651 | M15: =_xlfn.XLOOKUP(IF(ISNUMBER($A15),IF($A15=0,"",$A15),""),'1.a. Statsandelsberäkning'!$A$10:$A$302,'1.a. Statsandelsberäkning'!$C$10:$C$302,"") -> 4677 | N15: 1 | O15: 34
A16: 19 | B16: Aura | C16: =_xlfn.XLOOKUP(IF(ISNUMBER($A16),IF($A16=0,"",$A16),""),'1.a. Statsandelsberäkning'!$V$10:$V$302,'1.a. Statsandelsberäkning'!$AG$10:$AG$302,"") -> 2253588.6 | D16: =_xlfn.XLOOKUP(IF(ISNUMBER($A16),IF($A16=0,"",$A16),""),'1.a. Statsandelsberäkning'!$A$10:$A$302,'1.a. Statsandelsberäkning'!$L$10:$L$302,"") -> 2133132.6 | E16: =D16-C16 -> -120455.98 | F16: =E16/C16 -> -0.053450741 | G16: =C16/L16 -> 568.22708 | H16: =D16/M16 -> 541.81677 | I16: =H16-G16 -> -26.410312 | J16: =C16/$C$10 -> 0.00053628142 | K16: =M16/$M$10 -> 0.00070027899 | L16: 3966 | M16: =_xlfn.XLOOKUP(IF(ISNUMBER($A16),IF($A16=0,"",$A16),""),'1.a. Statsandelsberäkning'!$A$10:$A$302,'1.a. Statsandelsberäkning'!$C$10:$C$302,"") -> 3937 | N16: 2 | O16: 2
A17: 20 | B17: Akaa | C17: =_xlfn.XLOOKUP(IF(ISNUMBER($A17),IF($A17=0,"",$A17),""),'1.a. Statsandelsberäkning'!$V$10:$V$302,'1.a. Statsandelsberäkning'!$AG$10:$AG$302,"") -> 6103902.6 | D17: =_xlfn.XLOOKUP(IF(ISNUMBER($A17),IF($A17=0,"",$A17),""),'1.a. Statsandelsberäkning'!$A$10:$A$302,'1.a. Statsandelsberäkning'!$L$10:$L$302,"") -> 6321408.9 | E17: =D17-C17 -> 217506.32 | F17: =E17/C17 -> 0.035633976 | G17: =C17/L17 -> 372.48444 | H17: =D17/M17 -> 384.77137 | I17: =H17-G17 -> 12.28693 | J17: =C17/$C$10 -> 0.001452532 | K17: =M17/$M$10 -> 0.0029222463 | L17: 16387 | M17: =_xlfn.XLOOKUP(IF(ISNUMBER($A17),IF($A17=0,"",$A17),""),'1.a. Statsandelsberäkning'!$A$10:$A$302,'1.a. Statsandelsberäkning'!$C$10:$C$302,"") -> 16429 | N17: 6 | O17: 6
A18: 46 | B18: Enonkoski | C18: =_xlfn.XLOOKUP(IF(ISNUMBER($A18),IF($A18=0,"",$A18),""),'1.a. Statsandelsberäkning'!$V$10:$V$302,'1.a. Statsandelsberäkning'!$AG$10:$AG$302,"") -> 1980180.1 | D18: =_xlfn.XLOOKUP(IF(ISNUMBER($A18),IF($A18=0,"",$A18),""),'1.a. Statsandelsberäkning'!$A$10:$A$302,'1.a. Statsandelsberäkning'!$L$10:$L$302,"") -> 1992742.4 | E18: =D18-C18 -> 12562.278 | F18: =E18/C18 -> 0.006344008 | G18: =C18/L18 -> 1537.4069 | H18: =D18/M18 -> 1565.3907 | I18: =H18-G18 -> 27.983804 | J18: =C18/$C$10 -> 0.00047121901 | K18: =M18/$M$10 -> 0.00022643006 | L18: 1288 | M18: =_xlfn.XLOOKUP(IF(ISNUMBER($A18),IF($A18=0,"",$A18),""),'1.a. Statsandelsberäkning'!$A$10:$A$302,'1.a. Statsandelsberäkning'!$C$10:$C$302,"") -> 1273 | N18: 10 | O18: 10
A19: 47 | B19: Enontekiö | C19: =_xlfn.XLOOKUP(IF(ISNUMBER($A19),IF($A19=0,"",$A19),""),'1.a. Statsandelsberäkning'!$V$10:$V$302,'1.a. Statsandelsberäkning'!$AG$10:$AG$302,"") -> 3436013.1 | D19: =_xlfn.XLOOKUP(IF(ISNUMBER($A19),IF($A19=0,"",$A19),""),'1.a. Statsandelsberäkning'!$A$10:$A$302,'1.a. Statsandelsberäkning'!$L$10:$L$302,"") -> 3230977.2 | E19: =D19-C19 -> -205035.85 | F19: =E19/C19 -> -0.059672606 | G19: =C19/L19 -> 1950.0642 | H19: =D19/M19 -> 1826.4428 | I19: =H19-G19 -> -123.62143 | J19: =C19/$C$10 -> 0.00081766032 | K19: =M19/$M$10 -> 0.00031465419 | L19: 1762 | M19: =_xlfn.XLOOKUP(IF(ISNUMBER($A19),IF($A19=0,"",$A19),""),'1.a. Statsandelsberäkning'!$A$10:$A$302,'1.a. Statsandelsberäkning'!$C$10:$C$302,"") -> 1769 | N19: 19 | O19: 19
A20: 49 | B20: Espoo | C20: =_xlfn.XLOOKUP(IF(ISNUMBER($A20),IF($A20=0,"",$A20),""),'1.a. Statsandelsberäkning'!$V$10:$V$302,'1.a. Statsandelsberäkning'!$AG$10:$AG$302,"") -> 4.7624291e+08 | D20: =_xlfn.XLOOKUP(IF(ISNUMBER($A20),IF($A20=0,"",$A20),""),'1.a. Statsandelsberäkning'!$A$10:$A$302,'1.a. Statsandelsberäkning'!$L$10:$L$302,"") -> 4.7739074e+08 | E20: =D20-C20 -> 1147827 | F20: =E20/C20 -> 0.0024101713 | G20: =C20/L20 -> 1483.9418 | H20: =D20/M20 -> 1465.6656 | I20: =H20-G20 -> -18.276149 | J20: =C20/$C$10 -> 0.11333046 | K20: =M20/$M$10 -> 0.057935502 | L20: 320931 | M20: =_xlfn.XLOOKUP(IF(ISNUMBER($A20),IF($A20=0,"",$A20),""),'1.a. Statsandelsberäkning'!$A$10:$A$302,'1.a. Statsandelsberäkning'!$C$10:$C$302,"") -> 325716 | N20: 1 | O20: 33
A21: 50 | B21: Eura | C21: =_xlfn.XLOOKUP(IF(ISNUMBER($A21),IF($A21=0,"",$A21),""),'1.a. Statsandelsberäkning'!$V$10:$V$302,'1.a. Statsandelsberäkning'!$AG$10:$AG$302,"") -> 4945509.9 | D21: =_xlfn.XLOOKUP(IF(ISNUMBER($A21),IF($A21=0,"",$A21),""),'1.a. Statsandelsberäkning'!$A$10:$A$302,'1.a. Statsandelsberäkning'!$L$10:$L$302,"") -> 4351754 | E21: =D21-C21 -> -593755.86 | F21: =E21/C21 -> -0.12005959 | G21: =C21/L21 -> 446.18458 | H21: =D21/M21 -> 395.43426 | I21: =H21-G21 -> -50.750321 | J21: =C21/$C$10 -> 0.0011768719 | K21: =M21/$M$10 -> 0.0019574728 | L21: 11084 | M21: =_xlfn.XLOOKUP(IF(ISNUMBER($A21),IF($A21=0,"",$A21),""),'1.a. Statsandelsberäkning'!$A$10:$A$302,'1.a. Statsandelsberäkning'!$C$10:$C$302,"") -> 11005 | N21: 4 | O21: 4
A22: 51 | B22: Eurajoki | C22: =_xlfn.XLOOKUP(IF(ISNUMBER($A22),IF($A22=0,"",$A22),""),'1.a. Statsandelsberäkning'!$V$10:$V$302,'1.a. Statsandelsberäkning'!$AG$10:$AG$302,"") -> -4458020.1 | D22: =_xlfn.XLOOKUP(IF(ISNUMBER($A22),IF($A22=0,"",$A22),""),'1.a. Statsandelsberäkning'!$A$10:$A$302,'1.a. Statsandelsberäkning'!$L$10:$L$302,"") -> -4967876.8 | E22: =D22-C22 -> -509856.76 | F22: =E22/C22 -> 0.11436843 | G22: =C22/L22 -> -492.49007 | H22: =D22/M22 -> -556.93686 | I22: =H22-G22 -> -64.446799 | J22: =C22/$C$10 -> -0.001060865 | K22: =M22/$M$10 -> 0.0015866113 | L22: 9052 | M22: =_xlfn.XLOOKUP(IF(ISNUMBER($A22),IF($A22=0,"",$A22),""),'1.a. Statsandelsberäkning'!$A$10:$A$302,'1.a. Statsandelsberäkning'!$C$10:$C$302,"") -> 8920 | N22: 4 | O22: 4
... A302: 992 | B302: Äänekoski | C302: =_xlfn.XLOOKUP(IF(ISNUMBER($A302),IF($A302=0,"",$A302),""),'1.a. Statsandelsberäkning'!$V$10:$V$302,'1.a. Statsandelsberäkning'!$AG$10:$AG$302,"") -> 9905531 | D302: =_xlfn.XLOOKUP(IF(ISNUMBER($A302),IF($A302=0,"",$A302),""),'1.a. Statsandelsberäkning'!$A$10:$A$302,'1.a. Statsandelsberäkning'!$L$10:$L$302,"") -> 10442553 | E302: =D302-C302 -> 537022.14 | F302: =E302/C302 -> 0.054214372 | G302: =C302/L302 -> 558.37266 | H302: =D302/M302 -> 596.99023 | I302: =H302-G302 -> 38.617572 | J302: =C302/$C$10 -> 0.002357197 | K302: =M302/$M$10 -> 0.0031113234 | L302: 17740 | M302: =_xlfn.XLOOKUP(IF(ISNUMBER($A302),IF($A302=0,"",$A302),""),'1.a. Statsandelsberäkning'!$A$10:$A$302,'1.a. Statsandelsberäkning'!$C$10:$C$302,"") -> 17492 | N302: 13 | O302: 13

Sheet 4. Vos-muutos_laaja2026-27
A1: Valtionosuuden osatekijöiden muutos 2026-27, € ja % | AX1: Valtionosuuden osatekijöiden muutos 2026-27, €/asukas ja %-muutos/asukas
A2: 22.9.2026 | AX2: 22.9.2026
A3: Muutosvertailut KL / Olli Riikonen | AX3: Muutosvertailut KL / Olli Riikonen
A4: Huom! %-muutos ei ole käyttökelpoinen jos negatiivista verrataan positiiviseen tai päinvastoin tai jos negatiivinen luku muuttuu | AX4: Huom! %-muutos on eri kuin absoluuttisilla euroilla väestömäärän muutoksen takia
A5: Vierittämällä sivua oikealle laskelma löytyy myös €/asukas -muodossa
A9: Kunta-nro | B9: Maa-kunta-nro | C9: Hyvin-vointi-alue-nro | D9: Kunta | E9: Asukasluku 31.12.2024 | F9: Asukasluku 31.12.2025 | G9: Muutos | H9: Muutos, % | J9: Peruspalvelujen valtionosuus ilman verotuloihin perustuvaa tasausta ja kuntakohtaisia sote-eriä 2026 | K9: Peruspalvelujen valtionosuus ilman verotuloihin perustuvaa tasausta ja kuntakohtaisia sote-eriä 2027 | L9: Muutos, € | M9: Muutos, % | O9: Kuntakohtaiset sote-erät yhteensä 2026 | P9: Kuntakohtaiset sote-erät yhteensä 2027 | Q9: Muutos, € | R9: Muutos, % | T9: 5502 Peruspalvelujen valtionosuus (sis. kuntakohtaiset sote-erät) ilman tasausta 2026 | U9: 5502 Peruspalvelujen valtionosuus (sis. kuntakohtaiset sote-erät) ilman tasausta 2027 | V9: Muutos, € | W9: Muutos, % | Y9: Verotuloihin perustuva valtionosuuden tasaus 2026 | Z9: Verotuloihin perustuva valtionosuuden tasaus 2027 | AA9: Muutos, € | AB9: Muutos, % | AD9: 5891 Verotulo-menetysten korvaus 2026 | AE9: 5891 Verotulo-menetysten korvaus 2027 | AF9: Muutos, € | AG9: Muutos, % | AI9: VM:n valtionosuudet ja veromenetysten korvaus yhteensä 2026 | AJ9: VM:n valtionosuudet ja veromenetysten korvaus yhteensä 2027 | AK9: Muutos, € | AL9: Muutos, % | AN9: 5701 Opetus- ja kulttuuritoimen valtionosuus 2026 | AO9: 5701 Opetus- ja kulttuuritoimen valtionosuus 2026 | AP9: Muutos, € | AQ9: Muutos, % | AS9: VM+OKM-vos 2026 yhteensä | AT9: VM-vos 2027 + OKM-vos 2026 yhteensä | AU9: Muutos, € | AV9: Muutos, % | AX9: Peruspalvelujen valtionosuus ilman verotuloihin perustuvaa tasausta ja kuntakohtaisia sote-eriä 2026 | AY9: Peruspalvelujen valtionosuus ilman verotuloihin perustuvaa tasausta ja kuntakohtaisia sote-eriä 2027 | AZ9: Muutos, € | BA9: Muutos, % | BC9: Kuntakohtaiset sote-erät yhteensä 2026 | BD9: Kuntakohtaiset sote-erät yhteensä 2027 | BE9: Muutos, € | BF9: Muutos, % | BH9: 5502 Peruspalvelujen valtionosuus (sis. kuntakohtaiset sote-erät) ilman tasausta 2026 | BI9: 5502 Peruspalvelujen valtionosuus (sis. kuntakohtaiset sote-erät) ilman tasausta 2027 | BJ9: Muutos, € | BK9: Muutos, % | BM9: Verotuloihin perustuva valtionosuuden tasaus 2026 | BN9: Verotuloihin perustuva valtionosuuden tasaus 2027 | BO9: Muutos, € | BP9: Muutos, % | BR9: 5891 Verotulo-menetysten korvaus 2026 | BS9: 5891 Verotulo-menetysten korvaus 2027 | BT9: Muutos, € | BU9: Muutos, % | BW9: VM:n valtionosuudet ja veromenetysten korvaus yhteensä 2026 | BX9: VM:n valtionosuudet ja veromenetysten korvaus yhteensä 2027 | BY9: Muutos, € | BZ9: Muutos, % | CB9: 5701 Opetus- ja kulttuuritoimen valtionosuus 2026 | CC9: 5701 Opetus- ja kulttuuritoimen valtionosuus 2026 | CD9: Muutos, € | CE9: Muutos, % | CG9: VM+OKM-vos 2026 yhteensä | CH9: VM-vos 2027 + OKM-vos 2026 yhteensä | CI9: Muutos, € | CJ9: Muutos, %
A10: 0 | B10: 0 | C10: 0 | D10: YHTEENSÄ | E10: 5605317 | F10: 5622045 | G10: 16728 | H10: 0.0029843094 | J10: 2.7390108e+09 | K10: 2.5988348e+09 | L10: -1.4017598e+08 | M10: -0.051177595 | O10: 0.27999703 | P10: 0.27999703 | Q10: 6.3846529e-09 | R10: 2.2802574e-08 | T10: 2.7390108e+09 | U10: 2.5988348e+09 | V10: -1.4017598e+08 | W10: -0.051177595 | Y10: 7.8251737e+08 | Z10: 8.0492514e+08 | AA10: 22407763 | AB10: 0.028635483 | AD10: 5.27e+08 | AE10: 6.165e+08 | AF10: 89500000 | AG10: 0.16982922 | AI10: 4.0485281e+09 | AJ10: 4.0202599e+09 | AK10: -28268220 | AL10: -0.006982345 | AN10: 153721870 | AO10: 153721870 | AP10: 0 | AQ10: 0 | AS10: 4.20225e+09 | AT10: 4.1739818e+09 | AU10: -28268220 | AV10: -0.0067269249 | AX10: 488.64511 | AY10: 462.25791 | AZ10: -26.387202 | BA10: -0.054000749 | BC10: 4.9952041e-08 | BD10: 4.9803413e-08 | BE10: -1.4862765e-10 | BF10: -0.002975407 | BH10: 488.64511 | BI10: 462.25791 | BJ10: -26.387202 | BK10: -0.054000749 | BM10: 139.6027 | BN10: 143.17302 | BO10: 3.5703181 | BP10: 0.025574851 | BR10: 94.017876 | BS10: 109.65761 | BT10: 15.639731 | BU10: 0.16634848 | BW10: 722.26569 | BX10: 715.08853 | BY10: -7.1771536 | BZ10: -0.0099369993 | CB10: 27.424296 | CC10: 27.342696 | CD10: -0.081599065 | CE10: -0.0029754298 | CG10: 749.68998 | CH10: 742.43123 | CI10: -7.2587527 | CJ10: -0.0096823392
A11: 5 | B11: 14 | C11: 14 | D11: Alajärvi | E11: 9078 | F11: 8982 | G11: -96 | H11: -0.010575017 | J11: 4806528.8 | K11: 4566114.2 | L11: -240414.51 | M11: -0.050018323 | O11: 1070292.2 | P11: 1057381.1 | Q11: -12911.136 | R11: -0.012063188 | T11: 5876821 | U11: 5623495.3 | V11: -253325.65 | W11: -0.043105898 | Y11: 5075761.3 | Z11: 5336568.5 | AA11: 260807.24 | AB11: 0.051382881 | AD11: 1413989.6 | AE11: 1524212.6 | AF11: 110222.95 | AG11: 0.077951738 | AI11: 12366572 | AJ11: 12484276 | AK11: 117704.54 | AL11: 0.0095179606 | AN11: 511422 | AO11: 511422 | AP11: 0 | AQ11: 0 | AS11: 12877994 | AT11: 12995698 | AU11: 117704.54 | AV11: 0.0091399752 | AX11: 529.47001 | AY11: 508.36275 | AZ11: -21.107258 | BA11: -0.039864879 | BC11: 117.89956 | BD11: 117.72223 | BE11: -0.17733 | BF11: -0.0015040768 | BH11: 647.36957 | BI11: 626.08499 | BJ11: -21.284588 | BK11: -0.032878573 | BM11: 559.1277 | BN11: 594.14034 | BO11: 35.012636 | BP11: 0.062620107 | BR11: 155.76004 | BS11: 169.69635 | BT11: 13.936308 | BU11: 0.089472932 | BW11: 1362.2573 | BX11: 1389.9217 | BY11: 27.664356 | BZ11: 0.020307732 | CB11: 56.336418 | CC11: 56.938544 | CD11: 0.60212604 | CE11: 0.010688043 | CG11: 1418.5937 | CH11: 1446.8602 | CI11: 28.266482 | CJ11: 0.019925706
A12: 9 | B12: 17 | C12: 17 | D12: Alavieska | E12: 2410 | F12: 2384 | G12: -26 | H12: -0.010788382 | J12: 1620188.4 | K12: 1497790.4 | L12: -122398.04 | M12: -0.075545561 | O12: 497475.54 | P12: 494035.1 | Q12: -3440.4389 | R12: -0.006915795 | T12: 2117664 | U12: 1991825.5 | V12: -125838.48 | W12: -0.059423253 | Y12: 1776047 | Z12: 1766431.5 | AA12: -9615.4758 | AB12: -0.005413976 | AD12: 359241.4 | AE12: 392967.77 | AF12: 33726.365 | AG12: 0.093882177 | AI12: 4252952.4 | AJ12: 4151224.8 | AK12: -101727.59 | AL12: -0.023919288 | AN12: -538205 | AO12: -538205 | AP12: 0 | AQ12: 0 | AS12: 3714747.4 | AT12: 3613019.8 | AU12: -101727.59 | AV12: -0.027384794 | AX12: 672.27735 | AY12: 628.26778 | AZ12: -44.009577 | BA12: -0.065463423 | BC12: 206.42139 | BD12: 207.22949 | BE12: 0.80810286 | BF12: 0.0039148214 | BH12: 878.69874 | BI12: 835.49727 | BJ12: -43.201474 | BK12: -0.049165285 | BM12: 736.94896 | BN12: 740.95282 | BO12: 4.0038579 | BP12: 0.0054330192 | BR12: 149.06282 | BS12: 164.83547 | BT12: 15.77265 | BU12: 0.1058121 | BW12: 1764.7105 | BX12: 1741.2856 | BY12: -23.424966 | BZ12: -0.013274112 | CB12: -223.32158 | CC12: -225.75713 | CD12: -2.4355541 | CE12: 0.01090604 | CG12: 1541.3889 | CH12: 1515.5284 | CI12: -25.86052 | CJ12: -0.016777414
A13: 10 | B13: 14 | C13: 14 | D13: Alavus | E13: 10780 | F13: 10634 | G13: -146 | H13: -0.013543599 | J13: 4872991.1 | K13: 4626380.7 | L13: -246610.42 | M13: -0.050607608 | O13: -1067280.9 | P13: -916360.13 | Q13: 150920.78 | R13: -0.1414068 | T13: 3805710.2 | U13: 3710020.5 | V13: -95689.641 | W13: -0.025143702 | Y13: 6775281.5 | Z13: 6680702.6 | AA13: -94578.937 | AB13: -0.013959411 | AD13: 1650570.7 | AE13: 1802651.7 | AF13: 152080.98 | AG13: 0.09213842 | AI13: 12231562 | AJ13: 12193375 | AK13: -38187.6 | AL13: -0.0031220542 | AN13: -773536 | AO13: -773536 | AP13: 0 | AQ13: 0 | AS13: 11458026 | AT13: 11419839 | AU13: -38187.6 | AV13: -0.0033328253 | AX13: 452.03999 | AY13: 435.05554 | AZ13: -16.984445 | BA13: -0.037572881 | BC13: -99.005651 | BD13: -86.172666 | BE13: 12.832985 | BF13: -0.12961871 | BH13: 353.03434 | BI13: 348.88288 | BJ13: -4.1514601 | BK13: -0.011759366 | BM13: 628.50478 | BN13: 628.23985 | BO13: -0.26492749 | BP13: -0.00042152025 | BR13: 153.11417 | BS13: 169.51774 | BT13: 16.403578 | BU13: 0.10713299 | BW13: 1134.6533 | BX13: 1146.6405 | BY13: 11.98719 | BZ13: 0.010564628 | CB13: -71.756586 | CC13: -72.741772 | CD13: -0.9851854 | CE13: 0.013729547 | CG13: 1062.8967 | CH13: 1073.8987 | CI13: 11.002005 | CJ13: 0.010350963
A14: 16 | B14: 7 | C14: 7 | D14: Asikkala | E14: 7889 | F14: 7841 | G14: -48 | H14: -0.0060844213 | J14: 1073993.7 | K14: 323478.51 | L14: -750515.17 | M14: -0.69880781 | O14: 3915113.5 | P14: 3783635.9 | Q14: -131477.54 | R14: -0.033582052 | T14: 4989107.2 | U14: 4107114.5 | V14: -881992.72 | W14: -0.17678368 | Y14: 2433035 | Z14: 2363417.2 | AA14: -69617.761 | AB14: -0.028613547 | AD14: 968996.37 | AE14: 1093228.5 | AF14: 124232.14 | AG14: 0.12820703 | AI14: 8391138.5 | AJ14: 7563760.2 | AK14: -827378.34 | AL14: -0.09860144 | AN14: -652011 | AO14: -652011 | AP14: 0 | AQ14: 0 | AS14: 7739127.5 | AT14: 6911749.2 | AU14: -827378.34 | AV14: -0.10690848 | AX14: 136.13813 | AY14: 41.254752 | AZ14: -94.883375 | BA14: -0.69696401 | BC14: 496.275 | BD14: 482.54508 | BE14: -13.729925 | BF14: -0.027665962 | BH14: 632.41313 | BI14: 523.79983 | BJ14: -108.6133 | BK14: -0.17174422 | BM14: 308.40854 | BN14: 301.41783 | BO14: -6.9907093 | BP14: -0.022667042 | BR14: 122.8288 | BS14: 139.42463 | BT14: 16.595833 | BU14: 0.13511354 | BW14: 1063.6505 | BX14: 964.64229 | BY14: -99.008177 | BZ14: -0.093083377 | CB14: -82.648118 | CC14: -83.154062 | CD14: -0.50594435 | CE14: 0.0061216682 | CG14: 981.00235 | CH14: 881.48822 | CI14: -99.514121 | CJ14: -0.10144127
A15: 18 | B15: 1 | C15: 34 | D15: Askola | E15: 4651 | F15: 4677 | G15: 26 | H15: 0.0055901957 | J15: 2489657.5 | K15: 2219179.3 | L15: -270478.23 | M15: -0.10864074 | O15: -612350.46 | P15: -547602.15 | Q15: 64748.306 | R15: -0.10573734 | T15: 1877307 | U15: 1671577.1 | V15: -205729.92 | W15: -0.10958779 | Y15: 996978.65 | Z15: 1017533.3 | AA15: 20554.635 | AB15: 0.020616926 | AD15: 413385.97 | AE15: 501608.6 | AF15: 88222.631 | AG15: 0.21341467 | AI15: 3287671.7 | AJ15: 3190719 | AK15: -96952.658 | AL15: -0.029489763 | AN15: -121633 | AO15: -121633 | AP15: 0 | AQ15: 0 | AS15: 3166038.7 | AT15: 3069086 | AU15: -96952.658 | AV15: -0.030622702 | AX15: 535.2951 | AY15: 474.48776 | AZ15: -60.807334 | BA15: -0.11359591 | BC15: -131.65996 | BD15: -117.08406 | BE15: 14.575896 | BF15: -0.11070865 | BH15: 403.63514 | BI15: 357.4037 | BJ15: -46.231438 | BK15: -0.11453769 | BM15: 214.35791 | BN15: 217.5611 | BO15: 3.2031921 | BP15: 0.014943195 | BR15: 88.881095 | BS15: 107.25008 | BT15: 18.368981 | BU15: 0.20666915 | BW15: 706.87415 | BX15: 682.21488 | BY15: -24.659266 | BZ15: -0.034884945 | CB15: -26.15201 | CC15: -26.006628 | CD15: 0.14538214 | CE15: -0.0055591191 | CG15: 680.72214 | CH15: 656.20825 | CI15: -24.513884 | CJ15: -0.036011586
A16: 19 | B16: 2 | C16: 2 | D16: Aura | E16: 3966 | F16: 3937 | G16: -29 | H16: -0.0073121533 | J16: 2094842.1 | K16: 2066457.6 | L16: -28384.443 | M16: -0.013549681 | O16: -766701.56 | P16: -712801.28 | Q16: 53900.28 | R16: -0.070301514 | T16: 1328140.5 | U16: 1353656.4 | V16: 25515.837 | W16: 0.0192117 | Y16: 1588957.8 | Z16: 1375014.2 | AA16: -213943.62 | AB16: -0.13464399 | AD16: 301221.26 | AE16: 369193.06 | AF16: 67971.798 | AG16: 0.22565406 | AI16: 3218319.6 | AJ16: 3097863.6 | AK16: -120455.98 | AL16: -0.037428222 | AN16: -1002018 | AO16: -1002018 | AP16: 0 | AQ16: 0 | AS16: 2216301.6 | AT16: 2095845.6 | AU16: -120455.98 | AV16: -0.054349995 | AX16: 528.20022 | AY16: 524.88129 | AZ16: -3.3189322 | BA16: -0.0062834737 | BC16: -193.3186 | BD16: -181.05189 | BE16: 12.266711 | BF16: -0.063453341 | BH16: 334.88163 | BI16: 343.8294 | BJ16: 8.9477786 | BK16: 0.026719228 | BM16: 400.64494 | BN16: 349.25431 | BO16: -51.390631 | BP16: -0.12826976 | BR16: 75.950897 | BS16: 93.775224 | BT16: 17.824327 | BU16: 0.23468224 | BW16: 811.47746 | BX16: 786.85893 | BY16: -24.618526 | BZ16: -0.030337904 | CB16: -252.65204 | CC16: -254.51308 | CD16: -1.8610387 | CE16: 0.0073660147 | CG16: 558.82542 | CH16: 532.34585 | CI16: -26.479564 | CJ16: -0.047384323
A17: 20 | B17: 6 | C17: 6 | D17: Akaa | E17: 16387 | F17: 16429 | G17: 42 | H17: 0.0025630073 | J17: 5703508.4 | K17: 5355738.6 | L17: -347769.85 | M17: -0.060974723 | O17: -4713450.5 | P17: -4489516.3 | Q17: 223934.25 | R17: -0.047509622 | T17: 990057.9 | U17: 866222.3 | V17: -123835.59 | W17: -0.12507914 | Y17: 6747448.9 | Z17: 6794825.4 | AA17: 47376.541 | AB17: 0.0070214005 | AD17: 1129848.8 | AE17: 1423814.2 | AF17: 293965.37 | AG17: 0.26018116 | AI17: 8867355.6 | AJ17: 9084861.9 | AK17: 217506.32 | AL17: 0.024528882 | AN17: -2763453 | AO17: -2763453 | AP17: 0 | AQ17: 0 | AS17: 6103902.6 | AT17: 6321408.9 | AU17: 217506.32 | AV17: 0.035633976 | AX17: 348.0508 | AY17: 325.99297 | AZ17: -22.057823 | BA17: -0.063375299 | BC17: -287.63352 | BD17: -273.26777 | BE17: 14.365747 | BF17: -0.049944621 | BH17: 60.417276 | BI17: 52.7252 | BJ17: -7.6920761 | BK17: -0.12731584 | BM17: 411.7562 | BN17: 413.58728 | BO17: 1.831078 | BP17: 0.0044469955 | BR17: 68.947873 | BS17: 86.664688 | BT17: 17.716815 | BU17: 0.25695956 | BW17: 541.12135 | BX17: 552.97717 | BY17: 11.855817 | BZ17: 0.02190972 | CB17: -168.63691 | CC17: -168.20579 | CD17: 0.43111267 | CE17: -0.002556455 | CG17: 372.48444 | CH17: 384.77137 | CI17: 12.28693 | CJ17: 0.032986424
A18: 46 | B18: 10 | C18: 10 | D18: Enonkoski | E18: 1288 | F18: 1273 | G18: -15 | H18: -0.011645963 | J18: 952773.76 | K18: 1044539 | L18: 91765.282 | M18: 0.096313822 | O18: 631100 | P18: 609099.58 | Q18: -22000.422 | R18: -0.034860438 | T18: 1583873.8 | U18: 1653638.6 | V18: 69764.86 | W18: 0.044046983 | Y18: 532260.5 | Z18: 460678.57 | AA18: -71581.937 | AB18: -0.13448666 | AD18: 245731.84 | AE18: 260111.19 | AF18: 14379.355 | AG18: 0.058516452 | AI18: 2361866.1 | AJ18: 2374428.4 | AK18: 12562.278 | AL18: 0.0053187936 | AN18: -381686 | AO18: -381686 | AP18: 0 | AQ18: 0 | AS18: 1980180.1 | AT18: 1992742.4 | AU18: 12562.278 | AV18: 0.006344008 | AX18: 739.73118 | AY18: 820.53342 | AZ18: 80.802239 | BA18: 0.1092319 | BC18: 489.98447 | BD18: 478.47571 | BE18: -11.508763 | BF18: -0.023488016 | BH18: 1229.7156 | BI18: 1299.0091 | BJ18: 69.293476 | BK18: 0.056349186 | BM18: 413.24573 | BN18: 361.88418 | BO18: -51.361548 | BP18: -0.12428815 | BR18: 190.78559 | BS18: 204.3293 | BT18: 13.543707 | BU18: 0.070989151 | BW18: 1833.747 | BX18: 1865.2226 | BY18: 31.475635 | BZ18: 0.017164655 | CB18: -296.34006 | CC18: -299.83189 | CD18: -3.4918311 | CE18: 0.011783189 | CG18: 1537.4069 | CH18: 1565.3907 | CI18: 27.983804 | CJ18: 0.01820195
A19: 47 | B19: 19 | C19: 19 | D19: Enontekiö | E19: 1762 | F19: 1769 | G19: 7 | H19: 0.0039727582 | J19: 2396193.2 | K19: 2320694.6 | L19: -75498.563 | M19: -0.031507712 | O19: 385232.79 | P19: 355521.56 | Q19: -29711.234 | R19: -0.077125402 | T19: 2781426 | U19: 2676216.2 | V19: -105209.8 | W19: -0.037825849 | Y19: 415214.51 | Z19: 294775.03 | AA19: -120439.49 | AB19: -0.2900657 | AD19: 285680.62 | AE19: 306294.05 | AF19: 20613.429 | AG19: 0.072155504 | AI19: 3482321.1 | AJ19: 3277285.2 | AK19: -205035.85 | AL19: -0.058879078 | AN19: -46308 | AO19: -46308 | AP19: 0 | AQ19: 0 | AS19: 3436013.1 | AT19: 3230977.2 | AU19: -205035.85 | AV19: -0.059672606 | AX19: 1359.928 | AY19: 1311.8681 | AZ19: -48.059954 | BA19: -0.035340072 | BC19: 218.63382 | BD19: 200.97318 | BE19: -17.660639 | BF19: -0.080777252 | BH19: 1578.5618 | BI19: 1512.8412 | BJ19: -65.720594 | BK19: -0.041633208 | BM19: 235.64955 | BN19: 166.63371 | BO19: -69.015847 | BP19: -0.29287493 | BR19: 162.13429 | BS19: 173.14531 | BT19: 11.011017 | BU19: 0.067912944 | BW19: 1976.3457 | BX19: 1852.6203 | BY19: -123.72542 | BZ19: -0.062603129 | CB19: -26.281498 | CC19: -26.177501 | CD19: 0.10399688 | CE19: -0.0039570379 | CG19: 1950.0642 | CH19: 1826.4428 | CI19: -123.62143 | CJ19: -0.063393517
A20: 49 | B20: 1 | C20: 33 | D20: Espoo | E20: 320931 | F20: 325716 | G20: 4785 | H20: 0.014909747 | J20: 3.201854e+08 | K20: 3.2164575e+08 | L20: 1460351.5 | M20: 0.0045609559 | O20: 1.5116946e+08 | P20: 1.4616114e+08 | Q20: -5008319.9 | R20: -0.033130499 | T20: 4.7135486e+08 | U20: 4.6780689e+08 | V20: -3547968.4 | W20: -0.0075271704 | Y20: -25136908 | Z20: -25866900 | AA20: -729992.54 | AB20: 0.029040666 | AD20: 21719562 | AE20: 27145350 | AF20: 5425788 | AG20: 0.24981112 | AI20: 4.6793752e+08 | AJ20: 4.6908534e+08 | AK20: 1147827 | AL20: 0.0024529493 | AN20: 6930176 | AO20: 6930176 | AP20: 0 | AQ20: 0 | AS20: 4.7486769e+08 | AT20: 4.7601552e+08 | AU20: 1147827 | AV20: 0.0024171512 | AX20: 997.67675 | AY20: 987.50368 | AZ20: -10.17307 | BA20: -0.01019676 | BC20: 471.03416 | BD20: 448.738 | BE20: -22.296167 | BF20: -0.047334501 | BH20: 1468.7109 | BI20: 1436.2417 | BJ20: -32.469237 | BK20: -0.022107303 | BM20: -78.324961 | BN20: -79.415505 | BO20: -1.0905439 | BP20: 0.013923326 | BR20: 67.676733 | BS20: 83.340547 | BT20: 15.663814 | BU20: 0.2314505 | BW20: 1458.0627 | BX20: 1440.1667 | BY20: -17.895967 | BZ20: -0.012273798 | CB20: 21.593975 | CC20: 21.276744 | CD20: -0.31723087 | CE20: -0.014690712 | CG20: 1479.6567 | CH20: 1461.4435 | CI20: -18.213198 | CJ20: -0.012309071
A21: 50 | B21: 4 | C21: 4 | D21: Eura | E21: 11084 | F21: 11005 | G21: -79 | H21: -0.0071273908 | J21: 3075083.8 | K21: 2397093.9 | L21: -677989.88 | M21: -0.22047851 | O21: -1097089.3 | P21: -965338.08 | Q21: 131751.26 | R21: -0.12009164 | T21: 1977994.4 | U21: 1431755.8 | V21: -546238.63 | W21: -0.27615782 | Y21: 3171299.7 | Z21: 2924786.7 | AA21: -246513.01 | AB21: -0.077732486 | AD21: 1083110.7 | AE21: 1282106.5 | AF21: 198995.77 | AG21: 0.18372617 | AI21: 6232404.9 | AJ21: 5638649 | AK21: -593755.86 | AL21: -0.095269142 | AN21: -1288310 | AO21: -1288310 | AP21: 0 | AQ21: 0 | AS21: 4944094.9 | AT21: 4350339 | AU21: -593755.86 | AV21: -0.12009395 | AX21: 277.43448 | AY21: 217.81862 | AZ21: -59.615862 | BA21: -0.21488267 | BC21: -98.979551 | BD21: -87.718136 | BE21: 11.261415 | BF21: -0.11377517 | BH21: 178.45493 | BI21: 130.10048 | BJ21: -48.354447 | BK21: -0.27096168 | BM21: 286.1151 | BN21: 265.7689 | BO21: -20.346199 | BP21: -0.071111937 | BR21: 97.718394 | BS21: 116.50218 | BT21: 18.783783 | BU21: 0.19222361 | BW21: 562.28842 | BX21: 512.37156 | BY21: -49.916863 | BZ21: -0.088774481 | CB21: -116.2315 | CC21: -117.06588 | CD21: -0.83437427 | CE21: 0.0071785552 | CG21: 446.05692 | CH21: 395.30568 | CI21: -50.751237 | CJ21: -0.11377749
... A302: 992 | B302: 13 | C302: 13 | D302: Äänekoski | E302: 17740 | F302: 17492 | G302: -248 | H302: -0.013979707 | J302: 5989209.3 | K302: 4662584.5 | L302: -1326624.7 | M302: -0.22150248 | O302: -222478.78 | P302: -319434.92 | Q302: -96956.141 | R302: 0.43579949 | T302: 5766730.5 | U302: 4343149.6 | V302: -1423580.9 | W302: -0.246861 | Y302: 3507342.9 | Z302: 5174610.9 | AA302: 1667267.9 | AB302: 0.47536497 | AD302: 1473692.6 | AE302: 1767027.6 | AF302: 293335.07 | AG302: 0.19904767 | AI302: 10747766 | AJ302: 11284788 | AK302: 537022.14 | AL302: 0.049965932 | AN302: -852139 | AO302: -852139 | AP302: 0 | AQ302: 0 | AS302: 9895627 | AT302: 10432649 | AU302: 537022.14 | AV302: 0.054268632 | AX302: 337.61044 | AY302: 266.55526 | AZ302: -71.055188 | BA302: -0.21046502 | BC302: -12.541081 | BD302: -18.261772 | BE302: -5.7206911 | BF302: 0.45615613 | BH302: 325.06936 | BI302: 248.29348 | BJ302: -76.775879 | BK302: -0.23618307 | BM302: 197.70817 | BN302: 295.82728 | BO302: 98.119116 | BP302: 0.49628256 | BR302: 83.071734 | BS302: 101.01919 | BT302: 17.947454 | BU302: 0.21604766 | BW302: 605.84926 | BX302: 645.13996 | BY302: 39.290691 | BZ302: 0.064852254 | CB302: -48.034893 | CC302: -48.715927 | CD302: -0.68103438 | CE302: 0.01417791 | CG302: 557.81437 | CH302: 596.42403 | CI302: 38.609656 | CJ302: 0.069215958

Sheet 5. Leikkausvertailu
A1: Valtionosuuteen tehtävän 75 miljoonan euron leikkauksen vaikutus
A2: 22.9.2026
A3: Lähde: Valtionosuuksien laskentatiedot vuodelle 2027 / VM syyskuu 2026
A4: "Säästö"-sarakkeen luvut löytyvät VM:n laskelman välilehdeltä "Lisäykset ja vähennykset"
A5: Leikkaus kohdennetaan VM:n perusopalvelujen valtionosuuteen. Vähennys ei siis kohdisty veromenetysten korvaukseen, eikä OKM-valtionosuuteen.
A9: Kunta-numero | B9: Kunta | C9: Asukasluku 31.12.2025 | D9: Valtionosuusjärjestelmän säästö -2% | E9: Vos-leikkaus €/as. | F9: Kunnan peruspalvelujen valtionosuus yht. €/as. | G9: Peruspalvelujen valtionosuus yht. ilman vos-leikkausta €/as. | I9: 5501 Peruspalvelujen valtionosuus ilman tasausta (leikkauksen jälkeen) | J9: 5502 Verotuloihin perustuva valtionosuuden tasaus (leikkauksen jälkeen) | K9: Kunnan peruspalvelujen valtionosuus yhteensä (leikkauksen jälkeen) | L9: Maakunta-nro | M9: Hyvin-vointi-alue-nro
B10: YHTEENSÄ | C10: 5622045 | D10: -75000000 | E10: -13.340341 | F10: 605.43093 | G10: 618.77127 | I10: 2.5988348e+09 | J10: 8.0492514e+08 | K10: 3.4037599e+09 | L10: 0 | M10: 0
A11: 5 | B11: Alajärvi | C11: 8982 | D11: -238067.87 | E11: -26.504996 | F11: 1220.2253 | G11: 1246.7303 | I11: 5623495.3 | J11: 5336568.5 | K11: 10960064 | L11: 14 | M11: 14
A12: 9 | B12: Alavieska | C12: 2384 | D12: -81498.646 | E12: -34.185673 | F12: 1576.4501 | G12: 1610.6358 | I12: 1991825.5 | J12: 1766431.5 | K12: 3758257 | L12: 17 | M12: 17
A13: 10 | B13: Alavus | C13: 10634 | D13: -225385.94 | E13: -21.194841 | F13: 977.12273 | G13: 998.31757 | I13: 3710020.5 | J13: 6680702.6 | K13: 10390723 | L13: 14 | M13: 14
A14: 16 | B14: Asikkala | C14: 7841 | D14: -139394.84 | E14: -17.777686 | F14: 825.21766 | G14: 842.99534 | I14: 4107114.5 | J14: 2363417.2 | K14: 6470531.7 | L14: 7 | M14: 7
A15: 18 | B15: Askola | C15: 4677 | D15: -58877.479 | E15: -12.588728 | F15: 574.9648 | G15: 587.55353 | I15: 1671577.1 | J15: 1017533.3 | K15: 2689110.4 | L15: 1 | M15: 34
A16: 19 | B16: Aura | C16: 3937 | D16: -60209.714 | E16: -15.293298 | F16: 693.08371 | G16: 708.37701 | I16: 1353656.4 | J16: 1375014.2 | K16: 2728670.6 | L16: 2 | M16: 2
A17: 20 | B17: Akaa | C17: 16429 | D17: -167080.78 | E17: -10.169869 | F17: 466.31248 | G17: 476.48235 | I17: 866222.3 | J17: 6794825.4 | K17: 7661047.7 | L17: 6 | M17: 6
A18: 46 | B18: Enonkoski | C18: 1273 | D18: -45598.453 | E18: -35.819681 | F18: 1660.8933 | G18: 1696.713 | I18: 1653638.6 | J18: 460678.57 | K18: 2114317.2 | L18: 10 | M18: 10
A19: 47 | B19: Enontekiö | C19: 1769 | D19: -64528.815 | E19: -36.477567 | F19: 1679.4749 | G19: 1715.9525 | I19: 2676216.2 | J19: 294775.03 | K19: 2970991.2 | L19: 19 | M19: 19
A20: 49 | B20: Espoo | C20: 325716 | D20: -9699166.2 | E20: -29.777985 | F20: 1356.8262 | G20: 1386.6042 | I20: 4.6780689e+08 | J20: -25866900 | K20: 4.4193999e+08 | L20: 1 | M20: 33
A21: 50 | B21: Eura | C21: 11005 | D21: -94176.826 | E21: -8.5576398 | F21: 395.86938 | G21: 404.42702 | I21: 1431755.8 | J21: 2924786.7 | K21: 4356542.5 | L21: 4 | M21: 4
A22: 51 | B22: Eurajoki | C22: 8920 | D22: 0 | E22: 0 | F22: -634.67306 | G22: -634.67306 | I22: -5394197.4 | J22: -267086.25 | K22: -5661283.7 | L22: 4 | M22: 4
... A302: 992 | B302: Äänekoski | C302: 17492 | D302: -208013.27 | E302: -11.891909 | F302: 544.12077 | G302: 556.01268 | I302: 4343149.6 | J302: 5174610.9 | K302: 9517760.5 | L302: 13 | M302: 13

Sheet 6. Ikärakenne
A1: Ikärakenne 2023-2025 ja ikärakenteen mukaiset laskennalliset kustannukset valtionosuuksissa 2025-27
A2: Lähde: VM:n valtionosuuslaskelmat 2025 - 2027 | AL2: Ikä 0–5 | AM2: Ikä 0–5 | AP2: Ikä 6 | AY2: Ikä 13–15 | BB2: Ikä 16+ | BC2: Ikä 16+ | BF2: Ikä 18-64 | BG2: Ikä 18-64 | BP2: HUOM!!!
A3: 22.9.2026 | BP3: Tässä näytetään vain laskennalliset kustannukset ikärakenteen perusteella.
E4: Valtionosuuden perusteena on väkiluku t-2. Tämä tarkoittaa sitä, että vuoden 2025 valtionosuudet määräytyvät vuoden 2023 lopun (31.12.) väestötiedon perusteella. | AL4: Laskennallinen ikärakenteen mukainen kustannus muodostuu kaavasta "ikäryhmän perushinta x ikäryhmän väestömäärä". | BP4: Valtionosuus laskennallisiin kustannuksiin saadaan vasta, kun ikärakenteen mukaisista
E5: Vuoden 2027 valtionosuudet määräytyvät 31.12.2025 väestötiedon perusteella. Väestötiedot ikäluokittain ovat tässä alapuolella. | AL5: Tässä alapuolella näkyy perushinta ja taulukossa kaavan mukaan muodostuva ikäryhmän laskennallinen kustannus ikäryhmittäin. | BP5: ja muista laskennallisista kustannuksista vähennetään kunnan omarahoitusosuus.
AL6: 0-15-vuotiaiden painoarvo on laskennassa erittäin suuri (yli 93 % "ikärakennekustannuksista"), koska suurin osa kunnan lakisääteisistä kustannuksista aiheutuu näistä ikäryhmistä. | BP6: Ks. Välilehdet 2.a. ja 2.b.
AK7: Perushinta: | AL7: 8449.95 | AM7: 8970.59 | AN7: 9109.13 | AP7: 8975.6 | AQ7: 9538.73 | AR7: 9686.06 | AT7: 7564.89 | AU7: 8172.1 | AV7: 8303.52 | AX7: 12944.95 | AY7: 13849.15 | AZ7: 14067.67 | BB7: 66.14 | BC7: 70.22 | BD7: 71.3 | BF7: 83.48 | BG7: 86.07 | BH7: 89.14
D8: Vuosi: | E8: 2023 | F8: 2024 | G8: 2025 | I8: 2023 | J8: 2024 | K8: 2025 | M8: 2023 | N8: 2024 | O8: 2025 | Q8: 2023 | R8: 2024 | S8: 2025 | U8: 2023 | V8: 2024 | W8: 2025 | Y8: 2023 | Z8: 2024 | AA8: 2025 | AD8: 2023 | AE8: 2024 | AF8: 2025 | AH8: 2023 | AI8: 2024 | AJ8: 2025 | AK8: Vuosi: | AL8: 2025 | AM8: 2026 | AN8: 2027 | AP8: 2025 | AQ8: 2026 | AR8: 2027 | AT8: 2025 | AU8: 2026 | AV8: 2027 | AX8: 2025 | AY8: 2026 | AZ8: 2027 | BB8: 2025 | BC8: 2026 | BD8: 2027 | BF8: 2025 | BG8: 2026 | BH8: 2027 | BJ8: 2025 | BK8: 2026 | BL8: 2027 | BP8: 2025 | BQ8: 2026 | BR8: 2027
A9: Kunta-nro | B9: Mk-nro | C9: Hva-nro | D9: Ikäryhmä: | E9: Yhteensä | F9: Yhteensä | G9: Yhteensä | I9: 0–5-vuotiaat | J9: 0–5-vuotiaat | K9: 0–5-vuotiaat | M9: 6-vuotiaat | N9: 6-vuotiaat | O9: 6-vuotiaat | Q9: 7–12-vuotiaat | R9: 7–12-vuotiaat | S9: 7–12-vuotiaat | T9: 0-5 vs. 7-12 | U9: 13–15-vuotiaat | V9: 13–15-vuotiaat | W9: 13–15-vuotiaat | Y9: 0-15-vuotiaat yhteensä | Z9: 0-15-vuotiaat yhteensä | AA9: 0-15-vuotiaat yhteensä | AB9: 0-15-vuotiaat MUUTOS 2024-25 | AC9: 0-15-vuotiaat MUUTOS 2024-25, % | AD9: 16 vuotta täyttäneet | AE9: 16 vuotta täyttäneet | AF9: 16 vuotta täyttäneet | AH9: 18–64-vuotiaat | AI9: 18–64-vuotiaat | AJ9: 18–64-vuotiaat | AL9: Ikä 0–5 | AM9: Ikä 0–5 | AN9: Ikä 0-5 | AP9: Ikä 6 | AQ9: Ikä 6 | AR9: Ikä 6 | AT9: Ikä 7–12 | AU9: Ikä 7–12 | AV9: Ikä 7-12 | AX9: Ikä 13–15 | AY9: Ikä 13–15 | AZ9: Ikä 13-15 | BB9: Ikä 16+ | BC9: Ikä 16+ | BD9: Ikä 16+ | BF9: Ikä 18-64 | BG9: Ikä 18-64 | BH9: Ikä 18-64 | BJ9: Laskennalliset kustannukset 0-15 v. yhteensä | BK9: Laskennalliset kustannukset 0-15 v. yhteensä | BL9: Laskennalliset kustannukset 0-15 v. yhteensä | BM9: Muutos 0-15 v. 2026-27, € | BN9: Muutos 0-15 v. 2026-27, €/as. | BP9: Laskennalliset kustannukset, IKÄRAKENNE yhteensä, € | BQ9: Laskennalliset kustannukset, IKÄRAKENNE yhteensä, € | BR9: Laskennalliset kustannukset, IKÄRAKENNE yhteensä, € | BS9: Muutos 2026-27, € | BT9: Muutos 2026-27, €/as.
A10: 0 | B10: 0 | C10: 0 | D10: Koko maa | E10: 5573310 | F10: 5605317 | G10: 5622045 | I10: 283842 | J10: 280783 | K10: 280830 | M10: 52740 | N10: 50320 | O10: 48446 | Q10: 362111 | R10: 355267 | S10: 344994 | T10: 0.81401416 | U10: 191944 | V10: 193794 | W10: 194139 | Y10: 890637 | Z10: 880164 | AA10: 868409 | AB10: -11755 | AC10: -0.013355466 | AD10: 4682673 | AE10: 4725153 | AF10: 4753636 | AH10: 3255053 | AI10: 3276639 | AJ10: 3284046 | AL10: 2.3984507e+09 | AM10: 2.5187892e+09 | AN10: 2.558117e+09 | AP10: 4.7337314e+08 | AQ10: 4.7998889e+08 | AR10: 4.6925086e+08 | AT10: 2.7393299e+09 | AU10: 2.9032775e+09 | AV10: 2.8646646e+09 | AX10: 2.4847055e+09 | AY10: 2.6838822e+09 | AZ10: 2.7310834e+09 | BB10: 3.0971199e+08 | BC10: 3.3180024e+08 | BD10: 3.3893425e+08 | BF10: 2.7173182e+08 | BG10: 2.8202032e+08 | BH10: 2.9273986e+08 | BJ10: 8.0958592e+09 | BK10: 8.5859377e+09 | BL10: 8.6231158e+09 | BM10: 37178114 | BN10: 6.6129165 | BP10: 8.677303e+09 | BQ10: 9.1997583e+09 | BR10: 9.2547899e+09 | BS10: 55031659 | BT10: 9.7885483
A11: 5 | B11: 14 | C11: 14 | D11: Alajärvi | E11: 9113 | F11: 9078 | G11: 8982 | I11: 454 | J11: 439 | K11: 414 | M11: 99 | N11: 90 | O11: 89 | Q11: 659 | R11: 647 | S11: 623 | T11: 0.66452648 | U11: 395 | V11: 383 | W11: 384 | Y11: 1607 | Z11: 1559 | AA11: 1510 | AB11: -49 | AC11: -0.031430404 | AD11: 7506 | AE11: 7519 | AF11: 7472 | AH11: 4453 | AI11: 4385 | AJ11: 4308 | AL11: 3836277.3 | AM11: 3938089 | AN11: 3771179.8 | AP11: 888584.4 | AQ11: 858485.7 | AR11: 862059.34 | AT11: 4985262.5 | AU11: 5287348.7 | AV11: 5173093 | AX11: 5113255.2 | AY11: 5304224.5 | AZ11: 5401985.3 | BB11: 496446.84 | BC11: 527984.18 | BD11: 532753.6 | BF11: 371736.44 | BG11: 377416.95 | BH11: 384015.12 | BJ11: 14823379 | BK11: 15388148 | BL11: 15208317 | BM11: -179830.46 | BN11: -20.021205 | BP11: 15691563 | BQ11: 16293549 | BR11: 15741071 | BS11: -552477.99 | BT11: -61.509462
A12: 9 | B12: 17 | C12: 17 | D12: Alavieska | E12: 2437 | F12: 2410 | G12: 2384 | I12: 140 | J12: 139 | K12: 133 | M12: 29 | N12: 35 | O12: 23 | Q12: 206 | R12: 195 | S12: 191 | T12: 0.69633508 | U12: 115 | V12: 106 | W12: 114 | Y12: 490 | Z12: 475 | AA12: 461 | AB12: -14 | AC12: -0.029473684 | AD12: 1947 | AE12: 1935 | AF12: 1923 | AH12: 1225 | AI12: 1211 | AJ12: 1198 | AL12: 1182993 | AM12: 1246912 | AN12: 1211514.3 | AP12: 260292.4 | AQ12: 333855.55 | AR12: 222779.38 | AT12: 1558367.3 | AU12: 1593559.5 | AV12: 1585972.3 | AX12: 1488669.2 | AY12: 1468009.9 | AZ12: 1603714.4 | BB12: 128774.58 | BC12: 135875.7 | BD12: 137109.9 | BF12: 102263 | BG12: 104230.77 | BH12: 106789.72 | BJ12: 4490322 | BK12: 4642337 | BL12: 4623980.4 | BM12: -18356.59 | BN12: -7.6999119 | BP12: 4721359.6 | BQ12: 4882443.4 | BR12: 4761090.3 | BS12: -121353.16 | BT12: -50.903171
A13: 10 | B13: 14 | C13: 14 | D13: Alavus | E13: 10933 | F13: 10780 | G13: 10634 | I13: 564 | J13: 539 | K13: 519 | M13: 129 | N13: 100 | O13: 105 | Q13: 764 | R13: 763 | S13: 722 | T13: 0.71883657 | U13: 421 | V13: 393 | W13: 408 | Y13: 1878 | Z13: 1795 | AA13: 1754 | AB13: -41 | AC13: -0.022841226 | AD13: 9055 | AE13: 8985 | AF13: 8880 | AH13: 5510 | AI13: 5392 | AJ13: 5322 | AL13: 4765771.8 | AM13: 4835148 | AN13: 4727638.5 | AP13: 1157852.4 | AQ13: 953873 | AR13: 1017036.3 | AT13: 5779576 | AU13: 6235312.3 | AV13: 5995141.4 | AX13: 5449824 | AY13: 5442716 | AZ13: 5739609.4 | BB13: 598897.7 | BC13: 630926.7 | BD13: 633144 | BF13: 459974.8 | BG13: 464089.44 | BH13: 474403.08 | BJ13: 17153024 | BK13: 17467049 | BL13: 17479426 | BM13: 12376.31 | BN13: 1.1638433 | BP13: 18211897 | BQ13: 18562065 | BR13: 18112570 | BS13: -449495.83 | BT13: -42.269685
A14: 16 | B14: 7 | C14: 7 | D14: Asikkala | E14: 7968 | F14: 7889 | G14: 7841 | I14: 330 | J14: 302 | K14: 286 | M14: 63 | N14: 68 | O14: 46 | Q14: 456 | R14: 439 | S14: 435 | T14: 0.65747126 | U14: 271 | V14: 259 | W14: 237 | Y14: 1120 | Z14: 1068 | AA14: 1004 | AB14: -64 | AC14: -0.059925094 | AD14: 6848 | AE14: 6821 | AF14: 6837 | AH14: 3847 | AI14: 3803 | AJ14: 3797 | AL14: 2788483.5 | AM14: 2709118.2 | AN14: 2605211.2 | AP14: 565462.8 | AQ14: 648633.64 | AR14: 445558.76 | AT14: 3449589.8 | AU14: 3587551.9 | AV14: 3612031.2 | AX14: 3508081.5 | AY14: 3586929.9 | AZ14: 3334037.8 | BB14: 452926.72 | BC14: 478970.62 | BD14: 487478.1 | BF14: 321147.56 | BG14: 327324.21 | BH14: 338464.58 | BJ14: 10311618 | BK14: 10532234 | BL14: 9996838.9 | BM14: -535394.64 | BN14: -68.281423 | BP14: 11085692 | BQ14: 11338528 | BR14: 10484317 | BS14: -854211.37 | BT14: -108.94164
A15: 18 | B15: 1 | C15: 34 | D15: Askola | E15: 4700 | F15: 4651 | G15: 4677 | I15: 230 | J15: 215 | K15: 227 | M15: 44 | N15: 47 | O15: 41 | Q15: 385 | R15: 364 | S15: 352 | T15: 0.64488636 | U15: 226 | V15: 219 | W15: 206 | Y15: 885 | Z15: 845 | AA15: 826 | AB15: -19 | AC15: -0.022485207 | AD15: 3815 | AE15: 3806 | AF15: 3851 | AH15: 2648 | AI15: 2609 | AJ15: 2624 | AL15: 1943488.5 | AM15: 1928676.9 | AN15: 2067772.5 | AP15: 394926.4 | AQ15: 448320.31 | AR15: 397128.46 | AT15: 2912482.6 | AU15: 2974644.4 | AV15: 2922839 | AX15: 2925558.7 | AY15: 3032963.9 | AZ15: 2897940 | BB15: 252324.1 | BC15: 267257.32 | BD15: 274576.3 | BF15: 221055.04 | BG15: 224556.63 | BH15: 233903.36 | BJ15: 8176456.3 | BK15: 8384605.4 | BL15: 8285680 | BM15: -98925.38 | BN15: -21.15146 | BP15: 8649835.4 | BQ15: 8876419.4 | BR15: 8560256.3 | BS15: -316163.03 | BT15: -67.599536
A16: 19 | B16: 2 | C16: 2 | D16: Aura | E16: 3961 | F16: 3966 | G16: 3937 | I16: 259 | J16: 250 | K16: 237 | M16: 41 | N16: 45 | O16: 46 | Q16: 305 | R16: 292 | S16: 276 | T16: 0.85869565 | U16: 162 | V16: 164 | W16: 175 | Y16: 767 | Z16: 751 | AA16: 734 | AB16: -17 | AC16: -0.022636485 | AD16: 3194 | AE16: 3215 | AF16: 3203 | AH16: 2192 | AI16: 2189 | AJ16: 2194 | AL16: 2188537 | AM16: 2242647.5 | AN16: 2158863.8 | AP16: 367999.6 | AQ16: 429242.85 | AR16: 445558.76 | AT16: 2307291.5 | AU16: 2386253.2 | AV16: 2291771.5 | AX16: 2097081.9 | AY16: 2271260.6 | AZ16: 2461842.2 | BB16: 211251.16 | BC16: 225757.3 | BD16: 228373.9 | BF16: 182988.16 | BG16: 188407.23 | BH16: 195573.16 | BJ16: 6960910 | BK16: 7329404.2 | BL16: 7358036.3 | BM16: 28632.19 | BN16: 7.2725908 | BP16: 7355149.3 | BQ16: 7743568.7 | BR16: 7586410.2 | BS16: -157158.44 | BT16: -39.918324
A17: 20 | B17: 6 | C17: 6 | D17: Akaa | E17: 16405 | F17: 16387 | G17: 16429 | I17: 769 | J17: 794 | K17: 820 | M17: 148 | N17: 122 | O17: 151 | Q17: 1155 | R17: 1101 | S17: 1006 | T17: 0.81510934 | U17: 650 | V17: 661 | W17: 666 | Y17: 2722 | Z17: 2678 | AA17: 2643 | AB17: -35 | AC17: -0.013069455 | AD17: 13683 | AE17: 13709 | AF17: 13786 | AH17: 9032 | AI17: 9049 | AJ17: 9077 | AL17: 6498011.6 | AM17: 7122648.5 | AN17: 7469486.6 | AP17: 1328388.8 | AQ17: 1163725.1 | AR17: 1462595.1 | AT17: 8737448 | AU17: 8997482.1 | AV17: 8353341.1 | AX17: 8414217.5 | AY17: 9154288.2 | AZ17: 9369068.2 | BB17: 904993.62 | BC17: 962645.98 | BD17: 982941.8 | BF17: 753991.36 | BG17: 778847.43 | BH17: 809123.78 | BJ17: 24978066 | BK17: 26438144 | BL17: 26654491 | BM17: 216347.23 | BN17: 13.168618 | BP17: 26637051 | BQ17: 28179637 | BR17: 27637433 | BS17: -542204.38 | BT17: -33.002884
A18: 46 | B18: 10 | C18: 10 | D18: Enonkoski | E18: 1320 | F18: 1288 | G18: 1273 | I18: 50 | J18: 53 | K18: 54 | M18: 8 | N18: 5 | O18: 8 | Q18: 78 | R18: 67 | S18: 60 | T18: 0.9 | U18: 38 | V18: 41 | W18: 47 | Y18: 174 | Z18: 166 | AA18: 169 | AB18: 3 | AC18: 0.018072289 | AD18: 1146 | AE18: 1122 | AF18: 1104 | AH18: 611 | AI18: 589 | AJ18: 573 | AL18: 422497.5 | AM18: 475441.27 | AN18: 491893.02 | AP18: 71804.8 | AQ18: 47693.65 | AR18: 77488.48 | AT18: 590061.42 | AU18: 547530.7 | AV18: 498211.2 | AX18: 491908.1 | AY18: 567815.15 | AZ18: 661180.49 | BB18: 75796.44 | BC18: 78786.84 | BD18: 78715.2 | BF18: 51006.28 | BG18: 50695.23 | BH18: 51077.22 | BJ18: 1576271.8 | BK18: 1638480.8 | BL18: 1728773.2 | BM18: 90292.42 | BN18: 70.928845 | BP18: 1703074.5 | BQ18: 1767962.8 | BR18: 1807488.4 | BS18: 39525.55 | BT18: 31.049136
A19: 47 | B19: 19 | C19: 19 | D19: Enontekiö | E19: 1771 | F19: 1762 | G19: 1769 | I19: 61 | J19: 60 | K19: 61 | M19: 10 | N19: 7 | O19: 9 | Q19: 95 | R19: 85 | S19: 68 | T19: 0.89705882 | U19: 57 | V19: 63 | W19: 64 | Y19: 223 | Z19: 215 | AA19: 202 | AB19: -13 | AC19: -0.060465116 | AD19: 1548 | AE19: 1547 | AF19: 1567 | AH19: 957 | AI19: 956 | AJ19: 972 | AL19: 515446.95 | AM19: 538235.4 | AN19: 555656.93 | AP19: 89756 | AQ19: 66771.11 | AR19: 87174.54 | AT19: 718664.55 | AU19: 694628.5 | AV19: 564639.36 | AX19: 737862.15 | AY19: 872496.45 | AZ19: 900330.88 | BB19: 102384.72 | BC19: 108630.34 | BD19: 111727.1 | BF19: 79890.36 | BG19: 82282.92 | BH19: 86644.08 | BJ19: 2061729.6 | BK19: 2172131.5 | BL19: 2107801.7 | BM19: -64329.75 | BN19: -36.365037 | BP19: 2244004.7 | BQ19: 2363044.7 | BR19: 2219528.8 | BS19: -143515.91 | BT19: -81.12827
A20: 49 | B20: 1 | C20: 33 | D20: Espoo | E20: 314024 | F20: 320931 | G20: 325716 | I20: 20404 | J20: 20732 | K20: 20970 | M20: 3591 | N20: 3531 | O20: 3447 | Q20: 23660 | R20: 23553 | S20: 23273 | T20: 0.90104413 | U20: 11989 | V20: 12331 | W20: 12559 | Y20: 59644 | Z20: 60147 | AA20: 60249 | AB20: 102 | AC20: 0.0016958452 | AD20: 254380 | AE20: 260784 | AF20: 265467 | AH20: 199024 | AI20: 204100 | AJ20: 207416 | AL20: 1.7241278e+08 | AM20: 1.8597827e+08 | AN20: 1.9101846e+08 | AP20: 32231380 | AQ20: 33681256 | AR20: 33387849 | AT20: 1.789853e+08 | AU20: 1.9247747e+08 | AV20: 1.9324782e+08 | AX20: 1.5519701e+08 | AY20: 1.7077387e+08 | AZ20: 1.7667587e+08 | BB20: 16824693 | BC20: 18312252 | BD20: 18927797 | BF20: 16614524 | BG20: 17566887 | BH20: 18489062 | BJ20: 5.3882646e+08 | BK20: 5.8291087e+08 | BL20: 5.9432999e+08 | BM20: 11419126 | BN20: 35.058536 | BP20: 5.7226568e+08 | BQ20: 6.1879001e+08 | BR20: 6.1325779e+08 | BS20: -5532216.4 | BT20: -16.984786
A21: 50 | B21: 4 | C21: 4 | D21: Eura | E21: 11184 | F21: 11084 | G21: 11005 | I21: 484 | J21: 485 | K21: 477 | M21: 93 | N21: 88 | O21: 81 | Q21: 750 | R21: 720 | S21: 685 | T21: 0.69635036 | U21: 409 | V21: 415 | W21: 389 | Y21: 1736 | Z21: 1708 | AA21: 1632 | AB21: -76 | AC21: -0.044496487 | AD21: 9448 | AE21: 9376 | AF21: 9373 | AH21: 5891 | AI21: 5826 | AJ21: 5741 | AL21: 4089775.8 | AM21: 4350736.2 | AN21: 4345055 | AP21: 834730.8 | AQ21: 839408.24 | AR21: 784570.86 | AT21: 5673667.5 | AU21: 5883912 | AV21: 5687911.2 | AX21: 5294484.6 | AY21: 5747397.2 | AZ21: 5472323.6 | BB21: 624890.72 | BC21: 658382.72 | BD21: 668294.9 | BF21: 491780.68 | BG21: 501443.82 | BH21: 511752.74 | BJ21: 15892659 | BK21: 16821454 | BL21: 16289861 | BM21: -531592.94 | BN21: -48.304674 | BP21: 17009330 | BQ21: 17981280 | BR21: 16958156 | BS21: -1023124.6 | BT21: -92.969067
... A302: 992 | B302: 13 | C302: 13 | D302: Äänekoski | E302: 17971 | F302: 17740 | G302: 17492 | I302: 782 | J302: 742 | K302: 711 | M302: 156 | N302: 152 | O302: 147 | Q302: 1179 | R302: 1131 | S302: 1075 | T302: 0.66139535 | U302: 660 | V302: 661 | W302: 662 | Y302: 2777 | Z302: 2686 | AA302: 2595 | AB302: -91 | AC302: -0.033879375 | AD302: 15194 | AE302: 15054 | AF302: 14897 | AH302: 9414 | AI302: 9210 | AJ302: 9009 | AL302: 6607860.9 | AM302: 6656177.8 | AN302: 6476591.4 | AP302: 1400193.6 | AQ302: 1449887 | AR302: 1423850.8 | AT302: 8919005.3 | AU302: 9242645.1 | AV302: 8926284 | AX302: 8543667 | AY302: 9154288.2 | AZ302: 9312797.5 | BB302: 1004931.2 | BC302: 1057091.9 | BD302: 1062156.1 | BF302: 785880.72 | BG302: 792704.7 | BH302: 803062.26 | BJ302: 25470727 | BK302: 26502998 | BL302: 26139524 | BM302: -363474.2 | BN302: -20.779453 | BP302: 27261539 | BQ302: 28352795 | BR302: 27201680 | BS302: -1151114.7 | BT302: -65.808065

Sheet 7. Sote-erät
A1: Sote-erät vuosien 2023-27 valtionosuuksissa* | AV1: Sote-erät vuosien 2023-27 valtionosuuksissa
A2: * Sote-erät ei ole virallinen valtionosuustermi, mutta käytetään tässä yleisnimityksenä ja kuvaavat sekä kuntakohtaisia että kaikille kunnille yhteisiä sote-uudistuksen seurauksena tulleita valtionosuuden osatekijöitä. | AV2: €/asukas
A3: Sote-uudistuksen muutosrajoitin ja järjestelmämuutoksen tasaus ovat kuntakohtaisesti yksilöllisiä ja tasaavat sote-uudistuksen vaikutusta kunnan taloudelliseen asemaan. Ne sisältyvät peruspalvelujen valtionosuuteen ja yksityiskohtaisessa valtionosuuslaskelmassa (VM) valtionosuuksien lisäyksiin ja vähennyksiin.
A4: Vuonna 2024 mukaan tuli kaikille kunnille asukasta kohti yhtä suuri jälkitarkistuksesta johtuva valtionosuuden pysyvä lisäsiirtotarve (-501 milj.€ /-90 €/as.) sekä määräaikainen lisäys kompensoimaan lisäsiirtotarpeen muutosta (+192 milj. € / +35 €/as.)
A5: Koska tuo sote-siirtolaskelman jälkitarkistus valmistui vasta vuonna 2023, kunnat saivat sinä vuonna tuon 501 miljoonaa euroa liikaa valtionosuuksia. Tuo summa vähennetään kunnilta kolmanneksen osuuksina vuosina 2025-27 eli n. -167 milj. €/vuosi.
A6: Jälkitarkistuksesta johtuva pysyvä lisäsiirtotarve (-501 milj. €) on pysyvä. Tämä erä kuitenkin poistettiin vuonna 2025 VM:n vos-laskelman lisäyksistä ja vähennyksistä ja ns. siirrettiin valtionosuusprosenttiin eli leikkaa valtionosuutta kasvattamalla kunnan omarahoitusosuutta 90 €/as.
A7: Tätä pysyvän lisäsiirtotarpeen vaikutusta tasattiin korottamalla kuntien valtionosuuksia 277 milj. € vuodesta 2025 alkaen. Myös tämä vietiin valtionosuusprosenttiin ja se vastaavasti pienentää kunnan omarahoitusosuutta 50 €/asukas. Pysyvän vähennyksen ja tämän lisäyksen nettovaikutus (-501 milj. € +277 milj.€) vuodesta 2025 alkaen on siten -224 milj.€ eli vuonna 2025 noin 40 €/asukas.
A8: Lisäksi kunnilta peritään takaisin vuonna 2024 saatu määräaikainen 192 milj. € lisäys kolmanneksen osuuksina vuosina 2025-27 eli -64 milj. €/vuosi. Tämäkin erä näkyy VM:n valtionosuuslaskelman lisäyksissä ja vähennyksissä vuodesta 2025 alkaen.
A9: Kunta-nro | B9: Maakunta-nro | C9: Hyvin-vointi-alue-nro | D9: Kunta | E9: Asukasluku 31.12.2021 | F9: Asukasluku 31.12.2022 | G9: Asukasluku 31.12.2023 | H9: Asukasluku 31.12.2024 | I9: Asukasluku 31.12.2025 | K9: Sote-uudistuksen muutosrajoitin 2023 | L9: Sote-uudistuksen järjestelmä-muutoksen tasaus vuodelle 2023 | M9: Sote-erät yhteensä 2023 | O9: Sote-uudistuksen muutosrajoitin 2024 | P9: Sote-uudistuksen järjestelmä-muutoksen tasaus vuodelle 2024 | Q9: Kuntakohtaiset sote-erät (muutosrajoitin ja järjestelmämuutoksen tasaus) yhteensä 2024 | S9: Jälkikäteis-tarkistuksesta johtuva valtionosuuden pysyvä lisäsiirtotarve 2024 | T9: Määräaikainen lisäys kompensoimaan lisäsiirtotarpeen muutosta 2024 | U9: Kaikille kunnille €/as. tasasuuruiset sote-erät yhteensä 2024 | W9: Sote-uudistuksen muutosrajoitin 2025 | X9: Sote-uudistuksen järjestelmämuutoksen tasaus vuodelle 2025 | Y9: Kuntakohtaiset sote-erät (muutosrajoitin ja järjestelmämuutoksen tasaus) yhteensä 2025 | AA9: Jälkikäteistarkistuksesta johtuva valtionosuuden lisäsiirtotarve vuodelta 2023, 501 milj. € (1/3) 2025 | AB9: Määräaikaisen v. 2024 tehdyn lisäyksen takaisinperintä (1/3) 2025 | AC9: Omarahoitusosuuteen viety pysyvä vähennys (-90 €/as.) ja vos-lisäys (+50 €/as.) | AD9: Kaikille kunnille €/as. tasasuuruiset sote-erät ja vos-vaikutus yhteensä 2025 | AF9: Sote-uudistuksen muutosrajoitin 2026 | AG9: Sote-uudistuksen järjestelmämuutoksen tasaus vuodelle 2026 | AH9: Kuntakohtaiset sote-erät (muutosrajoitin ja järjestelmämuutoksen tasaus) yhteensä 2026 | AJ9: Jälkikäteistarkistuksesta johtuva valtionosuuden lisäsiirtotarve vuodelta 2023, 501 milj. € (1/3) 2026 | AK9: Määräaikaisen v 2024 tehdyn lisäyksen takaisinperintä (1/3) 2026 | AL9: Kaikille kunnille €/as. tasasuuruiset sote-erät (ei vos-vaikutusta) yhteensä 2026 | AN9: Sote-uudistuksen muutosrajoitin 2027 | AO9: Sote-uudistuksen järjestelmämuutoksen tasaus vuodelle 2027 | AP9: Kuntakohtaiset sote-erät (muutosrajoitin ja järjestelmämuutoksen tasaus) yhteensä 2027 | AR9: Jälkikäteistarkistuksesta johtuva valtionosuuden lisäsiirtotarve vuodelta 2023, 501 milj. € (1/3) 2027 | AS9: Määräaikaisen v 2024 tehdyn lisäyksen takaisinperintä (1/3) 2027 | AT9: Kaikille kunnille €/as. tasasuuruiset sote-erät (ei vos-vaikutusta) yhteensä 2027 | AV9: Sote-uudistuksen muutosrajoitin 2023 | AW9: Sote-uudistuksen järjestelmä-muutoksen tasaus vuodelle 2023 | AX9: Sote-erät yhteensä 2023 | AZ9: Sote-uudistuksen muutosrajoitin 2024 | BA9: Sote-uudistuksen järjestelmä-muutoksen tasaus vuodelle 2024 | BB9: Kuntakohtaiset sote-erät (muutosrajoitin ja järjestelmämuutoksen tasaus) yhteensä 2024 | BD9: Jälkikäteis-tarkistuksesta johtuva valtionosuuden pysyvä lisäsiirtotarve 2024 | BE9: Määräaikainen lisäys kompensoimaan lisäsiirtotarpeen muutosta 2024 | BF9: Kaikille kunnille €/as. tasasuuruiset sote-erät yhteensä 2024 | BH9: Sote-uudistuksen muutosrajoitin 2025 | BI9: Sote-uudistuksen järjestelmämuutoksen tasaus vuodelle 2025 | BJ9: Kuntakohtaiset sote-erät (muutosrajoitin ja järjestelmämuutoksen tasaus) yhteensä 2025 | BL9: Jälkikäteistarkistuksesta johtuva valtionosuuden lisäsiirtotarve vuodelta 2023, 501 milj. € (1/3) 2025 | BM9: Määräaikaisen v. 2024 tehdyn lisäyksen takaisinperintä (1/3) 2025 | BN9: Omarahoitusosuuteen viety pysyvä vähennys (-90 €/as.) ja vos-lisäys (+50 €/as.) | BO9: Kaikille kunnille €/as. tasasuuruiset sote-erät ja vos-vaikutus yhteensä 2025 | BQ9: Sote-uudistuksen muutosrajoitin 2026 | BR9: Sote-uudistuksen järjestelmämuutoksen tasaus vuodelle 2026 | BS9: Kuntakohtaiset sote-erät (muutosrajoitin ja järjestelmämuutoksen tasaus) yhteensä 2026 | BU9: Jälkikäteistarkistuksesta johtuva valtionosuuden lisäsiirtotarve vuodelta 2023, 501 milj. € (1/3) 2026 | BV9: Määräaikaisen v 2024 tehdyn lisäyksen takaisinperintä (1/3) 2026 | BW9: Kaikille kunnille €/as. tasasuuruiset sote-erät (ei vos-vaikutusta) yhteensä 2026 | BY9: Sote-uudistuksen muutosrajoitin 2027 | BZ9: Sote-uudistuksen järjestelmämuutoksen tasaus vuodelle 2027 | CA9: Kuntakohtaiset sote-erät (muutosrajoitin ja järjestelmämuutoksen tasaus) yhteensä 2027 | CC9: Jälkikäteistarkistuksesta johtuva valtionosuuden lisäsiirtotarve vuodelta 2023, 501 milj. € (1/3) 2027 | CD9: Määräaikaisen v 2024 tehdyn lisäyksen takaisinperintä (1/3) 2027 | CE9: Kaikille kunnille €/as. tasasuuruiset sote-erät (ei vos-vaikutusta) yhteensä 2027
B10: 0 | C10: 0 | D10: YHTEENSÄ | E10: 5517897 | F10: 5533611 | G10: 5573310 | H10: 5605317 | I10: 5622045 | K10: -1081401 | L10: 1673009.2 | M10: 591608.27 | O10: 0.16800949 | P10: 349323.86 | Q10: 349324.03 | S10: -5.0118477e+08 | T10: 192000000 | U10: -3.0918477e+08 | W10: 0.27999702 | X10: -5.9488229e-08 | Y10: 0.27999696 | AA10: -1.6708783e+08 | AB10: -63981599 | AC10: -2.2418477e+08 | AD10: -4.552542e+08 | AF10: 0.27999702 | AG10: 9.273208e-09 | AH10: 0.27999703 | AJ10: -1.6703845e+08 | AK10: -64012720 | AL10: -2.3105117e+08 | AN10: 0.27999702 | AO10: 1.5657861e-08 | AP10: 0.27999703 | AR10: -1.6708718e+08 | AS10: -63978872 | AT10: -2.3106605e+08 | AV10: -0.19598063 | AW10: 0.30319689 | AX10: 0.10721626 | AZ10: 3.0361638e-08 | BA10: 0.063127651 | BB10: 0.063127681 | BD10: -90.571016 | BE10: 34.697054 | BF10: -55.873962 | BH10: 5.0238909e-08 | BI10: -1.067377e-14 | BJ10: 5.0238899e-08 | BL10: -29.98 | BM10: -11.48 | BN10: -40.224708 | BO10: -81.684708 | BQ10: 4.9952039e-08 | BR10: 1.6543592e-15 | BS10: 4.9952041e-08 | BU10: -29.8 | BV10: -11.42 | BW10: -41.22 | BY10: 4.9803411e-08 | BZ10: 2.7850828e-15 | CA10: 4.9803413e-08 | CC10: -29.72 | CD10: -11.38 | CE10: -41.1
A11: 5 | B11: 14 | C11: 14 | D11: Alajärvi | E11: 9311 | F11: 9183 | G11: 9113 | H11: 9078 | I11: 8982 | K11: 1357610.1 | L11: 156590.91 | M11: 1514201 | O11: 1109106.1 | P11: 4221.0551 | Q11: 1113327.2 | S11: -831713.64 | T11: 318623.05 | U11: -513090.59 | W11: 1109106.1 | X11: -18749.159 | Y11: 1090357 | AA11: -273207.74 | AB11: -104617.24 | AC11: -366524.86 | AD11: -744349.84 | AF11: 1109106.1 | AG11: -38813.889 | AH11: 1070292.2 | AJ11: -270524.4 | AK11: -103670.76 | AL11: -374195.16 | AN11: 1109106.1 | AO11: -51725.025 | AP11: 1057381.1 | AR11: -266945.04 | AS11: -102215.16 | AT11: -369160.2 | AV11: 145.80712 | AW11: 16.81784 | AX11: 162.62496 | AZ11: 120.77819 | BA11: 0.45965971 | BB11: 121.23785 | BD11: -90.571016 | BE11: 34.697054 | BF11: -55.873962 | BH11: 121.70593 | BI11: -2.057408 | BJ11: 119.64852 | BL11: -29.98 | BM11: -11.48 | BN11: -40.22 | BO11: -81.68 | BQ11: 122.17516 | BR11: -4.2755992 | BS11: 117.89956 | BU11: -29.8 | BV11: -11.42 | BW11: -41.22 | BY11: 123.48098 | BZ11: -5.7587425 | CA11: 117.72223 | CC11: -29.72 | CD11: -11.38 | CE11: -41.1
A12: 9 | B12: 17 | C12: 17 | D12: Alavieska | E12: 2491 | F12: 2447 | G12: 2437 | H12: 2410 | I12: 2384 | K12: 413751.3 | L12: 30410.714 | M12: 444162.01 | O12: 507818.31 | P12: 46084.804 | Q12: 553903.11 | S12: -221627.28 | T12: 84903.691 | U12: -136723.58 | W12: 507818.31 | X12: 3258.9165 | Y12: 511077.22 | AA12: -73061.26 | AB12: -27976.76 | AC12: -98016.14 | AD12: -199054.16 | AF12: 507818.31 | AG12: -10342.762 | AH12: 497475.54 | AJ12: -71818 | AK12: -27522.2 | AL12: -99340.2 | AN12: 507818.31 | AO12: -13783.201 | AP12: 494035.1 | AR12: -70852.48 | AS12: -27129.92 | AT12: -97982.4 | AV12: 166.09847 | AW12: 12.208235 | AX12: 178.30671 | AZ12: 207.52689 | BA12: 18.833185 | BB12: 226.36008 | BD12: -90.571016 | BE12: 34.697054 | BF12: -55.873962 | BH12: 208.37846 | BI12: 1.3372657 | BJ12: 209.71572 | BL12: -29.98 | BM12: -11.48 | BN12: -40.22 | BO12: -81.68 | BQ12: 210.71299 | BR12: -4.2916026 | BS12: 206.42139 | BU12: -29.8 | BV12: -11.42 | BW12: -41.22 | BY12: 213.01103 | BZ12: -5.7815441 | CA12: 207.22949 | CC12: -29.72 | CD12: -11.38 | CE12: -41.1
A13: 10 | B13: 14 | C13: 14 | D13: Alavus | E13: 11197 | F13: 11102 | G13: 10933 | H13: 10780 | I13: 10634 | K13: 449394.51 | L13: -604146.34 | M13: -154751.83 | O13: -338822.05 | P13: -1009490.8 | Q13: -1348312.8 | S13: -1005519.4 | T13: 385206.69 | U13: -620312.72 | W13: -338822.05 | X13: -870731.15 | Y13: -1209553.2 | AA13: -327771.34 | AB13: -125510.84 | AC13: -439725.26 | AD13: -893007.44 | AF13: -338822.05 | AG13: -728458.87 | AH13: -1067280.9 | AJ13: -321244 | AK13: -123107.6 | AL13: -444351.6 | AN13: -338822.05 | AO13: -577538.08 | AP13: -916360.13 | AR13: -316042.48 | AS13: -121014.92 | AT13: -437057.4 | AV13: 40.13526 | AW13: -53.95609 | AX13: -13.82083 | AZ13: -30.51901 | BA13: -90.928731 | BB13: -121.44774 | BD13: -90.571016 | BE13: 34.697054 | BF13: -55.873962 | BH13: -30.990766 | BI13: -79.642472 | BJ13: -110.63324 | BL13: -29.98 | BM13: -11.48 | BN13: -40.22 | BO13: -81.68 | BQ13: -31.430617 | BR13: -67.575034 | BS13: -99.005651 | BU13: -29.8 | BV13: -11.42 | BW13: -41.22 | BY13: -31.862145 | BZ13: -54.310521 | CA13: -86.172666 | CC13: -29.72 | CD13: -11.38 | CE13: -41.1
A14: 16 | B14: 7 | C14: 7 | D14: Asikkala | E14: 8033 | F14: 8014 | G14: 7968 | H14: 7889 | I14: 7841 | K14: 3305207.1 | L14: 2894068.9 | M14: 6199276 | O14: 2193579.7 | P14: 1999510.3 | Q14: 4193090.1 | S14: -725836.12 | T14: 278062.19 | U14: -447773.93 | W14: 2193579.7 | X14: 1859254.3 | Y14: 4052834 | AA14: -238880.64 | AB14: -91472.64 | AC14: -320472.96 | AD14: -650826.24 | AF14: 2193579.7 | AG14: 1721533.8 | AH14: 3915113.5 | AJ14: -235092.2 | AK14: -90092.38 | AL14: -325184.58 | AN14: 2193579.7 | AO14: 1590056.2 | AP14: 3783635.9 | AR14: -233034.52 | AS14: -89230.58 | AT14: -322265.1 | AV14: 411.45364 | AW14: 360.27249 | AX14: 771.72613 | AZ14: 273.71846 | BA14: 249.50216 | BB14: 523.22062 | BD14: -90.571016 | BE14: 34.697054 | BF14: -55.873962 | BH14: 275.29866 | BI14: 233.34014 | BJ14: 508.6388 | BL14: -29.98 | BM14: -11.48 | BN14: -40.22 | BO14: -81.68 | BQ14: 278.05548 | BR14: 218.21952 | BS14: 496.275 | BU14: -29.8 | BV14: -11.42 | BW14: -41.22 | BY14: 279.75765 | BZ14: 202.78743 | CA14: 482.54508 | CC14: -29.72 | CD14: -11.38 | CE14: -41.1
A15: 18 | B15: 1 | C15: 32 | D15: Askola | E15: 4847 | F15: 4763 | G15: 4700 | H15: 4651 | I15: 4677 | K15: -455199.65 | L15: -328307.65 | M15: -783507.3 | O15: -455651.56 | P15: -277267.71 | Q15: -732919.27 | S15: -431389.75 | T15: 165262.07 | U15: -266127.68 | W15: -455651.56 | X15: -217736.81 | Y15: -673388.37 | AA15: -140906 | AB15: -53956 | AC15: -189034 | AD15: -383896 | AF15: -455651.56 | AG15: -156698.9 | AH15: -612350.46 | AJ15: -138599.8 | AK15: -53114.42 | AL15: -191714.22 | AN15: -455651.56 | AO15: -91950.59 | AP15: -547602.15 | AR15: -139000.44 | AS15: -53224.26 | AT15: -192224.7 | AV15: -93.913688 | AW15: -67.734197 | AX15: -161.64788 | AZ15: -95.664825 | BA15: -58.21283 | BB15: -153.87766 | BD15: -90.571016 | BE15: 34.697054 | BF15: -55.873962 | BH15: -96.947141 | BI15: -46.32698 | BJ15: -143.27412 | BL15: -29.98 | BM15: -11.48 | BN15: -40.22 | BO15: -81.68 | BQ15: -97.968515 | BR15: -33.691442 | BS15: -131.65996 | BU15: -29.8 | BV15: -11.42 | BW15: -41.22 | BY15: -97.423896 | BZ15: -19.660165 | CA15: -117.08406 | CC15: -29.72 | CD15: -11.38 | CE15: -41.1
A16: 19 | B16: 2 | C16: 2 | D16: Aura | E16: 3955 | F16: 3965 | G16: 3961 | H16: 3966 | I16: 3937 | K16: -90275.155 | L16: -365058.11 | M16: -455333.27 | O16: -363181.43 | P16: -503888.67 | Q16: -867070.1 | S16: -359114.08 | T16: 137573.82 | U16: -221540.26 | W16: -363181.43 | X16: -454331.66 | Y16: -817513.09 | AA16: -118750.78 | AB16: -45472.28 | AC16: -159311.42 | AD16: -323534.48 | AF16: -363181.43 | AG16: -403520.13 | AH16: -766701.56 | AJ16: -118186.8 | AK16: -45291.72 | AL16: -163478.52 | AN16: -363181.43 | AO16: -349619.85 | AP16: -712801.28 | AR16: -117007.64 | AS16: -44803.06 | AT16: -161810.7 | AV16: -22.825577 | AW16: -92.302936 | AX16: -115.12851 | AZ16: -91.59683 | BA16: -127.08415 | BB16: -218.68098 | BD16: -90.571016 | BE16: 34.697054 | BF16: -55.873962 | BH16: -91.689329 | BI16: -114.70125 | BJ16: -206.39058 | BL16: -29.98 | BM16: -11.48 | BN16: -40.22 | BO16: -81.68 | BQ16: -91.573734 | BR16: -101.74486 | BS16: -193.3186 | BU16: -29.8 | BV16: -11.42 | BW16: -41.22 | BY16: -92.248268 | BZ16: -88.803619 | CA16: -181.05189 | CC16: -29.72 | CD16: -11.38 | CE16: -41.1
A17: 20 | B17: 6 | C17: 6 | D17: Akaa | E17: 16467 | F17: 16473 | G17: 16405 | H17: 16387 | I17: 16429 | K17: -1559634.3 | L17: -1707264.5 | M17: -3266898.8 | O17: -2785117.3 | P17: -2345324.6 | Q17: -5130441.9 | S17: -1491976.3 | T17: 571564.57 | U17: -920411.77 | W17: -2785117.3 | X17: -2139434.9 | Y17: -4924552.2 | AA17: -491821.9 | AB17: -188329.4 | AC17: -659809.1 | AD17: -1339960.4 | AF17: -2785117.3 | AG17: -1928333.2 | AH17: -4713450.5 | AJ17: -488332.6 | AK17: -187139.54 | AL17: -675472.14 | AN17: -2785117.3 | AO17: -1704398.9 | AP17: -4489516.3 | AR17: -488269.88 | AS17: -186962.02 | AT17: -675231.9 | AV17: -94.712716 | AW17: -103.67793 | AX17: -198.39065 | AZ17: -169.07165 | BA17: -142.37386 | BB17: -311.44551 | BD17: -90.571016 | BE17: 34.697054 | BF17: -55.873962 | BH17: -169.77247 | BI17: -130.41359 | BJ17: -300.18606 | BL17: -29.98 | BM17: -11.48 | BN17: -40.22 | BO17: -81.68 | BQ17: -169.95895 | BR17: -117.67457 | BS17: -287.63352 | BU17: -29.8 | BV17: -11.42 | BW17: -41.22 | BY17: -169.52446 | BZ17: -103.74332 | CA17: -273.26777 | CC17: -29.72 | CD17: -11.38 | CE17: -41.1
A18: 46 | B18: 10 | C18: 10 | D18: Enonkoski | E18: 1362 | F18: 1341 | G18: 1320 | H18: 1288 | I18: 1273 | K18: 423169.39 | L18: 341345.81 | M18: 764515.19 | O18: 386486.76 | P18: 291127.66 | Q18: 677614.42 | S18: -121455.73 | T18: 46528.749 | U18: -74926.982 | W18: 386486.76 | X18: 267658.31 | Y18: 654145.07 | AA18: -39573.6 | AB18: -15153.6 | AC18: -53090.4 | AD18: -107817.6 | AF18: 386486.76 | AG18: 244613.24 | AH18: 631100 | AJ18: -38382.4 | AK18: -14708.96 | AL18: -53091.36 | AN18: 386486.76 | AO18: 222612.82 | AP18: 609099.58 | AR18: -37833.56 | AS18: -14486.74 | AT18: -52320.3 | AV18: 310.69705 | AW18: 250.621 | AX18: 561.31806 | AZ18: 288.20787 | BA18: 217.09744 | BB18: 505.30531 | BD18: -90.571016 | BE18: 34.697054 | BF18: -55.873962 | BH18: 292.793 | BI18: 202.77144 | BJ18: 495.56444 | BL18: -29.98 | BM18: -11.48 | BN18: -40.22 | BO18: -81.68 | BQ18: 300.06736 | BR18: 189.91711 | BS18: 489.98447 | BU18: -29.8 | BV18: -11.42 | BW18: -41.22 | BY18: 303.60311 | BZ18: 174.8726 | CA18: 478.47571 | CC18: -29.72 | CD18: -11.38 | CE18: -41.1
A19: 47 | B19: 19 | C19: 19 | D19: Enontekiö | E19: 1789 | F19: 1811 | G19: 1771 | H19: 1762 | I19: 1769 | K19: -40129.628 | L19: 668980.34 | M19: 628850.71 | O19: -127873.58 | P19: 575923.39 | Q19: 448049.81 | S19: -164024.11 | T19: 62836.365 | U19: -101187.74 | W19: -127873.58 | X19: 544228.39 | Y19: 416354.8 | AA19: -53094.58 | AB19: -20331.08 | AC19: -71229.62 | AD19: -144655.28 | AF19: -127873.58 | AG19: 513106.38 | AH19: 385232.79 | AJ19: -52507.6 | AK19: -20122.04 | AL19: -72629.64 | AN19: -127873.58 | AO19: 483395.14 | AP19: 355521.56 | AR19: -52574.68 | AS19: -20131.22 | AT19: -72705.9 | AV19: -22.431318 | AW19: 373.94094 | AX19: 351.50962 | AZ19: -70.609378 | BA19: 318.01402 | BB19: 247.40464 | BD19: -90.571016 | BE19: 34.697054 | BF19: -55.873962 | BH19: -72.204169 | BI19: 307.30005 | BJ19: 235.09588 | BL19: -29.98 | BM19: -11.48 | BN19: -40.22 | BO19: -81.68 | BQ19: -72.572976 | BR19: 291.2068 | BS19: 218.63382 | BU19: -29.8 | BV19: -11.42 | BW19: -41.22 | BY19: -72.285802 | BZ19: 273.25898 | CA19: 200.97318 | CC19: -29.72 | CD19: -11.38 | CE19: -41.1
A20: 49 | B20: 1 | C20: 34 | D20: Espoo | E20: 297132 | F20: 305274 | G20: 314024 | H20: 320931 | I20: 325716 | K20: 85654835 | L20: 30661654 | M20: 1.1631649e+08 | O20: 1.1640318e+08 | P20: 45355131 | Q20: 1.6175831e+08 | S20: -27648976 | T20: 10592108 | U20: -17056868 | W20: 1.1640318e+08 | X20: 40012414 | Y20: 1.5641559e+08 | AA20: -9414439.5 | AB20: -3604995.5 | AC20: -12630045 | AD20: -25649480 | AF20: 1.1640318e+08 | AG20: 34766284 | AH20: 1.5116946e+08 | AJ20: -9563743.8 | AK20: -3665032 | AL20: -13228776 | AN20: 1.1640318e+08 | AO20: 29757964 | AP20: 1.4616114e+08 | AR20: -9680279.5 | AS20: -3706648.1 | AT20: -13386928 | AV20: 288.272 | AW20: 103.19203 | AX20: 391.46403 | AZ20: 381.30722 | BA20: 148.57188 | BB20: 529.8791 | BD20: -90.571016 | BE20: 34.697054 | BF20: -55.873962 | BH20: 370.68243 | BI20: 127.41833 | BJ20: 498.10076 | BL20: -29.98 | BM20: -11.48 | BN20: -40.22 | BO20: -81.68 | BQ20: 362.70469 | BR20: 108.32947 | BS20: 471.03416 | BU20: -29.8 | BV20: -11.42 | BW20: -41.22 | BY20: 357.3763 | BZ20: 91.361691 | CA20: 448.738 | CC20: -29.72 | CD20: -11.38 | CE20: -41.1
A21: 50 | B21: 4 | C21: 4 | D21: Eura | E21: 11417 | F21: 11276 | G21: 11184 | H21: 11084 | I21: 11005 | K21: 92375.647 | L21: 60286.298 | M21: 152661.94 | O21: -901823.83 | P21: -480701.99 | Q21: -1382525.8 | S21: -1021278.8 | T21: 391243.98 | U21: -630034.79 | W21: -901823.83 | X21: -339767.61 | Y21: -1241591.4 | AA21: -335296.32 | AB21: -128392.32 | AC21: -449820.48 | AD21: -913509.12 | AF21: -901823.83 | AG21: -195265.51 | AH21: -1097089.3 | AJ21: -330303.2 | AK21: -126579.28 | AL21: -456882.48 | AN21: -901823.83 | AO21: -63514.253 | AP21: -965338.08 | AR21: -327068.6 | AS21: -125236.9 | AT21: -452305.5 | AV21: 8.0910613 | AW21: 5.2803975 | AX21: 13.371459 | AZ21: -79.977282 | BA21: -42.630542 | BB21: -122.60782 | BD21: -90.571016 | BE21: 34.697054 | BF21: -55.873962 | BH21: -80.635178 | BI21: -30.379793 | BJ21: -111.01497 | BL21: -29.98 | BM21: -11.48 | BN21: -40.22 | BO21: -81.68 | BQ21: -81.36267 | BR21: -17.616881 | BS21: -98.979551 | BU21: -29.8 | BV21: -11.42 | BW21: -41.22 | BY21: -81.946736 | BZ21: -5.7713996 | CA21: -87.718136 | CC21: -29.72 | CD21: -11.38 | CE21: -41.1
A22: 51 | B22: 4 | C22: 4 | D22: Eurajoki | E22: 9334 | F22: 9211 | G22: 9143 | H22: 9052 | I22: 8920 | K22: -3965481.2 | L22: -4472680.1 | M22: -8438161.2 | O22: -4094168.4 | P22: -4459003.6 | Q22: -8553172 | S22: -834249.62 | T22: 319594.56 | U22: -514655.06 | W22: -4094168.4 | X22: -4343878.8 | Y22: -8438047.2 | AA22: -274107.14 | AB22: -104961.64 | AC22: -367731.46 | AD22: -746800.24 | AF22: -4094168.4 | AG22: -4225839.7 | AH22: -8320008.2 | AJ22: -269749.6 | AK22: -103373.84 | AL22: -373123.44 | AN22: -4094168.4 | AO22: -4100625.2 | AP22: -8194793.7 | AR22: -265102.4 | AS22: -101509.6 | AT22: -366612 | AV22: -424.84264 | AW22: -479.18149 | AX22: -904.02413 | AZ22: -444.48686 | BA22: -484.09549 | BB22: -928.58235 | BD22: -90.571016 | BE22: 34.697054 | BF22: -55.873962 | BH22: -447.79268 | BI22: -475.10432 | BJ22: -922.897 | BL22: -29.98 | BM22: -11.48 | BN22: -40.22 | BO22: -81.68 | BQ22: -452.29435 | BR22: -466.84045 | BS22: -919.13479 | BU22: -29.8 | BV22: -11.42 | BW22: -41.22 | BY22: -458.98749 | BZ22: -459.71135 | CA22: -918.69884 | CC22: -29.72 | CD22: -11.38 | CE22: -41.1
... A302: 992 | B302: 13 | C302: 13 | D302: Äänekoski | E302: 18318 | F302: 18120 | G302: 17971 | H302: 17740 | I302: 17492 | K302: 3464287.4 | L302: 3425570.9 | M302: 6889858.3 | O302: -217370.52 | P302: 623408.77 | Q302: 406038.26 | S302: -1641146.8 | T302: 628710.62 | U302: -1012436.2 | W302: -217370.52 | X302: 306283.69 | Y302: 88913.171 | AA302: -538770.58 | AB302: -206307.08 | AC302: -722793.62 | AD302: -1467871.3 | AF302: -217370.52 | AG302: -5108.2669 | AH302: -222478.78 | AJ302: -528652 | AK302: -202590.8 | AL302: -731242.8 | AN302: -217370.52 | AO302: -102064.41 | AP302: -319434.92 | AR302: -519862.24 | AS302: -199058.96 | AT302: -718921.2 | AV302: 189.1193 | AW302: 187.00573 | AX302: 376.12503 | AZ302: -11.996165 | BA302: 34.404458 | BB302: 22.408292 | BD302: -90.571016 | BE302: 34.697054 | BF302: -55.873962 | BH302: -12.095627 | BI302: 17.043219 | BJ302: 4.9475917 | BL302: -29.98 | BM302: -11.48 | BN302: -40.22 | BO302: -81.68 | BQ302: -12.253129 | BR302: -0.28795191 | BS302: -12.541081 | BU302: -29.8 | BV302: -11.42 | BW302: -41.22 | BY302: -12.426853 | BZ302: -5.8349193 | CA302: -18.261772 | CC302: -29.72 | CD302: -11.38 | CE302: -41.1

Sheet 8. Kotikuntakorvaukset
A1: Kotikuntakorvaustulot ja -menot vuonna 2027
A2: Oppilastiedot 15.12.2025 mukaisia (VM syyskuu 2026)
A3: Perusosa vuodelle 2027 on 9225,51 €/oppilas
A4: (Taulukko päivitetty 1.10.2026 - poistettu ei-kuntajärjestäjien kotikuntakorvaukset)
A5: Valtio maksaa kotikuntakorvauksen vailla kotikuntaa (maahanmuuttajat, joilla ei vielä vakinaista kotikuntaa) olevien osalta (n. 16 M€).
A6: Kotikuntakorvaukset ovat kunnille nettona negatiivisia, koska kotikuntakorvauksia ohjautuu myös muille opetuksen kuin toisille kunnille.
A7: Näitä ovat valtio, yliopistot, yksityiset sekä kuntayhtymät. Näiden muiden saamat kotikuntakorvaukset löytyvät VM:n vos-laskelmasta.
A9: Kuntanro | B9: Kunta | C9: Tulot | D9: Menot | E9: Netto
B10: Kunnat yhteensä | C10: =SUM(C11:C302) -> 1.5512474e+08 | D10: =SUM(D11:D302) -> 4.2693538e+08 | E10: =SUM(E11:E302) -> -2.7181064e+08
A11: 5 | B11: Alajärvi | C11: 335900.82 | D11: 856311.84 | E11: -520411.02
A12: 9 | B12: Alavieska | C12: 157018.18 | D12: 46127.55 | E12: 110890.63
A13: 10 | B13: Alavus | C13: 160616.13 | D13: 240047.77 | E13: -79431.641
A14: 16 | B14: Asikkala | C14: 760458.79 | D14: 287042.52 | E14: 473416.27
A15: 18 | B15: Askola | C15: 1053553.2 | D15: 346971.43 | E15: 706581.81
A16: 19 | B16: Aura | C16: 293647.98 | D16: 237132.51 | E16: 56515.474
A17: 20 | B17: Akaa | C17: 500299.41 | D17: 596429.22 | E17: -96129.814
A18: 46 | B18: Enonkoski | C18: 559158.16 | D18: 18451.02 | E18: 540707.14
A19: 47 | B19: Enontekiö | C19: 18451.02 | D19: 71958.978 | E19: -53507.958
A20: 49 | B20: Espoo | C20: 3762070.7 | D20: 23188519 | E20: -19426448
A21: 50 | B21: Eura | C21: 511277.76 | D21: 150671.03 | E21: 360606.73
A22: 51 | B22: Eurajoki | C22: 424465.72 | D22: 409797.15 | E22: 14668.561
... A302: 992 | B302: Äänekoski | C302: 295493.09 | D302: 261303.35 | E302: 34189.74

Sheet 9. Perus- ja yksikköhinnat
A1: 46287
A2: Kunnan peruspalvelujen valtionosuuden perushinnat 2015-27
A3: Lähde: VM / KL
D5: 2015 | E5: 2016 | F5: 2017 | G5: 2018 | H5: 2019 | I5: 2020 | J5: 2021 | K5: 2022 | L5: 2023 | M5: 2024 | N5: 2025 | O5: 2026 | P5: 2027 | Q5: Muutos % 2026-27
B6: Valtionosuusprosentti | D6: 25.44 | E6: 25.61 | F6: 25.23 | G6: 25.34 | H6: 25.37 | I6: 25.49 | J6: 25.67 | K6: 23.59 | L6: 22.09 | M6: 21.92 | N6: 25.02 | O6: 25.72 | P6: 25.27
B7: Kunnan omarahoitusosuus, €/asukas | D7: -3520.93 | E7: -3636.07 | F7: -3627.38 | G7: -3599.08 | H7: -3524.51 | I7: -3654.97 | J7: -3747.29 | K7: -4291.07 | L7: -1359.93 | M7: -1388.69 | N7: -1467.53 | O7: -1548.77 | P7: -1584.69 | Q7: =P7/O7-1 -> 0.023192598
D9: euroa | E9: euroa | F9: euroa | G9: euroa | H9: euroa | I9: euroa | J9: euroa | K9: euroa | L9: euroa | M9: euroa | N9: euroa | O9: euroa | P9: euroa
B10: Ikärakenne
C11: ikä 0-5 | D11: 8483.82 | E11: 8635.58 | F11: 8399.03 | G11: 8333.6 | H11: 8172.53 | I11: 8511.95 | J11: 8761.95 | K11: 9713.3 | L11: 8010.94 | M11: 8186.31 | N11: 8449.95 | O11: 8970.59 | P11: 9109.13 | Q11: =P11/O11-1 -> 0.0154438
C12: ikä 6 | D12: 8947.47 | E12: 9156.28 | F12: 8904.17 | G12: 8842.7 | H12: 8677.28 | I12: 9043.62 | J12: 9284.9 | K12: 10305.71 | L12: 8499.51 | M12: 8686.5 | N12: 8975.6 | O12: 9538.74 | P12: 9686.06 | Q12: =P12/O12-1 -> 0.015444388
C13: ikä 7-12 | D13: 7269.02 | E13: 7513.12 | F13: 7459.07 | G13: 7410.99 | H13: 7277.45 | I13: 7573.36 | J13: 7759.16 | K13: 8596.3 | L13: 7071.51 | M13: 7231.33 | N13: 7564.89 | O13: 8172.1 | P13: 8303.52 | Q13: =P13/O13-1 -> 0.016081546
C14: ikä 13-15 | D14: 12478.59 | E14: 12895.47 | F14: 12805.09 | G14: 12728.2 | H14: 12502.93 | I14: 12981.41 | J14: 13287.99 | K14: 14733.47 | L14: 12129.17 | M14: 12434.58 | N14: 12944.95 | O14: 13849.15 | P14: 14067.67 | Q14: =P14/O14-1 -> 0.015778586
C15: Ikä 16+ | L15: 62.57 | M15: 64.06 | N15: 66.14 | O15: 70.22 | P15: 71.3 | Q15: =P15/O15-1 -> 0.015380234
C16: Ikä 18-64 (TE-kriteeri) | N16: 83.48 | O16: 86.07 | P16: 89.14 | Q16: =P16/O16-1 -> 0.035668642
C17: ikä 16-18 | D17: 3981.85 | E17: 4114.97 | F17: 4081.91 | G17: 4077.09 | H17: 3996.54 | I17: 4139.31 | J17: 4264.4 | K17: 4728.28 | L17: poistui sote-uudistuksen myötä
C18: ikä 19-64 | D18: 1033.38 | E18: 1059.42 | F18: 1050.87 | G18: 1026.13 | H18: 993.6 | I18: 1022.15 | J18: 1039.29 | K18: 1157.2 | L18: poistui sote-uudistuksen myötä
C19: ikä 65-74 | D19: 2122.03 | E19: 2175.69 | F19: 2133.01 | G19: 2063.77 | H19: 1983.5 | I19: 2019.23 | J19: 2072.39 | K19: 2306.18 | L19: poistui sote-uudistuksen myötä
C20: ikä 75-84 | D20: 5715.25 | E20: 5880.45 | F20: 5776.4 | G20: 5656.61 | H20: 5481.33 | I20: 5637.84 | J20: 5802.73 | K20: 6457.36 | L20: poistui sote-uudistuksen myötä
C21: ikä 85+ | D21: 19116.73 | E21: 19708.33 | F21: 19435.73 | G21: 19223.19 | H21: 18771.79 | I21: 19498.65 | J21: 20092.53 | K21: 22359.22 | L21: poistui sote-uudistuksen myötä
L22: poistui sote-uudistuksen myötä
B23: Sairastavuus | D23: 1125.29 | E23: 1162.55 | F23: 1159.26 | G23: 1154.53 | H23: 1133.37 | I23: 1178 | J23: 1203.96 | K23: 1329.61 | L23: poistui sote-uudistuksen myötä
B25: Muut laskennalliset kustannukset
C26: Työttömyys | D26: 87.44 | E26: 90.34 | F26: 90.09 | G26: 89.72 | H26: 88.08 | I26: 91.55 | J26: 93.57 | K26: 103.34 | L26: 67.78 | M26: 69.27 | N26: 71.52 | O26: 75.93 | P26: 77.1 | Q26: =P26/O26-1 -> 0.015408929
C27: Kaksikielisyys | D27: 269.61 | E27: 278.54 | F27: 277.75 | G27: 276.62 | H27: 271.55 | I27: 282.24 | J27: 288.46 | K27: 318.56 | L27: 287.68 | M27: 294.01 | N27: 303.56 | O27: 322.26 | P27: 327.24 | Q27: =P27/O27-1 -> 0.015453361
C28: Vieraskielisyys | D28: 1893.8 | E28: 1956.49 | F28: 1950.94 | G28: 1942.98 | H28: 1907.38 | I28: 1982.49 | J28: 2026.18 | K28: 2237.64 | L28: 1680.57 | M28: 1717.54 | N28: 1887.47 | O28: 2003.77 | P28: 2079.46 | Q28: =P28/O28-1 -> 0.037773796
C29: Asukastiheys | D29: 38.1 | E29: 39.36 | F29: 39.24 | G29: 39.08 | H29: 38.36 | I29: 39.87 | J29: 40.75 | K29: 45 | L29: 40.64 | M29: 41.53 | N29: 42.88 | O29: 45.52 | P29: 46.22 | Q29: =P29/O29-1 -> 0.015377856
C30: Saaristoisuus | D30: 371.08 | E30: 383.37 | F30: 382.29 | G30: 380.73 | H30: 373.75 | I30: 388.47 | J30: 397.03 | K30: 438.47 | L30: 395.97 | M30: 404.68 | N30: 417.83 | O30: 443.57 | P30: 450.42 | Q30: =P30/O30-1 -> 0.015442884
C31: Saaristo-osakunnat | I31: 284.18 | J31: 290.44 | K31: 320.75 | L31: 289.65 | M31: 296.02 | N31: 305.64 | O31: 324.47 | P31: 329.48 | Q31: =P31/O31-1 -> 0.015440565
C32: Koulutustausta | D32: 409.82 | E32: 423.39 | F32: 398.82 | G32: 397.19 | H32: 389.91 | I32: 405.26 | J32: 414.19 | K32: 457.42 | L32: 27.82 | M32: 28.43 | N32: 29.35 | O32: 31.16 | P32: 31.64 | Q32: =P32/O32-1 -> 0.015404365
C33: Työttömät ja palveluissa olevat (TE-kriteeri) | N33: 734.32 | O33: 754.59 | P33: 775.67 | Q33: =P33/O33-1 -> 0.0279357
B35: Lisäosat
C36: Syrjäisyys | D36: 207.12 | E36: 208.16 | F36: 206.7 | G36: 207.94 | H36: 210.64 | I36: 215.7 | J36: 220.88 | K36: 226.4 | L36: 61.24 | M36: 62.59 | N36: 64.72 | O36: 66.99 | P36: 69.33 | Q36: =P36/O36-1 -> 0.034930587
C37: Saamen kotiseutu | D37: 2630.69 | E37: 2643.84 | F37: 2625.33 | G37: 2641.08 | H37: 2675.41 | I37: 2739.62 | J37: 2805.37 | K37: 2875.5 | L37: 895.43 | M37: 915.13 | N37: 946.24 | O37: 979.36 | P37: 1013.64 | Q37: =P37/O37-1 -> 0.035002451
C38: Työpaikkaomavaraisuus | D38: 62.86 | E38: 63.17 | F38: 62.73 | G38: 63.11 | H38: 63.93 | I38: 65.46 | J38: 67.03 | K38: 68.71 | L38: 12.82 | M38: 13.1 | N38: 13.55 | O38: 14.02 | P38: 14.51 | Q38: =P38/O38-1 -> 0.034950071
C39: Hyvinvoinnin ja terveyden edistäminen (HYTE-kerroin) | L39: 18.89 | M39: 19.31 | N39: 19.97 | O39: 20.67 | P39: 21.39 | Q39: =P39/O39-1 -> 0.034833091
C40: Väestön kasvu | L40: 10.02 | M40: 10.24 | N40: 10.59 | O40: 10.96 | P40: 11.34 | Q40: =P40/O40-1 -> 0.034671533
B42: Kotikuntakorvaus
C43: Perusosa | D43: 6226.21 | E43: 6693.89 | F43: 6574 | G43: 6511.92 | H43: 6600.17 | I43: 6817 | J43: 7112.84 | K43: 7452.22 | L43: 7436.67 | M43: 7880.65 | N43: 8334.51 | O43: 8833.75 | P43: 9225.51 | Q43: =P43/O43-1 -> 0.044348097
C44: Yksikköhinta perusosaan tehtävän vähennyksen jälkeen | D44: 6065.43 | E44: 6499.81 | F44: 6379.92 | G44: 6275.85 | H44: 6279.4 | I44: 6496.23 | J44: 6792.07 | K44: 7131.45 | L44: 7115.9 | M44: 7559.88 | N44: 8013.74 | O44: 8512.98 | P44: =P43-320.77 -> 8904.74 | Q44: =P44/O44-1 -> 0.046019138
A49: 46266
A50: Opetus- ja kulttuuritoimen valtinosuuden keskimääräiset yksikköhinnat 2015-27*
D53: 2015 | E53: 2016 | F53: 2017 | G53: 2018 | H53: 2019 | I53: 2020 | J53: 2021 | K53: 2022 | L53: 2023 | M53: 2024 | N53: 2025 | O53: 2026 | P53: 2027*
C54: Lukiokoulutus (€/oppilas) | D54: 6004.93 | E54: 6122.06 | F54: 6145.01 | G54: 6070.92 | H54: 5906.12 | I54: 6305.48 | J54: 6615.98 | K54: 7157.74 | L54: 7630.82 | M54: 7943 | N54: 8433.3 | O54: 8953.47 | P54: 9225.51 | Q54: =P54/O54-1 -> 0.030383751
C55: Ammatillinen koulutus | D55: 10782.42 | E55: 10465.32 | F55: 10278.43
C56: Taiteen perusopetus (€/t) | D56: 75.48 | E56: 76.16 | F56: 76.96 | G56: 77.14 | H56: 76.82 | I56: 79.54 | J56: 82.19 | K56: 83.96 | L56: 87.33 | M56: 89.34 | N56: 91.69 | O56: 96.41 | P56: 99.15 | Q56: =P56/O56-1 -> 0.028420288
C57: Kansalaisopistot (€/t) | D57: 83.51 | E57: 83.6 | F57: 82.91 | G57: 83.77 | H57: 84.65 | I57: 84.37 | J57: 84.77 | K57: 89.48 | L57: 93.04 | M57: 95.18 | N57: 100.48 | O57: 103.69 | P57: 111.07 | Q57: =P57/O57-1 -> 0.071173691
C59: Kansanopistot (€/opiskelijavko) | D59: 299.51 | E59: 299.51 | F59: 297.48 | G59: 297.48 | H59: 297.48 | I59: 297.48 | J59: 297.48 | K59: 297.48 | L59: 298.63 | M59: 305.53 | N59: 350.83 | O59: 321.21 | P59: 334.9 | Q59: =P59/O59-1 -> 0.042620093
C60: Liikunnan koulutuskeskukset (€/opiskelijavrk) | D60: 88.85 | E60: 88.85 | F60: 89.47 | G60: 88.2 | H60: 88.2 | I60: 88.2 | J60: 94.11 | K60: 88.64 | L60: 92.17 | M60: 94.3 | N60: 90.17 | O60: 123.12
C61: Kesäyliopistot (€/t) | D61: 157.96 | E61: 157.96 | F61: 156.94 | G61: 156.94 | H61: 156.94 | I61: 156.94 | J61: 156.94 | K61: 156.94 | L61: 159.4 | M61: 163.08 | N61: 162.62 | O61: 156.94 | P61: 156.94 | Q61: =P61/O61-1 -> 0
C62: Opintokeskukset | D62: 108.05 | E62: 130.51 | F62: 119.2 | G62: 123.58 | H62: 141.28 | I62: 153.65 | J62: 165.33 | K62: 167.66 | L62: 174.25 | M62: 166.77 | N62: 173.01 | O62: 183.56 | P62: 183.49 | Q62: =P62/O62-1 -> -0.0003813467
C64: Museot (€/htv), vos 37 % | D64: 67636 | E64: 64650 | F64: 62920 | G64: 64479 | H64: 67543 | I64: 71761 | J64: 75652 | K64: 79185 | L64: 82861 | M64: 85071 | N64: 86847 | O64: 93394 | P64: 97158 | Q64: =P64/O64-1 -> 0.040302375
C65: Muu esittävä taide (€/htv), vos 37 % | D65: 54658 | E65: 52771 | F65: 52439 | G65: 53639 | H65: 52225 | I65: 58248 | J65: 60016 | K65: 62254 | L65: 65058 | M65: 66743 | N65: 65274 | O65: 68199 | P65: 71296 | Q65: =P65/O65-1 -> 0.045411223
C66: Musiikki (€/htv), vos 37 % | D66: 54178 | E66: 52503 | F66: 50118 | G66: 49550 | H66: 49184 | I66: 51851 | J66: 49763 | K66: 54321 | L66: 56818 | M66: 58318 | N66: 58566 | O66: 61018 | P66: 65972 | Q66: =P66/O66-1 -> 0.081189157
C68: Aamu- ja iltapäivätoiminta (€/t) | D68: 26 | E68: 26 | F68: 26 | G68: 26 | H68: 26 | I68: 26 | J68: 26 | K68: 26 | L68: 26 | M68: 26 | N68: 26 | O68: 22.37 | P68: 22.37 | Q68: =P68/O68-1 -> 0
C69: Liikunta (€/as.), vos 29,7 % | D69: 12 | E69: 12 | F69: 12 | G69: 12 | H69: 12 | I69: 12 | J69: 12 | K69: 12 | L69: 12 | M69: 12 | N69: 12 | O69: 12 | P69: 12 | Q69: =P69/O69-1 -> 0
C70: Nuoriso (€/0-28 v.), vos 29,7 % | D70: 15 | E70: 15 | F70: 15 | G70: 15 | H70: 15 | I70: 15 | J70: 15 | K70: 15 | L70: 15 | M70: 15 | N70: 15 | O70: 15 | P70: 15 | Q70: =P70/O70-1 -> 0
C72: Kuntien omarahoitusosuudet
C73: Lukiokoulutus | G73: 78.67 | H73: 78.24 | I73: 83.97 | J73: 86.8 | K73: 89.98 | L73: 93.1 | M73: 96.03 | N73: 100.52 | O73: 108.33 | P73: =641602000/5622045 -> 114.12253 | Q73: =P73/O73-1 -> 0.053471154 | S73: -641 602 000 | T73: Kuntien rahoitusosuus yhteensä
C74: Ammatillinen koulutus | D74: 297.99 | E74: 291.83 | F74: 254.85 | G74: 174.56 | H74: 174.25 | I74: 178.64 | J74: 181.97 | K74: 186.42 | L74: 192.82 | M74: 204.22 | N74: 196.45 | O74: 200.8 | P74: =1146876000/5622045 -> 203.99623 | Q74: =P74/O74-1 -> 0.015917493 | S74: -1 146 876 000 | T74: Kuntien rahoitusosuus yhteensä
D75: 2015-17 lukio ja ammatillinen koulutus yhteensä

Sheet 10.a. VM-laskelma
A1: Kunnan peruspalvelujen valtionosuus vuonna 2027 (VM syyskuu 2026)
A2: Sisältää kaikki VM:n valtionosuuslaskelman laskentatekijät eriteltynä (taulukon yhteensä-sarakkeita korjattu 1.10.2026)
A3: Luvut €/asukas -muodossa löytyvät vierittämällä sivua alaspäin
A4: Taulukon muotoilu KL/Olli Riikonen
A5: Sama taulukko transponoituna (kunnat riveillä) seuraavalla välilehdellä
B7: Kunta | F7: 5 | G7: 9 | H7: 10 | I7: 16 | J7: 18 | K7: 19 | L7: 20 | M7: 46 | N7: 47 | O7: 49 | P7: 50 | Q7: 51 | R7: 52 | S7: 61 | T7: 69 | U7: 71 | V7: 72 | W7: 74 | X7: 75 | Y7: 77 | Z7: 78 | AA7: 79 | AB7: 81 | AC7: 82 | AD7: 86 | AE7: 90 | AF7: 91 | AG7: 92 | AH7: 97 | AI7: 98 | AJ7: 102 | AK7: 103 | AL7: 105 | AM7: 106 | AN7: 108 | AO7: 109 | AP7: 111 | AQ7: 139 | AR7: 140 | AS7: 142 | AT7: 143 | AU7: 145 | AV7: 146 | AW7: 148 | AX7: 149 | AY7: 151 | AZ7: 152 | BA7: 153 | BB7: 165 | BC7: 167 | BD7: 169 | BE7: 171 | BF7: 172 | BG7: 176 | BH7: 177 | BI7: 178 | BJ7: 179 | BK7: 181 | BL7: 182 | BM7: 186 | BN7: 202 | BO7: 204 | BP7: 205 | BQ7: 208 | BR7: 211 | BS7: 213 | BT7: 214 | BU7: 216 | BV7: 217 | BW7: 218 | BX7: 224 | BY7: 226 | BZ7: 230 | CA7: 231 | CB7: 232 | CC7: 233 | CD7: 235 | CE7: 236 | CF7: 239 | CG7: 240 | CH7: 241 | CI7: 244 | CJ7: 245 | CK7: 249 | CL7: 250 | CM7: 256 | CN7: 257 | CO7: 260 | CP7: 261 | CQ7: 263 | CR7: 265 | CS7: 271 | CT7: 272 | CU7: 273 | CV7: 275 | CW7: 276 | CX7: 280 | CY7: 284 | CZ7: 285 | DA7: 286 | DB7: 287 | DC7: 288 | DD7: 290 | DE7: 291 | DF7: 297 | DG7: 300 | DH7: 301 | DI7: 304 | DJ7: 305 | DK7: 309 | DL7: 312 | DM7: 316 | DN7: 317 | DO7: 320 | DP7: 322 | DQ7: 398 | DR7: 399 | DS7: 400 | DT7: 402 | DU7: 403 | DV7: 405 | DW7: 407 | DX7: 408 | DY7: 410 | DZ7: 416 | EA7: 418 | EB7: 420 | EC7: 421 | ED7: 422 | EE7: 423 | EF7: 425 | EG7: 426 | EH7: 430 | EI7: 433 | EJ7: 434 | EK7: 435 | EL7: 436 | EM7: 440 | EN7: 441 | EO7: 444 | EP7: 445 | EQ7: 475 | ER7: 480 | ES7: 481 | ET7: 483 | EU7: 484 | EV7: 489 | EW7: 491 | EX7: 494 | EY7: 495 | EZ7: 498 | FA7: 499 | FB7: 500 | FC7: 503 | FD7: 504 | FE7: 505 | FF7: 507 | FG7: 508 | FH7: 529 | FI7: 531 | FJ7: 535 | FK7: 536 | FL7: 538 | FM7: 541 | FN7: 543 | FO7: 545 | FP7: 560 | FQ7: 561 | FR7: 562 | FS7: 563 | FT7: 564 | FU7: 576 | FV7: 577 | FW7: 578 | FX7: 580 | FY7: 581 | FZ7: 583 | GA7: 584 | GB7: 592 | GC7: 593 | GD7: 595 | GE7: 598 | GF7: 599 | GG7: 601 | GH7: 604 | GI7: 607 | GJ7: 608 | GK7: 609 | GL7: 611 | GM7: 614 | GN7: 615 | GO7: 616 | GP7: 619 | GQ7: 620 | GR7: 623 | GS7: 624 | GT7: 625 | GU7: 626 | GV7: 630 | GW7: 631 | GX7: 635 | GY7: 636 | GZ7: 638 | HA7: 678 | HB7: 680 | HC7: 681 | HD7: 683 | HE7: 684 | HF7: 686 | HG7: 687 | HH7: 689 | HI7: 691 | HJ7: 694 | HK7: 697 | HL7: 698 | HM7: 700 | HN7: 702 | HO7: 704 | HP7: 707 | HQ7: 710 | HR7: 729 | HS7: 732 | HT7: 734 | HU7: 738 | HV7: 739 | HW7: 740 | HX7: 742 | HY7: 743 | HZ7: 746 | IA7: 747 | IB7: 748 | IC7: 749 | ID7: 751 | IE7: 753 | IF7: 755 | IG7: 758 | IH7: 759 | II7: 761 | IJ7: 762 | IK7: 765 | IL7: 768 | IM7: 777 | IN7: 778 | IO7: 781 | IP7: 783 | IQ7: 785 | IR7: 790 | IS7: 791 | IT7: 831 | IU7: 832 | IV7: 833 | IW7: 834 | IX7: 837 | IY7: 844 | IZ7: 845 | JA7: 846 | JB7: 848 | JC7: 849 | JD7: 850 | JE7: 851 | JF7: 853 | JG7: 854 | JH7: 857 | JI7: 858 | JJ7: 859 | JK7: 886 | JL7: 887 | JM7: 889 | JN7: 890 | JO7: 892 | JP7: 893 | JQ7: 895 | JR7: 905 | JS7: 908 | JT7: 915 | JU7: 918 | JV7: 921 | JW7: 922 | JX7: 924 | JY7: 925 | JZ7: 927 | KA7: 931 | KB7: 934 | KC7: 935 | KD7: 936 | KE7: 946 | KF7: 976 | KG7: 977 | KH7: 980 | KI7: 981 | KJ7: 989 | KK7: 992
B8: Maakunta | F8: 14 | G8: 17 | H8: 14 | I8: 7 | J8: 1 | K8: 2 | L8: 6 | M8: 10 | N8: 19 | O8: 1 | P8: 4 | Q8: 4 | R8: 14 | S8: 5 | T8: 17 | U8: 17 | V8: 17 | W8: 16 | X8: 8 | Y8: 13 | Z8: 1 | AA8: 4 | AB8: 7 | AC8: 5 | AD8: 5 | AE8: 12 | AF8: 1 | AG8: 1 | AH8: 10 | AI8: 7 | AJ8: 4 | AK8: 5 | AL8: 18 | AM8: 1 | AN8: 6 | AO8: 5 | AP8: 7 | AQ8: 17 | AR8: 11 | AS8: 7 | AT8: 6 | AU8: 14 | AV8: 12 | AW8: 19 | AX8: 1 | AY8: 14 | AZ8: 14 | BA8: 9 | BB8: 5 | BC8: 12 | BD8: 5 | BE8: 11 | BF8: 13 | BG8: 12 | BH8: 6 | BI8: 10 | BJ8: 13 | BK8: 4 | BL8: 13 | BM8: 1 | BN8: 2 | BO8: 11 | BP8: 18 | BQ8: 17 | BR8: 6 | BS8: 10 | BT8: 4 | BU8: 13 | BV8: 16 | BW8: 14 | BX8: 1 | BY8: 13 | BZ8: 4 | CA8: 15 | CB8: 14 | CC8: 14 | CD8: 1 | CE8: 16 | CF8: 11 | CG8: 19 | CH8: 19 | CI8: 17 | CJ8: 1 | CK8: 13 | CL8: 6 | CM8: 13 | CN8: 1 | CO8: 12 | CP8: 19 | CQ8: 11 | CR8: 13 | CS8: 4 | CT8: 16 | CU8: 19 | CV8: 13 | CW8: 12 | CX8: 15 | CY8: 2 | CZ8: 8 | DA8: 8 | DB8: 15 | DC8: 15 | DD8: 18 | DE8: 6 | DF8: 11 | DG8: 14 | DH8: 14 | DI8: 2 | DJ8: 17 | DK8: 12 | DL8: 13 | DM8: 7 | DN8: 17 | DO8: 19 | DP8: 2 | DQ8: 7 | DR8: 15 | DS8: 2 | DT8: 11 | DU8: 14 | DV8: 9 | DW8: 1 | DX8: 14 | DY8: 13 | DZ8: 9 | EA8: 6 | EB8: 11 | EC8: 16 | ED8: 12 | EE8: 2 | EF8: 17 | EG8: 12 | EH8: 2 | EI8: 5 | EJ8: 1 | EK8: 13 | EL8: 17 | EM8: 15 | EN8: 9 | EO8: 1 | EP8: 2 | EQ8: 15 | ER8: 2 | ES8: 2 | ET8: 17 | EU8: 4 | EV8: 8 | EW8: 10 | EX8: 17 | EY8: 13 | EZ8: 19 | FA8: 15 | FB8: 13 | FC8: 2 | FD8: 1 | FE8: 1 | FF8: 10 | FG8: 6 | FH8: 2 | FI8: 4 | FJ8: 17 | FK8: 6 | FL8: 2 | FM8: 12 | FN8: 1 | FO8: 15 | FP8: 7 | FQ8: 2 | FR8: 6 | FS8: 17 | FT8: 17 | FU8: 7 | FV8: 2 | FW8: 18 | FX8: 9 | FY8: 6 | FZ8: 19 | GA8: 16 | GB8: 13 | GC8: 10 | GD8: 11 | GE8: 15 | GF8: 15 | GG8: 13 | GH8: 6 | GI8: 12 | GJ8: 4 | GK8: 4 | GL8: 1 | GM8: 19 | GN8: 17 | GO8: 1 | GP8: 6 | GQ8: 18 | GR8: 10 | GS8: 8 | GT8: 17 | GU8: 17 | GV8: 17 | GW8: 2 | GX8: 6 | GY8: 2 | GZ8: 1 | HA8: 17 | HB8: 2 | HC8: 10 | HD8: 19 | HE8: 4 | HF8: 11 | HG8: 11 | HH8: 9 | HI8: 17 | HJ8: 5 | HK8: 18 | HL8: 19 | HM8: 9 | HN8: 6 | HO8: 2 | HP8: 12 | HQ8: 1 | HR8: 13 | HS8: 19 | HT8: 2 | HU8: 2 | HV8: 9 | HW8: 10 | HX8: 19 | HY8: 14 | HZ8: 17 | IA8: 4 | IB8: 17 | IC8: 11 | ID8: 19 | IE8: 1 | IF8: 1 | IG8: 19 | IH8: 14 | II8: 2 | IJ8: 11 | IK8: 18 | IL8: 10 | IM8: 18 | IN8: 11 | IO8: 7 | IP8: 4 | IQ8: 17 | IR8: 6 | IS8: 17 | IT8: 9 | IU8: 17 | IV8: 2 | IW8: 5 | IX8: 6 | IY8: 11 | IZ8: 19 | JA8: 14 | JB8: 12 | JC8: 16 | JD8: 13 | JE8: 19 | JF8: 2 | JG8: 19 | JH8: 11 | JI8: 1 | JJ8: 17 | JK8: 4 | JL8: 6 | JM8: 17 | JN8: 19 | JO8: 13 | JP8: 15 | JQ8: 2 | JR8: 15 | JS8: 6 | JT8: 11 | JU8: 2 | JV8: 11 | JW8: 6 | JX8: 16 | JY8: 11 | JZ8: 1 | KA8: 13 | KB8: 14 | KC8: 8 | KD8: 6 | KE8: 15 | KF8: 19 | KG8: 17 | KH8: 6 | KI8: 5 | KJ8: 14 | KK8: 13
B9: Asukasluku 31.12.2025: | C9: 5622045 | D9: 656 | E9: 694392 | F9: 8982 | G9: 2384 | H9: 10634 | I9: 7841 | J9: 4677 | K9: 3937 | L9: 16429 | M9: 1273 | N9: 1769 | O9: 325716 | P9: 11005 | Q9: 8920 | R9: 2267 | S9: 16307 | T9: 6441 | U9: 6298 | V9: 912 | W9: 975 | X9: 19113 | Y9: 4436 | Z9: 7620 | AA9: 6565 | AB9: 2401 | AC9: 9346 | AD9: 7862 | AE9: 2888 | AF9: 694392 | AG9: 252956 | AH9: 2023 | AI9: 22775 | AJ9: 9546 | AK9: 2074 | AL9: 1984 | AM9: 47015 | AN9: 10249 | AO9: 68614 | AP9: 17694 | AQ9: 9755 | AR9: 20205 | AS9: 6329 | AT9: 6704 | AU9: 12405 | AV9: 4293 | AW9: 7244 | AX9: 5391 | AY9: 1771 | AZ9: 4261 | BA9: 24345 | BB9: 15867 | BC9: 79129 | BD9: 4795 | BE9: 4494 | BF9: 4079 | BG9: 4059 | BH9: 1663 | BI9: 5569 | BJ9: 149895 | BK9: 1663 | BL9: 19020 | BM9: 46944 | BN9: 36675 | BO9: 2547 | BP9: 36370 | BQ9: 12155 | BR9: 34379 | BS9: 4952 | BT9: 12508 | BU9: 1137 | BV9: 5246 | BW9: 1134 | BX9: 8274 | BY9: 3514 | BZ9: 2133 | CA9: 1248 | CB9: 12429 | CC9: 14909 | CD9: 10318 | CE9: 4074 | CF9: 1922 | CG9: 19339 | CH9: 7576 | CI9: 19702 | CJ9: 38767 | CK9: 9014 | CL9: 1670 | CM9: 1472 | CN9: 41725 | CO9: 9397 | CP9: 6973 | CQ9: 7255 | CR9: 1001 | CS9: 6583 | CT9: 48338 | CU9: 4001 | CV9: 2404 | CW9: 15060 | CX9: 1984 | CY9: 2144 | CZ9: 50029 | DA9: 77625 | DB9: 6113 | DC9: 6268 | DD9: 7300 | DE9: 1979 | DF9: 126572 | DG9: 3306 | DH9: 19441 | DI9: 972 | DJ9: 14800 | DK9: 6365 | DL9: 1129 | DM9: 4052 | DN9: 2324 | DO9: 6919 | DP9: 6340 | DQ9: 121832 | DR9: 7534 | DS9: 8400 | DT9: 8803 | DU9: 2704 | DV9: 73241 | DW9: 2430 | DX9: 13927 | DY9: 18808 | DZ9: 2878 | EA9: 25041 | EB9: 8924 | EC9: 656 | ED9: 9846 | EE9: 20732 | EF9: 10116 | EG9: 11980 | EH9: 15124 | EI9: 7574 | EJ9: 14196 | EK9: 695 | EL9: 2018 | EM9: 5955 | EN9: 4304 | EO9: 45435 | EP9: 14712 | EQ9: 5392 | ER9: 1890 | ES9: 9612 | ET9: 1031 | EU9: 2834 | EV9: 1664 | EW9: 51551 | EX9: 8767 | EY9: 1386 | EZ9: 2323 | FA9: 19792 | FB9: 10646 | FC9: 7424 | FD9: 1692 | FE9: 20861 | FF9: 7034 | FG9: 9109 | FH9: 20390 | FI9: 4890 | FJ9: 10300 | FK9: 36571 | FL9: 4667 | FM9: 8760 | FN9: 45333 | FO9: 9538 | FP9: 15575 | FQ9: 1264 | FR9: 8858 | FS9: 6832 | FT9: 217469 | FU9: 2656 | FV9: 11284 | FW9: 2941 | FX9: 4235 | FY9: 6011 | FZ9: 932 | GA9: 2547 | GB9: 3511 | GC9: 17124 | GD9: 3873 | GE9: 19657 | GF9: 11289 | GG9: 3676 | GH9: 21373 | GI9: 3942 | GJ9: 1893 | GK9: 83010 | GL9: 4919 | GM9: 2826 | GN9: 7168 | GO9: 1720 | GP9: 2546 | GQ9: 2322 | GR9: 2081 | GS9: 5016 | GT9: 2938 | GU9: 4551 | GV9: 1678 | GW9: 1892 | GX9: 6146 | GY9: 7903 | GZ9: 51863 | HA9: 23413 | HB9: 26036 | HC9: 3219 | HD9: 3530 | HE9: 38773 | HF9: 2928 | HG9: 1398 | HH9: 2888 | HI9: 2476 | HJ9: 28555 | HK9: 1158 | HL9: 66191 | HM9: 4679 | HN9: 3995 | HO9: 6381 | HP9: 1830 | HQ9: 26856 | HR9: 8763 | HS9: 3231 | HT9: 50339 | HU9: 2957 | HV9: 3094 | HW9: 31008 | HX9: 974 | HY9: 67283 | HZ9: 4585 | IA9: 1229 | IB9: 4723 | IC9: 21348 | ID9: 2701 | IE9: 23006 | IF9: 6192 | IG9: 8095 | IH9: 1772 | II9: 8339 | IJ9: 3521 | IK9: 10161 | IL9: 2310 | IM9: 6957 | IN9: 6549 | IO9: 3367 | IP9: 6221 | IQ9: 2544 | IR9: 23332 | IS9: 4861 | IT9: 4574 | IU9: 3555 | IV9: 1707 | IW9: 5777 | IX9: 263337 | IY9: 1388 | IZ9: 2837 | JA9: 4574 | JB9: 3869 | JC9: 2750 | JD9: 2307 | JE9: 20823 | JF9: 209633 | JG9: 3146 | JH9: 2270 | JI9: 42479 | JJ9: 6470 | JK9: 12339 | JL9: 4440 | JM9: 2399 | JN9: 1112 | JO9: 3651 | JP9: 7391 | JQ9: 14783 | JR9: 71209 | JS9: 20762 | JT9: 19433 | JU9: 2263 | JV9: 1787 | JW9: 4532 | JX9: 2912 | JY9: 3295 | JZ9: 28852 | KA9: 5695 | KB9: 2554 | KC9: 2751 | KD9: 6126 | KE9: 6185 | KF9: 3673 | KG9: 15274 | KH9: 33658 | KI9: 2186 | KJ9: 5121 | KK9: 17492
A10: Perushinta: | B10: Valtionosuusperuste: | C10: Koko maa | D10: Minimi | E10: Maksimi | F10: Alajärvi | G10: Alavieska | H10: Alavus | I10: Asikkala | J10: Askola | K10: Aura | L10: Akaa | M10: Enonkoski | N10: Enontekiö | O10: Espoo | P10: Eura | Q10: Eurajoki | R10: Evijärvi | S10: Forssa | T10: Haapajärvi | U10: Haapavesi | V10: Hailuoto | W10: Halsua | X10: Hamina | Y10: Hankasalmi | Z10: Hanko | AA10: Harjavalta | AB10: Hartola | AC10: Hattula | AD10: Hausjärvi | AE10: Heinävesi | AF10: Helsinki | AG10: Vantaa | AH10: Hirvensalmi | AI10: Hollola | AJ10: Huittinen | AK10: Humppila | AL10: Hyrynsalmi | AM10: Hyvinkää | AN10: Hämeenkyrö | AO10: Hämeenlinna | AP10: Heinola | AQ10: Ii | AR10: Iisalmi | AS10: Iitti | AT10: Ikaalinen | AU10: Ilmajoki | AV10: Ilomantsi | AW10: Inari | AX10: Inkoo | AY10: Isojoki | AZ10: Isokyrö | BA10: Imatra | BB10: Janakkala | BC10: Joensuu | BD10: Jokioinen | BE10: Joroinen | BF10: Joutsa | BG10: Juuka | BH10: Juupajoki | BI10: Juva | BJ10: Jyväskylä | BK10: Jämijärvi | BL10: Jämsä | BM10: Järvenpää | BN10: Kaarina | BO10: Kaavi | BP10: Kajaani | BQ10: Kalajoki | BR10: Kangasala | BS10: Kangasniemi | BT10: Kankaanpää | BU10: Kannonkoski | BV10: Kannus | BW10: Karijoki | BX10: Karkkila | BY10: Karstula | BZ10: Karvia | CA10: Kaskinen | CB10: Kauhajoki | CC10: Kauhava | CD10: Kauniainen | CE10: Kaustinen | CF10: Keitele | CG10: Kemi | CH10: Keminmaa | CI10: Kempele | CJ10: Kerava | CK10: Keuruu | CL10: Kihniö | CM10: Kinnula | CN10: Kirkkonummi | CO10: Kitee | CP10: Kittilä | CQ10: Kiuruvesi | CR10: Kivijärvi | CS10: Kokemäki | CT10: Kokkola | CU10: Kolari | CV10: Konnevesi | CW10: Kontiolahti | CX10: Korsnäs | CY10: Koski Tl | CZ10: Kotka | DA10: Kouvola | DB10: Kristiinankaupunki | DC10: Kruunupyy | DD10: Kuhmo | DE10: Kuhmoinen | DF10: Kuopio | DG10: Kuortane | DH10: Kurikka | DI10: Kustavi | DJ10: Kuusamo | DK10: Outokumpu | DL10: Kyyjärvi | DM10: Kärkölä | DN10: Kärsämäki | DO10: Kemijärvi | DP10: Kemiönsaari | DQ10: Lahti | DR10: Laihia | DS10: Laitila | DT10: Lapinlahti | DU10: Lappajärvi | DV10: Lappeenranta | DW10: Lapinjärvi | DX10: Lapua | DY10: Laukaa | DZ10: Lemi | EA10: Lempäälä | EB10: Leppävirta | EC10: Lestijärvi | ED10: Lieksa | EE10: Lieto | EF10: Liminka | EG10: Liperi | EH10: Loimaa | EI10: Loppi | EJ10: Loviisa | EK10: Luhanka | EL10: Lumijoki | EM10: Luoto | EN10: Luumäki | EO10: Lohja | EP10: Parainen | EQ10: Maalahti | ER10: Marttila | ES10: Masku | ET10: Merijärvi | EU10: Merikarvia | EV10: Miehikkälä | EW10: Mikkeli | EX10: Muhos | EY10: Multia | EZ10: Muonio | FA10: Mustasaari | FB10: Muurame | FC10: Mynämäki | FD10: Myrskylä | FE10: Mäntsälä | FF10: Mäntyharju | FG10: Mänttä-Vilppula | FH10: Naantali | FI10: Nakkila | FJ10: Nivala | FK10: Nokia | FL10: Nousiainen | FM10: Nurmes | FN10: Nurmijärvi | FO10: Närpiö | FP10: Orimattila | FQ10: Oripää | FR10: Orivesi | FS10: Oulainen | FT10: Oulu | FU10: Padasjoki | FV10: Paimio | FW10: Paltamo | FX10: Parikkala | FY10: Parkano | FZ10: Pelkosenniemi | GA10: Perho | GB10: Petäjävesi | GC10: Pieksämäki | GD10: Pielavesi | GE10: Pietarsaari | GF10: Pedersöre | GG10: Pihtipudas | GH10: Pirkkala | GI10: Polvijärvi | GJ10: Pomarkku | GK10: Pori | GL10: Pornainen | GM10: Posio | GN10: Pudasjärvi | GO10: Pukkila | GP10: Punkalaidun | GQ10: Puolanka | GR10: Puumala | GS10: Pyhtää | GT10: Pyhäjoki | GU10: Pyhäjärvi | GV10: Pyhäntä | GW10: Pyhäranta | GX10: Pälkäne | GY10: Pöytyä | GZ10: Porvoo | HA10: Raahe | HB10: Raisio | HC10: Rantasalmi | HD10: Ranua | HE10: Rauma | HF10: Rautalampi | HG10: Rautavaara | HH10: Rautjärvi | HI10: Reisjärvi | HJ10: Riihimäki | HK10: Ristijärvi | HL10: Rovaniemi | HM10: Ruokolahti | HN10: Ruovesi | HO10: Rusko | HP10: Rääkkylä | HQ10: Raasepori | HR10: Saarijärvi | HS10: Salla | HT10: Salo | HU10: Sauvo | HV10: Savitaipale | HW10: Savonlinna | HX10: Savukoski | HY10: Seinäjoki | HZ10: Sievi | IA10: Siikainen | IB10: Siikajoki | IC10: Siilinjärvi | ID10: Simo | IE10: Sipoo | IF10: Siuntio | IG10: Sodankylä | IH10: Soini | II10: Somero | IJ10: Sonkajärvi | IK10: Sotkamo | IL10: Sulkava | IM10: Suomussalmi | IN10: Suonenjoki | IO10: Sysmä | IP10: Säkylä | IQ10: Vaala | IR10: Sastamala | IS10: Siikalatva | IT10: Taipalsaari | IU10: Taivalkoski | IV10: Taivassalo | IW10: Tammela | IX10: Tampere | IY10: Tervo | IZ10: Tervola | JA10: Teuva | JB10: Tohmajärvi | JC10: Toholampi | JD10: Toivakka | JE10: Tornio | JF10: Turku | JG10: Pello | JH10: Tuusniemi | JI10: Tuusula | JJ10: Tyrnävä | JK10: Ulvila | JL10: Urjala | JM10: Utajärvi | JN10: Utsjoki | JO10: Uurainen | JP10: Uusikaarlepyy | JQ10: Uusikaupunki | JR10: Vaasa | JS10: Valkeakoski | JT10: Varkaus | JU10: Vehmaa | JV10: Vesanto | JW10: Vesilahti | JX10: Veteli | JY10: Vieremä | JZ10: Vihti | KA10: Viitasaari | KB10: Vimpeli | KC10: Virolahti | KD10: Virrat | KE10: Vöyri | KF10: Ylitornio | KG10: Ylivieska | KH10: Ylöjärvi | KI10: Ypäjä | KJ10: Ähtäri | KK10: Äänekoski
A11: 9109.13 | B11: Ikä 0–5 | C11: 2.558117e+09 | D11: 136636.95 | E11: 3.4405184e+08 | F11: 3771179.8 | G11: 1211514.3 | H11: 4727638.5 | I11: 2605211.2 | J11: 2067772.5 | K11: 2158863.8 | L11: 7469486.6 | M11: 491893.02 | N11: 555656.93 | O11: 1.9101846e+08 | P11: 4345055 | Q11: 3479687.7 | R11: 810712.57 | S11: 5101112.8 | T11: 3069776.8 | U11: 2978685.5 | V11: 136636.95 | W11: 309710.42 | X11: 5902716.2 | Y11: 1439242.5 | Z11: 2004008.6 | AA11: 2368373.8 | AB11: 710512.14 | AC11: 4108217.6 | AD11: 3343050.7 | AE11: 564766.06 | AF11: 3.4405184e+08 | AG11: 1.3985247e+08 | AH11: 637639.1 | AI11: 10411736 | AJ11: 3534342.4 | AK11: 783385.18 | AL11: 582984.32 | AM11: 19894340 | AN11: 4581892.4 | AO11: 27791956 | AP11: 4645656.3 | AQ11: 5939152.8 | AR11: 7305522.3 | AS11: 2477683.4 | AT11: 1922026.4 | AU11: 7770087.9 | AV11: 865367.35 | AW11: 2860266.8 | AX11: 2468574.2 | AY11: 601202.58 | AZ11: 1521224.7 | BA11: 7187103.6 | BB11: 7123339.7 | BC11: 30852623 | BD11: 1949353.8 | BE11: 1466569.9 | BF11: 1147750.4 | BG11: 865367.35 | BH11: 564766.06 | BI11: 1630534.3 | BJ11: 67835691 | BK11: 601202.58 | BL11: 5410823.2 | BM11: 24385141 | BN11: 21497547 | BO11: 801603.44 | BP11: 15139374 | BQ11: 5930043.6 | BR11: 19930776 | BS11: 1466569.9 | BT11: 4754965.9 | BU11: 409910.85 | BV11: 2550556.4 | BW11: 264164.77 | BX11: 2523229 | BY11: 938240.39 | BZ11: 664966.49 | CA11: 501002.15 | CB11: 4454364.6 | CC11: 5538351 | CD11: 5292404.5 | CE11: 1694298.2 | CF11: 491893.02 | CG11: 6758974.5 | CH11: 3261068.5 | CI11: 13873205 | CJ11: 19493538 | CK11: 2668975.1 | CL11: 501002.15 | CM11: 765166.92 | CN11: 21834585 | CO11: 2277282.5 | CP11: 3352159.8 | CQ11: 3051558.5 | CR11: 364365.2 | CS11: 2277282.5 | CT11: 25523782 | CU11: 1785389.5 | CV11: 856258.22 | CW11: 9018038.7 | CX11: 646748.23 | CY11: 801603.44 | CZ11: 16287124 | DA11: 25633092 | DB11: 2359264.7 | DC11: 3133540.7 | DD11: 1931135.6 | DE11: 419019.98 | DF11: 58289323 | DG11: 983786.04 | DH11: 7269085.7 | DI11: 245946.51 | DJ11: 5474587.1 | DK11: 1758062.1 | DL11: 373474.33 | DM11: 1302605.6 | DN11: 1093095.6 | DO11: 1794498.6 | DP11: 1976681.2 | DQ11: 49872487 | DR11: 2914921.6 | DS11: 3361269 | DT11: 3233741.1 | DU11: 929131.26 | DV11: 27190753 | DW11: 783385.18 | DX11: 6021134.9 | DY11: 10566591 | DZ11: 1266169.1 | EA11: 15613049 | EB11: 3415923.7 | EC11: 300601.29 | ED11: 2195300.3 | EE11: 11395522 | EF11: 8343963.1 | EG11: 5529241.9 | EH11: 5838952.3 | EI11: 3015122 | EJ11: 5046458 | EK11: 200400.86 | EL11: 1411915.1 | EM11: 6840956.6 | EN11: 1348151.2 | EO11: 17607948 | EP11: 5474587.1 | EQ11: 2632538.6 | ER11: 756057.79 | ES11: 5173985.8 | ET11: 710512.14 | EU11: 1102204.7 | EV11: 428129.11 | EW11: 19429774 | EX11: 5674988 | EY11: 419019.98 | EZ11: 974676.91 | FA11: 11049375 | FB11: 5984698.4 | FC11: 3215522.9 | FD11: 637639.1 | FE11: 10220444 | FF11: 1958462.9 | FG11: 2696302.5 | FH11: 9746769.1 | FI11: 1712516.4 | FJ11: 5957371 | FK11: 18746590 | FL11: 2450356 | FM11: 2732739 | FN11: 26252513 | FO11: 4372382.4 | FP11: 6695210.5 | FQ11: 601202.58 | FR11: 3625433.7 | FS11: 3124431.6 | FT11: 1.080525e+08 | FU11: 719621.27 | FV11: 6103117.1 | FW11: 737839.53 | FX11: 947349.52 | FY11: 2341046.4 | FZ11: 264164.77 | GA11: 1594097.7 | GB11: 1448351.7 | GC11: 5419932.3 | GD11: 1074877.3 | GE11: 9391513 | GF11: 8936056.5 | GG11: 1247950.8 | GH11: 11741669 | GI11: 1439242.5 | GJ11: 801603.44 | GK11: 33740218 | GL11: 2486792.5 | GM11: 601202.58 | GN11: 2814721.2 | GO11: 619420.84 | GP11: 765166.92 | GQ11: 491893.02 | GR11: 555656.93 | GS11: 2186191.2 | GT11: 1384587.8 | GU11: 1329933 | GV11: 1257059.9 | GW11: 801603.44 | GX11: 2158863.8 | GY11: 3461469.4 | GZ11: 24585542 | HA11: 9637459.5 | HB11: 12998729 | HC11: 865367.35 | HD11: 1594097.7 | HE11: 15276011 | HF11: 765166.92 | HG11: 255055.64 | HH11: 592093.45 | HI11: 1402806 | HJ11: 10539263 | HK11: 318819.55 | HL11: 32628904 | HM11: 1247950.8 | HN11: 1156859.5 | HO11: 3670979.4 | HP11: 218619.12 | HQ11: 11377303 | HR11: 2750957.3 | HS11: 692293.88 | HT11: 17589730 | HU11: 1238841.7 | HV11: 938240.39 | HW11: 8225544.4 | HX11: 346146.94 | HY11: 34478057 | HZ11: 2705411.6 | IA11: 282383.03 | IB11: 2659866 | IC11: 10621246 | ID11: 810712.57 | IE11: 12014942 | IF11: 2814721.2 | IG11: 2960467.2 | IH11: 601202.58 | II11: 2596102 | IJ11: 1029331.7 | IK11: 3907816.8 | IL11: 664966.49 | IM11: 1603206.9 | IN11: 2031336 | IO11: 628529.97 | IP11: 1767171.2 | IQ11: 792494.31 | IR11: 8571691.3 | IS11: 2195300.3 | IT11: 1967572.1 | IU11: 1311714.7 | IV11: 646748.23 | IW11: 2441246.8 | IX11: 1.116415e+08 | IY11: 309710.42 | IZ11: 1448351.7 | JA11: 1539443 | JB11: 1111313.9 | JC11: 1156859.5 | JD11: 983786.04 | JE11: 9218439.6 | JF11: 88622726 | JG11: 920022.13 | JH11: 464565.63 | JI11: 22681734 | JJ11: 4918930.2 | JK11: 5811624.9 | JL11: 1503006.4 | JM11: 792494.31 | JN11: 364365.2 | JO11: 2632538.6 | JP11: 3989798.9 | JQ11: 5465478 | JR11: 31043915 | JS11: 8243762.6 | JT11: 6012025.8 | JU11: 938240.39 | JV11: 337037.81 | JW11: 2468574.2 | JX11: 1065768.2 | JY11: 1074877.3 | JZ11: 13098929 | KA11: 1994899.5 | KB11: 692293.88 | KC11: 564766.06 | KD11: 1931135.6 | KE11: 3115322.5 | KF11: 1093095.6 | KG11: 8353072.2 | KH11: 20440888 | KI11: 674075.62 | KJ11: 1639643.4 | KK11: 6476591.4
A12: 9686.06 | B12: Ikä 6 | C12: 4.6925086e+08 | D12: 9686.06 | E12: 58329453 | F12: 862059.34 | G12: 222779.38 | H12: 1017036.3 | I12: 445558.76 | J12: 397128.46 | K12: 445558.76 | L12: 1462595.1 | M12: 77488.48 | N12: 87174.54 | O12: 33387849 | P12: 784570.86 | Q12: 726454.5 | R12: 184035.14 | S12: 1084838.7 | T12: 707082.38 | U12: 600535.72 | V12: 48430.3 | W12: 106546.66 | X12: 1239815.7 | Y12: 280895.74 | Z12: 416500.58 | AA12: 484303 | AB12: 125918.78 | AC12: 823315.1 | AD12: 658652.08 | AE12: 116232.72 | AF12: 58329453 | AG12: 24689767 | AH12: 87174.54 | AI12: 1927525.9 | AJ12: 745826.62 | AK12: 145290.9 | AL12: 77488.48 | AM12: 3729133.1 | AN12: 1104210.8 | AO12: 5550112.4 | AP12: 978292.06 | AQ12: 1230129.6 | AR12: 1559455.7 | AS12: 397128.46 | AT12: 435872.7 | AU12: 1530397.5 | AV12: 184035.14 | AW12: 474616.94 | AX12: 493989.06 | AY12: 135604.84 | AZ12: 319639.98 | BA12: 1297932 | BB12: 1365734.5 | BC12: 5298274.8 | BD12: 300267.86 | BE12: 271209.68 | BF12: 251837.56 | BG12: 164663.02 | BH12: 77488.48 | BI12: 251837.56 | BJ12: 11448923 | BK12: 135604.84 | BL12: 833001.16 | BM12: 4194064 | BN12: 4252180.3 | BO12: 154976.96 | BP12: 2944562.2 | BQ12: 1094524.8 | BR12: 3545098 | BS12: 213093.32 | BT12: 958919.94 | BU12: 67802.42 | BV12: 464930.88 | BW12: 77488.48 | BX12: 532733.3 | BY12: 280895.74 | BZ12: 174349.08 | CA12: 29058.18 | CB12: 1007350.2 | CC12: 1036408.4 | CD12: 1181699.3 | CE12: 368070.28 | CF12: 125918.78 | CG12: 1317304.2 | CH12: 610221.78 | CI12: 2276224.1 | CJ12: 3322318.6 | CK12: 445558.76 | CL12: 77488.48 | CM12: 174349.08 | CN12: 3971284.6 | CO12: 426186.64 | CP12: 600535.72 | CQ12: 542419.36 | CR12: 77488.48 | CS12: 377756.34 | CT12: 5152983.9 | CU12: 309953.92 | CV12: 125918.78 | CW12: 1762862.9 | CX12: 164663.02 | CY12: 125918.78 | CZ12: 3302946.5 | DA12: 5559798.4 | DB12: 455244.82 | DC12: 552105.42 | DD12: 329326.04 | DE12: 58116.36 | DF12: 10044444 | DG12: 280895.74 | DH12: 1520711.4 | DI12: 48430.3 | DJ12: 1026722.4 | DK12: 435872.7 | DL12: 96860.6 | DM12: 184035.14 | DN12: 154976.96 | DO12: 503675.12 | DP12: 474616.94 | DQ12: 9298617.6 | DR12: 726454.5 | DS12: 619907.84 | DT12: 707082.38 | DU12: 125918.78 | DV12: 5172356 | DW12: 145290.9 | DX12: 1259187.8 | DY12: 2305282.3 | DZ12: 251837.56 | EA12: 2925190.1 | EB12: 707082.38 | EC12: 87174.54 | ED12: 513361.18 | EE12: 2198735.6 | EF12: 1598199.9 | EG12: 1210757.5 | EH12: 1065466.6 | EI12: 648966.02 | EJ12: 1017036.3 | EK12: 9686.06 | EL12: 300267.86 | EM12: 1133269 | EN12: 300267.86 | EO12: 3438551.3 | EP12: 1201071.4 | EQ12: 629593.9 | ER12: 164663.02 | ES12: 1046094.5 | ET12: 164663.02 | EU12: 222779.38 | EV12: 48430.3 | EW12: 3893796.1 | EX12: 920175.7 | EY12: 87174.54 | EZ12: 203407.26 | FA12: 2159991.4 | FB12: 1249501.7 | FC12: 493989.06 | FD12: 106546.66 | FE12: 2005014.4 | FF12: 455244.82 | FG12: 523047.24 | FH12: 1598199.9 | FI12: 397128.46 | FJ12: 1268873.9 | FK12: 3361062.8 | FL12: 503675.12 | FM12: 435872.7 | FN12: 5114239.7 | FO12: 881431.46 | FP12: 1356048.4 | FQ12: 87174.54 | FR12: 639279.96 | FS12: 503675.12 | FT12: 18820015 | FU12: 125918.78 | FV12: 1094524.8 | FW12: 184035.14 | FX12: 193721.2 | FY12: 426186.64 | FZ12: 48430.3 | GA12: 319639.98 | GB12: 339012.1 | GC12: 1230129.6 | GD12: 251837.56 | GE12: 1666002.3 | GF12: 1675688.4 | GG12: 271209.68 | GH12: 2256852 | GI12: 251837.56 | GJ12: 125918.78 | GK12: 6034415.4 | GL12: 513361.18 | GM12: 145290.9 | GN12: 532733.3 | GO12: 125918.78 | GP12: 106546.66 | GQ12: 96860.6 | GR12: 87174.54 | GS12: 368070.28 | GT12: 261523.62 | GU12: 397128.46 | GV12: 193721.2 | GW12: 213093.32 | GX12: 406814.52 | GY12: 726454.5 | GZ12: 4852716.1 | HA12: 2072816.8 | HB12: 2276224.1 | HC12: 213093.32 | HD12: 213093.32 | HE12: 2983306.5 | HF12: 145290.9 | HG12: 87174.54 | HH12: 116232.72 | HI12: 154976.96 | HJ12: 2169677.4 | HK12: 67802.42 | HL12: 5869752.4 | HM12: 232465.44 | HN12: 242151.5 | HO12: 939547.82 | HP12: 48430.3 | HQ12: 2072816.8 | HR12: 493989.06 | HS12: 106546.66 | HT12: 3244830.1 | HU12: 203407.26 | HV12: 193721.2 | HW12: 1520711.4 | HX12: 58116.36 | HY12: 6557462.6 | HZ12: 523047.24 | IA12: 96860.6 | IB12: 387442.4 | IC12: 2256852 | ID12: 106546.66 | IE12: 2179363.5 | IF12: 513361.18 | IG12: 629593.9 | IH12: 145290.9 | II12: 658652.08 | IJ12: 203407.26 | IK12: 774884.8 | IL12: 96860.6 | IM12: 309953.92 | IN12: 416500.58 | IO12: 125918.78 | IP12: 503675.12 | IQ12: 174349.08 | IR12: 1598199.9 | IS12: 339012.1 | IT12: 309953.92 | IU12: 290581.8 | IV12: 116232.72 | IW12: 358384.22 | IX12: 18800642 | IY12: 58116.36 | IZ12: 203407.26 | JA12: 261523.62 | JB12: 280895.74 | JC12: 222779.38 | JD12: 203407.26 | JE12: 1966270.2 | JF12: 15158684 | JG12: 203407.26 | JH12: 116232.72 | JI12: 3961598.5 | JJ12: 1142955.1 | JK12: 1017036.3 | JL12: 193721.2 | JM12: 184035.14 | JN12: 106546.66 | JO12: 474616.94 | JP12: 813629.04 | JQ12: 958919.94 | JR12: 5801949.9 | JS12: 1646630.2 | JT12: 1268873.9 | JU12: 213093.32 | JV12: 67802.42 | JW12: 474616.94 | JX12: 193721.2 | JY12: 164663.02 | JZ12: 2760527.1 | KA12: 416500.58 | KB12: 96860.6 | KC12: 135604.84 | KD12: 397128.46 | KE12: 668338.14 | KF12: 184035.14 | KG12: 1511025.4 | KH12: 3525725.8 | KI12: 116232.72 | KJ12: 416500.58 | KK12: 1423850.8
A13: 8303.52 | B13: Ikä 7–12 | C13: 2.8646646e+09 | D13: 207588 | E13: 3.27906e+08 | F13: 5173093 | G13: 1585972.3 | H13: 5995141.4 | I13: 3612031.2 | J13: 2922839 | K13: 2291771.5 | L13: 8353341.1 | M13: 498211.2 | N13: 564639.36 | O13: 1.9324782e+08 | P13: 5687911.2 | Q13: 5173093 | R13: 1253831.5 | S13: 6609601.9 | T13: 3902654.4 | U13: 4375955 | V13: 473300.64 | W13: 464997.12 | X13: 8286913 | Y13: 2059273 | Z13: 2906232 | AA13: 3163641.1 | AB13: 813744.96 | AC13: 5364073.9 | AD13: 4234795.2 | AE13: 896780.16 | AF13: 3.27906e+08 | AG13: 1.3973163e+08 | AH13: 722406.24 | AI13: 12953491 | AJ13: 4475597.3 | AK13: 755620.32 | AL13: 639371.04 | AM13: 23548783 | AN13: 6078176.6 | AO13: 33247294 | AP13: 6526566.7 | AQ13: 7240669.4 | AR13: 10495649 | AS13: 3072302.4 | AT13: 3412746.7 | AU13: 7788701.8 | AV13: 1295349.1 | AW13: 2706947.5 | AX13: 2416324.3 | AY13: 664281.6 | AZ13: 2275164.5 | BA13: 10188419 | BB13: 8743606.6 | BC13: 35098979 | BD13: 2333289.1 | BE13: 2042665.9 | BF13: 1453116 | BG13: 1204010.4 | BH13: 722406.24 | BI13: 2316682.1 | BJ13: 71451790 | BK13: 913387.2 | BL13: 7738880.6 | BM13: 25865465 | BN13: 22552360 | BO13: 938297.76 | BP13: 19139614 | BQ13: 7340311.7 | BR13: 20866746 | BS13: 1951327.2 | BT13: 6260854.1 | BU13: 365354.88 | BV13: 3412746.7 | BW13: 489907.68 | BX13: 3902654.4 | BY13: 1303652.6 | BZ13: 1021333 | CA13: 647674.56 | CB13: 6451835 | CC13: 7448257.4 | CD13: 6509959.7 | CE13: 2623912.3 | CF13: 763923.84 | CG13: 9009319.2 | CH13: 4342741 | CI13: 15236959 | CJ13: 20858442 | CK13: 4193277.6 | CL13: 655978.08 | CM13: 963208.32 | CN13: 24478777 | CO13: 3811315.7 | CP13: 3462567.8 | CQ13: 3628638.2 | CR13: 456693.6 | CS13: 2889625 | CT13: 30150081 | CU13: 2241950.4 | CV13: 1120975.2 | CW13: 10562077 | CX13: 1046243.5 | CY13: 979815.36 | CZ13: 21472903 | DA13: 34517733 | DB13: 2706947.5 | DC13: 3504085.4 | DD13: 2341592.6 | DE13: 606156.96 | DF13: 60682124 | DG13: 1403294.9 | DH13: 9939313.4 | DI13: 298926.72 | DJ13: 7415043.4 | DK13: 3022481.3 | DL13: 647674.56 | DM13: 1851685 | DN13: 1353473.8 | DO13: 2341592.6 | DP13: 2632215.8 | DQ13: 56904023 | DR13: 4932290.9 | DS13: 4857559.2 | DT13: 3969082.6 | DU13: 1419901.9 | DV13: 33363543 | DW13: 1253831.5 | DX13: 8436376.3 | DY13: 14381697 | DZ13: 1669007.5 | EA13: 17287929 | EB13: 3902654.4 | EC13: 373658.4 | ED13: 3396139.7 | EE13: 13327150 | EF13: 10304668 | EG13: 7224062.4 | EH13: 6750761.8 | EI13: 3827922.7 | EJ13: 6235943.5 | EK13: 207588 | EL13: 1627489.9 | EM13: 5629786.6 | EN13: 1644097 | EO13: 23100393 | EP13: 7315401.1 | EQ13: 2673733.4 | ER13: 971511.84 | ES13: 6310675.2 | ET13: 1054547 | EU13: 1635793.4 | EV13: 514818.24 | EW13: 24495384 | EX13: 6875314.6 | EY13: 614460.48 | EZ13: 1087761.1 | FA13: 13069740 | FB13: 7830219.4 | FC13: 3827922.7 | FD13: 797137.92 | FE13: 12911974 | FF13: 2881321.4 | FG13: 3528996 | FH13: 10155205 | FI13: 2200432.8 | FJ13: 7664149 | FK13: 20717282 | FL13: 2881321.4 | FM13: 3628638.2 | FN13: 29103838 | FO13: 5638090.1 | FP13: 8760213.6 | FQ13: 655978.08 | FR13: 4334437.4 | FS13: 3861136.8 | FT13: 1.1493732e+08 | FU13: 755620.32 | FV13: 7431650.4 | FW13: 1245528 | FX13: 1585972.3 | FY13: 2765072.2 | FZ13: 390265.44 | GA13: 2192129.3 | GB13: 2059273 | GC13: 7224062.4 | GD13: 1594275.8 | GE13: 9856278.2 | GF13: 8336734.1 | GG13: 1644097 | GH13: 13742326 | GI13: 1901506.1 | GJ13: 913387.2 | GK13: 39043151 | GL13: 2922839 | GM13: 755620.32 | GN13: 3728280.5 | GO13: 871869.6 | GP13: 1046243.5 | GQ13: 763923.84 | GR13: 373658.4 | GS13: 2524270.1 | GT13: 1635793.4 | GU13: 2233646.9 | GV13: 1179099.8 | GW13: 846959.04 | GX13: 2798286.2 | GY13: 4517114.9 | GZ13: 28887946 | HA13: 13626076 | HB13: 13493220 | HC13: 1262135 | HD13: 2034362.4 | HE13: 17985424 | HF13: 1145885.8 | HG13: 448390.08 | HH13: 905083.68 | HI13: 1652400.5 | HJ13: 14215626 | HK13: 523121.76 | HL13: 34335055 | HM13: 1893202.6 | HN13: 1552758.2 | HO13: 4542025.4 | HP13: 448390.08 | HQ13: 12662868 | HR13: 4135153 | HS13: 954904.8 | HT13: 22353076 | HU13: 1519544.2 | HV13: 1096064.6 | HW13: 12031800 | HX13: 332140.8 | HY13: 38121460 | HZ13: 3528996 | IA13: 464997.12 | IB13: 3404443.2 | IC13: 14323572 | ID13: 1096064.6 | IE13: 13335453 | IF13: 3387836.2 | IG13: 3628638.2 | IH13: 1021333 | II13: 4018903.7 | IJ13: 1444812.5 | IK13: 5447109.1 | IL13: 830352 | IM13: 2574091.2 | IN13: 3147034.1 | IO13: 946601.28 | IP13: 2814893.3 | IQ13: 1029636.5 | IR13: 10919129 | IS13: 2374806.7 | IT13: 2233646.9 | IU13: 1619186.4 | IV13: 739013.28 | IW13: 2623912.3 | IX13: 1.1037869e+08 | IY13: 531425.28 | IZ13: 1594275.8 | JA13: 2275164.5 | JB13: 1843381.4 | JC13: 1735435.7 | JD13: 1287045.6 | JE13: 11433947 | JF13: 86182234 | JG13: 1104368.2 | JH13: 730709.76 | JI13: 24503688 | JJ13: 6343889.3 | JK13: 7008170.9 | JL13: 2034362.4 | JM13: 1195706.9 | JN13: 456693.6 | JO13: 3030784.8 | JP13: 4334437.4 | JQ13: 6842100.5 | JR13: 34783445 | JS13: 10653416 | JT13: 7705666.6 | JU13: 1228921 | JV13: 498211.2 | JW13: 2906232 | JX13: 1345170.2 | JY13: 1702221.6 | JZ13: 16166953 | KA13: 2349896.2 | KB13: 1162492.8 | KC13: 954904.8 | KD13: 2457841.9 | KE13: 3587120.6 | KF13: 1220617.4 | KG13: 11051985 | KH13: 22270041 | KI13: 813744.96 | KJ13: 2324985.6 | KK13: 8926284
A14: 14067.67 | B14: Ikä 13–15 | C14: 2.7310834e+09 | D14: 182879.71 | E14: 2.8427948e+08 | F14: 5401985.3 | G14: 1603714.4 | H14: 5739609.4 | I14: 3334037.8 | J14: 2897940 | K14: 2461842.2 | L14: 9369068.2 | M14: 661180.49 | N14: 900330.88 | O14: 1.7667587e+08 | P14: 5472323.6 | Q14: 4811143.1 | R14: 1406767 | S14: 6091301.1 | T14: 3657594.2 | U14: 4220301 | V14: 379827.09 | W14: 534571.46 | X14: 8750090.7 | Y14: 2194556.5 | Z14: 3305902.5 | AA14: 2996413.7 | AB14: 689315.83 | AC14: 5416053 | AD14: 4417248.4 | AE14: 1083210.6 | AF14: 2.8427948e+08 | AG14: 1.2420346e+08 | AH14: 661180.49 | AI14: 13012595 | AJ14: 4515722.1 | AK14: 900330.88 | AL14: 464233.11 | AM14: 22269122 | AN14: 5486391.3 | AO14: 31173957 | AP14: 6541466.5 | AQ14: 6527398.9 | AR14: 9748895.3 | AS14: 2658789.6 | AT14: 3390308.5 | AU14: 7272985.4 | AV14: 1209819.6 | AW14: 2771331 | AX14: 2729128 | AY14: 829992.53 | AZ14: 2461842.2 | BA14: 10325670 | BB14: 7906030.5 | BC14: 34254776 | BD14: 2616586.6 | BE14: 2124218.2 | BF14: 1448970 | BG14: 1308293.3 | BH14: 886263.21 | BI14: 2025744.5 | BJ14: 68340741 | BK14: 900330.88 | BL14: 9073647.2 | BM14: 23718092 | BN14: 20552866 | BO14: 956601.56 | BP14: 18414580 | BQ14: 7061970.3 | BR14: 18822542 | BS14: 2096082.8 | BT14: 5964692.1 | BU14: 464233.11 | BV14: 3249631.8 | BW14: 450165.44 | BX14: 4192165.7 | BY14: 1463037.7 | BZ14: 858127.87 | CA14: 562706.8 | CB14: 6358586.8 | CC14: 7666880.2 | CD14: 6203842.5 | CE14: 2560315.9 | CF14: 745586.51 | CG14: 9537880.3 | CH14: 4093692 | CI14: 14588174 | CJ14: 18583392 | CK14: 4389113 | CL14: 844060.2 | CM14: 801857.19 | CN14: 24927911 | CO14: 3882676.9 | CP14: 3038616.7 | CQ14: 3502849.8 | CR14: 351691.75 | CS14: 2729128 | CT14: 27811784 | CU14: 1885067.8 | CV14: 1111345.9 | CW14: 9945842.7 | CX14: 984736.9 | CY14: 844060.2 | CZ14: 22001836 | DA14: 33607664 | DB14: 2602519 | DC14: 3530985.2 | DD14: 2771331 | DE14: 647112.82 | DF14: 55553229 | DG14: 1519308.4 | DH14: 10199061 | DI14: 253218.06 | DJ14: 7835692.2 | DK14: 3221496.4 | DL14: 745586.51 | DM14: 1856932.4 | DN14: 1463037.7 | DO14: 2419639.2 | DP14: 2715060.3 | DQ14: 56087800 | DR14: 5416053 | DS14: 4951819.8 | DT14: 4642331.1 | DU14: 1223887.3 | DV14: 32636994 | DW14: 984736.9 | DX14: 8088910.2 | DY14: 13955129 | DZ14: 1786594.1 | EA14: 16881204 | EB14: 4079624.3 | EC14: 196947.38 | ED14: 3530985.2 | EE14: 13040730 | EF14: 10227196 | EG14: 7272985.4 | EH14: 7005699.7 | EI14: 4009286 | EJ14: 6836887.6 | EK14: 267285.73 | EL14: 1758458.8 | EM14: 4600128.1 | EN14: 1969473.8 | EO14: 24590287 | EP14: 7751286.2 | EQ14: 2405571.6 | ER14: 998804.57 | ES14: 5964692.1 | ET14: 647112.82 | EU14: 1322361 | EV14: 604909.81 | EW14: 23127249 | EX14: 6597737.2 | EY14: 590842.14 | EZ14: 1336428.6 | FA14: 12070061 | FB14: 7554338.8 | FC14: 3404376.1 | FD14: 759654.18 | FE14: 12801580 | FF14: 2504045.3 | FG14: 3727932.5 | FH14: 9467541.9 | FI14: 2489977.6 | FJ14: 7863827.5 | FK14: 20440325 | FL14: 2799466.3 | FM14: 3559120.5 | FN14: 27446024 | FO14: 4867413.8 | FP14: 8553143.4 | FQ14: 717451.17 | FR14: 4009286 | FS14: 3967082.9 | FT14: 1.140888e+08 | FU14: 914398.55 | FV14: 6597737.2 | FW14: 1448970 | FX14: 1603714.4 | FY14: 2461842.2 | FZ14: 182879.71 | GA14: 2152353.5 | GB14: 1983541.5 | GC14: 6879090.6 | GD14: 1814729.4 | GE14: 9678557 | GF14: 7582474.1 | GG14: 1856932.4 | GH14: 13139204 | GI14: 1772526.4 | GJ14: 717451.17 | GK14: 37293393 | GL14: 2813534 | GM14: 787789.52 | GN14: 3882676.9 | GO14: 914398.55 | GP14: 1111345.9 | GQ14: 801857.19 | GR14: 478300.78 | GS14: 2968278.4 | GT14: 1772526.4 | GU14: 2433706.9 | GV14: 1139481.3 | GW14: 1055075.2 | GX14: 2996413.7 | GY14: 4797075.5 | GZ14: 28149408 | HA14: 14756986 | HB14: 12070061 | HC14: 1561511.4 | HD14: 2405571.6 | HE14: 18217633 | HF14: 1266090.3 | HG14: 506436.12 | HH14: 858127.87 | HI14: 1350496.3 | HJ14: 15080542 | HK14: 393894.76 | HL14: 33706137 | HM14: 2208624.2 | HN14: 1463037.7 | HO14: 4079624.3 | HP14: 633045.15 | HQ14: 12548362 | HR14: 3812338.6 | HS14: 872195.54 | HT14: 24590287 | HU14: 1674052.7 | HV14: 1308293.3 | HW14: 12435820 | HX14: 337624.08 | HY14: 35703746 | HZ14: 3756067.9 | IA14: 576774.47 | IB14: 3432511.5 | IC14: 13068865 | ID14: 1505240.7 | IE14: 12984459 | IF14: 3319970.1 | IG14: 3699797.2 | IH14: 998804.57 | II14: 3770135.6 | IJ14: 1533376 | IK14: 5064361.2 | IL14: 675248.16 | IM14: 2391503.9 | IN14: 2897940 | IO14: 886263.21 | IP14: 2799466.3 | IQ14: 900330.88 | IR14: 10761768 | IS14: 2419639.2 | IT14: 2405571.6 | IU14: 1814729.4 | IV14: 689315.83 | IW14: 2574383.6 | IX14: 1.0072452e+08 | IY14: 576774.47 | IZ14: 1237955 | JA14: 2321165.5 | JB14: 1899135.4 | JC14: 1786594.1 | JD14: 1674052.7 | JE14: 11957520 | JF14: 75937283 | JG14: 984736.9 | JH14: 900330.88 | JI14: 24477746 | JJ14: 6428925.2 | JK14: 6794684.6 | JL14: 1828797.1 | JM14: 1448970 | JN14: 422030.1 | JO14: 2912007.7 | JP14: 4332842.4 | JQ14: 6780616.9 | JR14: 32763603 | JS14: 11029053 | JT14: 7427729.8 | JU14: 900330.88 | JV14: 604909.81 | JW14: 3108955.1 | JX14: 1505240.7 | JY14: 2124218.2 | JZ14: 17612723 | KA14: 2152353.5 | KB14: 1463037.7 | KC14: 1209819.6 | KD14: 2532180.6 | KE14: 3488782.2 | KF14: 1491173 | KG14: 10184993 | KH14: 22212851 | KI14: 998804.57 | KJ14: 2152353.5 | KK14: 9312797.5
A15: 71.3 | B15: Ikä 16+ | C15: 3.3893425e+08 | D15: 39571.5 | E15: 42131313 | F15: 532753.6 | G15: 137109.9 | H15: 633144 | I15: 487478.1 | J15: 274576.3 | K15: 228373.9 | L15: 982941.8 | M15: 78715.2 | N15: 111727.1 | O15: 18927797 | P15: 668294.9 | Q15: 534607.4 | R15: 136040.4 | S15: 1027147.8 | T15: 377961.3 | U15: 362346.6 | V15: 57610.4 | W15: 59606.8 | X15: 1191922.1 | Y15: 274148.5 | Z15: 482843.6 | AA15: 403629.3 | AB15: 154221.9 | AC15: 554642.7 | AD15: 470793.9 | AE15: 187447.7 | AF15: 42131313 | AG15: 14930006 | AH15: 129053 | AI15: 1350992.4 | AJ15: 586157.3 | AK15: 129623.4 | AL15: 128482.6 | AM15: 2853925.1 | AN15: 606763 | AO15: 4190301 | AP15: 1128821.6 | AQ15: 544732 | AR15: 1232420.5 | AS15: 389084.1 | AT15: 413254.8 | AU15: 708650.7 | AV15: 280708.1 | AW15: 453325.4 | AX15: 326839.2 | AY15: 110657.6 | AZ15: 257535.6 | BA15: 1530169.3 | BB15: 950357.7 | BC15: 4886402.9 | BD15: 291117.9 | BE15: 278640.4 | BF15: 260173.7 | BG15: 264451.7 | BH15: 102885.9 | BI15: 352293.3 | BJ15: 9112353.9 | BK15: 100461.7 | BL15: 1195201.9 | BM15: 2783052.9 | BN15: 2117538.7 | BO15: 161280.6 | BP15: 2195327 | BQ15: 713356.5 | BR15: 1994546.2 | BS15: 312650.5 | BT15: 763551.7 | BU15: 71870.4 | BV15: 304878.8 | BW15: 71727.8 | BX15: 511506.2 | BY15: 222527.3 | BZ15: 132475.4 | CA15: 76433.6 | CB15: 756279.1 | CC15: 909217.6 | CD15: 598207 | CE15: 238997.6 | CF15: 121923 | CG15: 1190567.4 | CH15: 452113.3 | CI15: 1074633.6 | CJ15: 2313756.3 | CK15: 560275.4 | CL15: 104668.4 | CM15: 85346.1 | CN15: 2438317.4 | CO15: 596638.4 | CP15: 421383 | CQ15: 440491.4 | CR15: 62244.9 | CS15: 410117.6 | CT15: 2808934.8 | CU15: 240209.7 | CV15: 148517.9 | CW15: 849111.7 | CX15: 121210 | CY15: 132974.5 | CZ15: 3119375 | DA15: 4826368.3 | DB15: 377604.8 | DC15: 370332.2 | DD15: 468797.5 | DE15: 128910.4 | DF15: 7691772.7 | DG15: 206199.6 | DH15: 1181013.2 | DI15: 63171.8 | DJ15: 901445.9 | DK15: 394574.2 | DL15: 67521.1 | DM15: 252045.5 | DN15: 136967.3 | DO15: 443200.8 | DP15: 396713.2 | DQ15: 7454914.1 | DR15: 439208 | DS15: 501239 | DT15: 539527.1 | DU15: 166200.3 | DV15: 4519279.2 | DW15: 150300.4 | DX15: 823158.5 | DY15: 1047111.8 | DZ15: 170050.5 | EA15: 1407675.9 | EB15: 550150.8 | EC15: 39571.5 | ED15: 633999.6 | EE15: 1192278.6 | EF15: 503877.1 | EG15: 703089.3 | EH15: 931320.6 | EI15: 458459 | EJ15: 876990 | EK15: 44776.4 | EL15: 107734.3 | EM15: 291046.6 | EN15: 270013.1 | EO15: 2753392.1 | EP15: 895171.5 | EQ15: 324058.5 | ER15: 114222.6 | ES15: 552717.6 | ET15: 54401.9 | EU15: 171048.7 | EV15: 107449.1 | EW15: 3167288.6 | EX15: 481417.6 | EY15: 86629.5 | EZ15: 140389.7 | FA15: 1135381.2 | FB15: 597494 | FC15: 450402.1 | FD15: 104169.3 | FE15: 1216877.1 | FF15: 445411.1 | FG15: 575319.7 | FH15: 1230566.7 | FI15: 300814.7 | FJ15: 572752.9 | FK15: 2154543.4 | FL15: 270940 | FM15: 550792.5 | FN15: 2600097.1 | FO15: 566264.6 | FP15: 929538.1 | FQ15: 75506.7 | FR15: 540953.1 | FS15: 405697 | FT15: 12956066 | FU15: 171690.4 | FV15: 651468.1 | FW15: 184524.4 | FX15: 271367.8 | FY15: 370902.6 | FZ15: 59749.4 | GA15: 137038.6 | GB15: 208766.4 | GC15: 1072565.9 | GD15: 242990.4 | GE15: 1182082.7 | GF15: 612609.6 | GG15: 226805.3 | GH15: 1230780.6 | GI15: 242633.9 | GJ15: 116290.3 | GK15: 5085829 | GL15: 288123.3 | GM15: 185237.4 | GN15: 433432.7 | GO15: 104739.7 | GP15: 160139.8 | GQ15: 150371.7 | GR15: 137751.6 | GS15: 301099.9 | GT15: 173686.8 | GU15: 279638.6 | GV15: 92476.1 | GW15: 114436.5 | GX15: 379102.1 | GY15: 467941.9 | GZ15: 3078947.9 | HA15: 1386856.3 | HB15: 1560828.3 | HC15: 202420.7 | HD15: 207982.1 | HE15: 2376215.1 | HF15: 185451.3 | HG15: 90622.3 | HH15: 188303.3 | HI15: 143384.3 | HJ15: 1739007 | HK15: 73082.5 | HL15: 3955153.6 | HM15: 294682.9 | HN15: 253257.6 | HO15: 359637.2 | HP15: 121352.6 | HQ15: 1638188.8 | HR15: 544803.3 | HS15: 211547.1 | HT15: 3111032.9 | HU15: 178107.4 | HV15: 195789.8 | HW15: 1968949.5 | HX15: 61745.8 | HY15: 3970839.6 | HZ15: 252544.6 | IA15: 77788.3 | IB15: 266448.1 | IC15: 1233133.5 | ID15: 168410.6 | IE15: 1349922.9 | IF15: 369761.8 | IG15: 499456.5 | IH15: 106736.1 | II15: 515784.2 | IJ15: 221315.2 | IK15: 615746.8 | IL15: 148232.7 | IM15: 446979.7 | IN15: 406267.4 | IO15: 221600.4 | IP15: 387658.1 | IQ15: 160496.3 | IR15: 1436409.8 | IS15: 294255.1 | IT15: 277071.8 | IU15: 217964.1 | IV15: 105951.8 | IW15: 354574.9 | IX15: 16305383 | IY15: 88625.9 | IZ15: 169480.1 | JA15: 280850.7 | JB15: 239639.3 | JC15: 161423.2 | JD15: 135755.2 | JE15: 1239265.3 | JF15: 13016671 | JG15: 201137.3 | JH15: 146521.5 | JI15: 2487585.7 | JJ15: 327338.3 | JK15: 732179.7 | JL15: 276644 | JM15: 145879.8 | JN15: 69588.8 | JO15: 195433.3 | JP15: 430580.7 | JQ15: 911071.4 | JR15: 4326769.2 | JS15: 1256306 | JT15: 1225361.8 | JU15: 137323.8 | JV15: 116932 | JW15: 259603.3 | JX15: 178677.8 | JY15: 199925.2 | JZ15: 1706209 | KA15: 356286.1 | KB15: 158571.2 | KC15: 176396.2 | KD15: 384806.1 | KE15: 363202.2 | KF15: 233935.3 | KG15: 866009.8 | KH15: 1910055.7 | KI15: 137680.3 | KJ15: 318354.5 | KK15: 1062156.1
A16: 89.14 | B16: Ikä 18-64 | C16: 2.9273986e+08 | D16: 26474.58 | E16: 40532939 | F16: 384015.12 | G16: 106789.72 | H16: 474403.08 | I16: 338464.58 | J16: 233903.36 | K16: 195573.16 | L16: 809123.78 | M16: 51077.22 | N16: 86644.08 | O16: 18489062 | P16: 511752.74 | Q16: 420562.52 | R16: 102332.72 | S16: 757422.58 | T16: 289437.58 | U16: 284089.18 | V16: 35745.14 | W16: 39756.44 | X16: 898798.62 | Y16: 192809.82 | Z16: 345952.34 | AA16: 294964.26 | AB16: 93686.14 | AC16: 456575.08 | AD16: 388917.82 | AE16: 115525.44 | AF16: 40532939 | AG16: 14521441 | AH16: 83345.9 | AI16: 1074226.1 | AJ16: 441956.12 | AK16: 95825.5 | AL16: 74788.46 | AM16: 2419972.7 | AN16: 491517.96 | AO16: 3405237.1 | AP16: 767851.96 | AQ16: 447037.1 | AR16: 945240.56 | AS16: 280167.02 | AT16: 300936.64 | AU16: 599733.92 | AV16: 161075.98 | AW16: 372783.48 | AX16: 263676.12 | AY16: 77195.24 | AZ16: 194057.78 | BA16: 1137872.1 | BB16: 774270.04 | BC16: 4275154.4 | BD16: 221334.62 | BE16: 203060.92 | BF16: 164998.14 | BG16: 166335.24 | BH16: 72827.38 | BI16: 231674.86 | BJ16: 8434694.2 | BK16: 73986.2 | BL16: 848791.08 | BM16: 2494761.2 | BN16: 1837799.4 | BO16: 109463.92 | BP16: 1831559.6 | BQ16: 549548.1 | BR16: 1753829.5 | BS16: 206180.82 | BT16: 574507.3 | BU16: 47155.06 | BV16: 240054.02 | BW16: 49116.14 | BX16: 398544.94 | BY16: 147437.56 | BZ16: 92081.62 | CA16: 49027 | CB16: 568980.62 | CC16: 680673.04 | CD16: 500699.38 | CE16: 190046.48 | CF16: 75323.3 | CG16: 910386.82 | CH16: 351479.02 | CI16: 978668.06 | CJ16: 2070187.4 | CK16: 380271.24 | CL16: 70420.6 | CM16: 55266.8 | CN16: 2249180.5 | CO16: 375457.68 | CP16: 377151.34 | CQ16: 312168.28 | CR16: 40202.14 | CS16: 304234.82 | CT16: 2378255.2 | CU16: 192274.98 | CV16: 100728.2 | CW16: 754926.66 | CX16: 91635.92 | CY16: 95201.52 | CZ16: 2476933.2 | DA16: 3731400.4 | DB16: 251820.5 | DC16: 292824.9 | DD16: 300847.5 | DE16: 74431.9 | DF16: 6799420.9 | DG16: 149042.08 | DH16: 863944.88 | DI16: 41628.38 | DJ16: 676305.18 | DK16: 278027.66 | DL16: 41004.4 | DM16: 197088.54 | DN16: 98945.4 | DO16: 281949.82 | DP16: 275710.02 | DQ16: 6262441.6 | DR16: 354509.78 | DS16: 407904.64 | DT16: 408617.76 | DU16: 106076.6 | DV16: 3838903.2 | DW16: 114901.46 | DX16: 664182.14 | DY16: 875711.36 | DZ16: 135671.08 | EA16: 1283972.6 | EB16: 397920.96 | EC16: 26474.58 | ED16: 397831.82 | EE16: 1045790.5 | EF16: 484832.46 | EG16: 579766.56 | EH16: 682188.42 | EI16: 366632.82 | EJ16: 666054.08 | EK16: 28346.52 | EL16: 91903.34 | EM16: 268935.38 | EN16: 186570.02 | EO16: 2234472.4 | EP16: 687982.52 | EQ16: 247541.78 | ER16: 88248.6 | ES16: 492498.5 | ET16: 41806.66 | EU16: 113742.64 | EV16: 72470.82 | EW16: 2508399.6 | EX16: 411648.52 | EY16: 54375.4 | EZ16: 112583.82 | FA16: 955580.8 | FB16: 519062.22 | FC16: 349874.5 | FD16: 78175.78 | FE16: 1058091.8 | FF16: 290774.68 | FG16: 384015.12 | FH16: 972339.12 | FI16: 229535.5 | FJ16: 458625.3 | FK16: 1895918.7 | FL16: 234973.04 | FM16: 366543.68 | FN16: 2374154.8 | FO16: 450780.98 | FP16: 741020.82 | FQ16: 59010.68 | FR16: 402110.54 | FS16: 301382.34 | FT16: 12220292 | FU16: 104472.08 | FV16: 550706.92 | FW16: 125776.54 | FX16: 165622.12 | FY16: 258416.86 | FZ16: 41450.1 | GA16: 102600.14 | GB16: 165711.26 | GC16: 761701.3 | GD16: 152251.12 | GE16: 981431.4 | GF16: 534305.16 | GG16: 156708.12 | GH16: 1127799.3 | GI16: 161967.38 | GJ16: 80760.84 | GK16: 4182805.4 | GL16: 258595.14 | GM16: 112227.26 | GN16: 287298.22 | GO16: 87624.62 | GP16: 106789.72 | GQ16: 91903.34 | GR16: 80671.7 | GS16: 237647.24 | GT16: 130055.26 | GU16: 181845.6 | GV16: 73897.06 | GW16: 86287.52 | GX16: 283376.06 | GY16: 368683.04 | GZ16: 2637920 | HA16: 1074761 | HB16: 1339774.2 | HC16: 137275.6 | HD16: 143426.26 | HE16: 1942271.5 | HF16: 124261.16 | HG16: 56693.04 | HH16: 118021.36 | HI16: 106076.6 | HJ16: 1461985.1 | HK16: 44302.58 | HL16: 3514611.9 | HM16: 200297.58 | HN16: 163393.62 | HO16: 314485.92 | HP16: 69529.2 | HQ16: 1290034.1 | HR16: 371802.94 | HS16: 135403.66 | HT16: 2423092.6 | HU16: 140217.22 | HV16: 124439.44 | HW16: 1403687.6 | HX16: 43232.9 | HY16: 3542691 | HZ16: 210905.24 | IA16: 50364.1 | IB16: 200654.14 | IC16: 1036252.5 | ID16: 112672.96 | IE16: 1240561.4 | IF16: 324380.46 | IG16: 387224.16 | IH16: 73807.92 | II16: 368237.34 | IJ16: 146189.6 | IK16: 477433.84 | IL16: 92438.18 | IM16: 280791 | IN16: 291309.52 | IO16: 131659.78 | IP16: 282930.36 | IQ16: 102600.14 | IR16: 1072354.2 | IS16: 211083.52 | IT16: 212688.04 | IU16: 150557.46 | IV16: 72649.1 | IW16: 269470.22 | IX16: 15491017 | IY16: 53038.3 | IZ16: 125330.84 | JA16: 192007.56 | JB16: 161610.82 | JC16: 115882 | JD16: 102778.42 | JE16: 1001487.9 | JF16: 12169125 | JG16: 121765.24 | JH16: 93864.42 | JI16: 2266562.8 | JJ16: 291131.24 | JK16: 576022.68 | JL16: 197266.82 | JM16: 103580.68 | JN16: 52325.18 | JO16: 163393.62 | JP16: 344526.1 | JQ16: 690835 | JR16: 3972435 | JS16: 994891.54 | JT16: 889795.48 | JU16: 104828.64 | JV16: 71757.7 | JW16: 228020.12 | JX16: 127559.34 | JY16: 155727.58 | JZ16: 1483289.6 | KA16: 231585.72 | KB16: 110801.02 | KC16: 123102.34 | KD16: 258327.72 | KE16: 278829.92 | KF16: 150914.02 | KG16: 731393.7 | KH16: 1668433.4 | KI16: 106344.02 | KJ16: 217145.04 | KK16: 803062.26
B17: Laskennalliset kustannukset, IKÄRAKENNE yhteensä | C17: 9.2547899e+09 | D17: 758083.57 | E17: 1.097231e+09 | F17: 16125086 | G17: 4867880 | H17: 18586973 | I17: 10822782 | J17: 8794159.7 | K17: 7781983.4 | L17: 28446557 | M17: 1858565.6 | N17: 2306172.9 | O17: 6.3174685e+08 | P17: 17469908 | Q17: 15145548 | R17: 3893719.4 | S17: 20671425 | T17: 12004507 | U17: 12821913 | V17: 1131550.5 | W17: 1515188.9 | X17: 26270256 | Y17: 6440926.1 | Z17: 9461439.6 | AA17: 9711325.2 | AB17: 2587399.8 | AC17: 16722877 | AD17: 13513458 | AE17: 2963962.7 | AF17: 1.097231e+09 | AG17: 4.5792878e+08 | AH17: 2320799.3 | AI17: 40730566 | AJ17: 14299602 | AK17: 2810076.2 | AL17: 1967348 | AM17: 74715275 | AN17: 18348952 | AO17: 1.0535886e+08 | AP17: 20588655 | AQ17: 21929120 | AR17: 31287184 | AS17: 9275155 | AT17: 9875145.8 | AU17: 25670557 | AV17: 3996355.3 | AW17: 9639271.2 | AX17: 8698530.9 | AY17: 2418934.4 | AZ17: 7029464.8 | BA17: 31667166 | BB17: 26863339 | BC17: 1.1466621e+08 | BD17: 7711949.9 | BE17: 6386365 | BF17: 4726845.8 | BG17: 3973121 | BH17: 2426637.3 | BI17: 6808766.6 | BJ17: 2.3662419e+08 | BK17: 2724973.4 | BL17: 25100345 | BM17: 83440575 | BN17: 72810291 | BO17: 3122224.2 | BP17: 59665017 | BQ17: 22689755 | BR17: 66913538 | BS17: 6245904.6 | BT17: 19277491 | BU17: 1426326.7 | BV17: 10222799 | BW17: 1402570.3 | BX17: 12060834 | BY17: 4355791.3 | BZ17: 2943333.4 | CA17: 1865902.3 | CB17: 19597396 | CC17: 23279788 | CD17: 20286812 | CE17: 7675640.8 | CF17: 2324568.5 | CG17: 28724432 | CH17: 13111316 | CI17: 48027864 | CJ17: 66641635 | CK17: 12637471 | CL17: 2253617.9 | CM17: 2845194.4 | CN17: 79900055 | CO17: 11369558 | CP17: 11252414 | CQ17: 11478126 | CR17: 1352686.1 | CS17: 8988144.2 | CT17: 93825821 | CU17: 6654846.3 | CV17: 3463744.2 | CW17: 32892860 | CX17: 3055237.6 | CY17: 2979573.8 | CZ17: 68661118 | DA17: 1.0787606e+08 | DB17: 8753401.3 | DC17: 11383874 | DD17: 8143030.2 | DE17: 1933748.4 | DF17: 1.9906031e+08 | DG17: 4542526.7 | DH17: 30973129 | DI17: 951321.77 | DJ17: 23329796 | DK17: 9110514.4 | DL17: 1972121.5 | DM17: 5644392.2 | DN17: 4300496.7 | DO17: 7784556.2 | DP17: 8470997.5 | DQ17: 1.8588028e+08 | DR17: 14783438 | DS17: 14699699 | DT17: 13500382 | DU17: 3971116.1 | DV17: 1.0672183e+08 | DW17: 3432446.4 | DX17: 25292950 | DY17: 43131522 | DZ17: 5279329.8 | EA17: 55399020 | EB17: 13053357 | EC17: 1024427.7 | ED17: 10667618 | EE17: 42200206 | EF17: 31462737 | EG17: 22519903 | EH17: 22274389 | EI17: 12326389 | EJ17: 20679370 | EK17: 758083.57 | EL17: 5297769.3 | EM17: 18764122 | EN17: 5718573 | EO17: 73725044 | EP17: 23325500 | EQ17: 8913037.8 | ER17: 3093508.4 | ES17: 19540664 | ET17: 2673043.6 | EU17: 4567929.9 | EV17: 1776207.4 | EW17: 76621892 | EX17: 20961282 | EY17: 1852502 | EZ17: 3855247.5 | FA17: 40440129 | FB17: 23735315 | FC17: 11742087 | FD17: 2483322.9 | FE17: 40213980 | FF17: 8535260.2 | FG17: 11435613 | FH17: 33170622 | FI17: 7330405.5 | FJ17: 23785600 | FK17: 67315721 | FL17: 9140731.9 | FM17: 11273707 | FN17: 92890866 | FO17: 16776363 | FP17: 27035175 | FQ17: 2196323.8 | FR17: 13551501 | FS17: 12163406 | FT17: 3.81075e+08 | FU17: 2791721.4 | FV17: 22429205 | FW17: 3926673.6 | FX17: 4767747.3 | FY17: 8623466.9 | FZ17: 986939.72 | GA17: 6497859.3 | GB17: 6204655.9 | GC17: 22587482 | GD17: 5130961.7 | GE17: 32755865 | GF17: 27677868 | GG17: 5403703.3 | GH17: 43238630 | GI17: 5769713.9 | GJ17: 2755411.7 | GK17: 1.2537981e+08 | GL17: 9283245.2 | GM17: 2587368 | GN17: 11679143 | GO17: 2723972.1 | GP17: 3296232.6 | GQ17: 2396809.7 | GR17: 1713213.9 | GS17: 8585557.1 | GT17: 5358173.3 | GU17: 6855899.4 | GV17: 3935735.4 | GW17: 3117455.1 | GX17: 9022856.4 | GY17: 14338739 | GZ17: 92192480 | HA17: 42554956 | HB17: 43738836 | HC17: 4241803.4 | HD17: 6598533.4 | HE17: 58780861 | HF17: 3632146.3 | HG17: 1444371.7 | HH17: 2777862.4 | HI17: 4810140.7 | HJ17: 45206101 | HK17: 1421023.6 | HL17: 1.1400961e+08 | HM17: 6077223.5 | HN17: 4831458.1 | HO17: 13906300 | HP17: 1539366.4 | HQ17: 41589573 | HR17: 12109044 | HS17: 2972891.6 | HT17: 73312049 | HU17: 4954170.5 | HV17: 3856548.8 | HW17: 37586514 | HX17: 1179006.9 | HY17: 1.2237426e+08 | HZ17: 10976973 | IA17: 1549167.6 | IB17: 10351365 | IC17: 42539921 | ID17: 3799648.1 | IE17: 43104703 | IF17: 10730031 | IG17: 11805177 | IH17: 2947175 | II17: 11927815 | IJ17: 4578432.3 | IK17: 16287353 | IL17: 2508098.1 | IM17: 7606526.6 | IN17: 9190387.6 | IO17: 2940573.4 | IP17: 8555794.4 | IQ17: 3159907.2 | IR17: 34359552 | IS17: 7834097 | IT17: 7406504.3 | IU17: 5404733.9 | IV17: 2369911 | IW17: 8621972.1 | IX17: 3.7334175e+08 | IY17: 1617690.7 | IZ17: 4778800.7 | JA17: 6870154.9 | JB17: 5535976.6 | JC17: 5178973.9 | JD17: 4386825.2 | JE17: 36816929 | JF17: 2.9108672e+08 | JG17: 3535437 | JH17: 2452224.9 | JI17: 80378914 | JJ17: 19453169 | JK17: 21939719 | JL17: 6033798 | JM17: 3870666.8 | JN17: 1471549.5 | JO17: 9408774.9 | JP17: 14245815 | JQ17: 21649022 | JR17: 1.1269212e+08 | JS17: 33824060 | JT17: 24529453 | JU17: 3522738 | JV17: 1696650.9 | JW17: 9446001.7 | JX17: 4416137.5 | JY17: 5421632.9 | JZ17: 52828631 | KA17: 7501521.5 | KB17: 3684057.2 | KC17: 3164593.9 | KD17: 7961420.4 | KE17: 11501596 | KF17: 4373770.5 | KG17: 32698479 | KH17: 72027994 | KI17: 2846882.2 | KJ17: 7068982.6 | KK17: 28004742
A19: 77.1 | B19: Työttömyysaste | C19: 4.3278825e+08 | D19: 25043.088 | E19: 59787159 | F19: 510801.82 | G19: 140919.34 | H19: 723117.4 | I19: 539429.58 | J19: 232221.72 | K19: 191572.39 | L19: 1166558.7 | M19: 99740.531 | N19: 114212.17 | O19: 23271512 | P19: 517526.12 | Q19: 408671.15 | R19: 80973.264 | S19: 1491442 | T19: 445138.47 | U19: 380598.36 | V19: 62918.07 | W19: 58456.308 | X19: 1625459.2 | Y19: 372182.56 | Z19: 523462.62 | AA19: 507884.08 | AB19: 179377.25 | AC19: 438202.87 | AD19: 433614.77 | AE19: 257668.91 | AF19: 59787159 | AG19: 22790053 | AH19: 130605.17 | AI19: 1392896.4 | AJ19: 551595.7 | AK19: 143849.56 | AL19: 151732.83 | AM19: 3778895.4 | AN19: 665762.97 | AO19: 5171540.7 | AP19: 1841477.3 | AQ19: 870403.42 | AR19: 1632596 | AS19: 478680.62 | AT19: 481081.86 | AU19: 526500.87 | AV19: 479779.55 | AW19: 419254.17 | AX19: 210065.7 | AY19: 82401.373 | AZ19: 189105.39 | BA19: 2561568.9 | BB19: 902912.53 | BC19: 7661663.3 | BD19: 273893.86 | BE19: 285407.16 | BF19: 337487.85 | BG19: 493070.09 | BH19: 82176.845 | BI19: 303400.86 | BJ19: 14328963 | BK19: 90520.253 | BL19: 1773634.1 | BM19: 3720232 | BN19: 1796811.7 | BO19: 239870.3 | BP19: 2628800.2 | BQ19: 660145.92 | BR19: 2078344.2 | BS19: 345188.89 | BT19: 949342.4 | BU19: 104921.95 | BV19: 288384.43 | BW19: 71443.311 | BX19: 683445.22 | BY19: 265515.01 | BZ19: 93854.293 | CA19: 101060.94 | CB19: 852001.54 | CC19: 745348.55 | CD19: 533223.38 | CE19: 186836.98 | CF19: 113996.98 | CG19: 1971565.3 | CH19: 402912.65 | CI19: 1155928.9 | CJ19: 3100332.4 | CK19: 767830.27 | CL19: 78424.981 | CM19: 130795.61 | CN19: 2698080.2 | CO19: 1018077 | CP19: 350280.82 | CQ19: 523908.9 | CR19: 91928.376 | CS19: 469856.18 | CT19: 3003878.7 | CU19: 232909.94 | CV19: 182016.39 | CW19: 890022.61 | CX19: 79811.223 | CY19: 123832.26 | CZ19: 4923929.5 | DA19: 6679219.4 | DB19: 248270.24 | DC19: 210614.8 | DD19: 552032.77 | DE19: 129744.68 | DF19: 10316739 | DG19: 118728.23 | DH19: 1043255.7 | DI19: 55697.28 | DJ19: 1099981.2 | DK19: 743243.39 | DL19: 75633.198 | DM19: 343891.32 | DN19: 151186.72 | DO19: 606253.4 | DP19: 301273.1 | DQ19: 12760339 | DR19: 330637.02 | DS19: 364126.42 | DT19: 643480.2 | DU19: 126783.44 | DV19: 6193371.5 | DW19: 144432.49 | DX19: 683061.36 | DY19: 1384126.9 | DZ19: 187480.94 | EA19: 1322589.2 | EB19: 632851.17 | EC19: 25043.088 | ED19: 1136643.1 | EE19: 861401.02 | EF19: 439576.3 | EG19: 1008521.7 | EH19: 1063314.7 | EI19: 394567.12 | EJ19: 1088518.3 | EK19: 44092.875 | EL19: 101449.3 | EM19: 101598.35 | EN19: 297747.63 | EO19: 3218842.7 | EP19: 567071.57 | EQ19: 130868.47 | ER19: 119748.72 | ES19: 385672.05 | ET19: 53780.891 | EU19: 224767.43 | EV19: 135774.68 | EW19: 3894833.7 | EX19: 549587.38 | EY19: 95251.757 | EZ19: 132267.91 | FA19: 534122.08 | FB19: 648388.52 | FC19: 426364.15 | FD19: 145845.22 | FE19: 1220287.6 | FF19: 469063.64 | FG19: 744056.12 | FH19: 1120694.6 | FI19: 318186.89 | FJ19: 610075.48 | FK19: 2523548.7 | FL19: 201289.33 | FM19: 816234.22 | FN19: 2647093 | FO19: 251301.2 | FP19: 1223516.7 | FQ19: 72167.006 | FR19: 600712.89 | FS19: 422233.77 | FT19: 19548264 | FU19: 233523.55 | FV19: 500706.98 | FW19: 197003.25 | FX19: 305620.41 | FY19: 403528.26 | FZ19: 58280.018 | GA19: 171091.99 | GB19: 274195.58 | GC19: 1294916.4 | GD19: 259704.57 | GE19: 1239523.2 | GF19: 289724.32 | GG19: 303631.75 | GH19: 1168493.3 | GI19: 340662.65 | GJ19: 144172.82 | GK19: 7389903.9 | GL19: 255198.64 | GM19: 229341.54 | GN19: 780149.54 | GO19: 121336.24 | GP19: 134281.36 | GQ19: 250344.46 | GR19: 124645.14 | GS19: 335344.15 | GT19: 216756.27 | GU19: 390630.96 | GV19: 81056.271 | GW19: 102340.68 | GX19: 300319.1 | GY19: 466033.51 | GZ19: 3413334.3 | HA19: 1913056.6 | HB19: 1700776 | HC19: 242121.63 | HD19: 208666.92 | HE19: 2512413.9 | HF19: 200440.31 | HG19: 137725.38 | HH19: 279442.62 | HI19: 122372.36 | HJ19: 2332897 | HK19: 62424.394 | HL19: 4147270.2 | HM19: 369947.86 | HN19: 311222.96 | HO19: 230567.78 | HP19: 206037.47 | HQ19: 1544366.2 | HR19: 884140.98 | HS19: 262659.12 | HT19: 3793783.3 | HU19: 121439.02 | HV19: 231796.07 | HW19: 2659936 | HX19: 87871.261 | HY19: 3870531.7 | HZ19: 308986.34 | IA19: 101657.62 | IB19: 316313.33 | IC19: 1285506.7 | ID19: 172242.49 | IE19: 1118166.7 | IF19: 297672.87 | IG19: 337211.33 | IH19: 82890.023 | II19: 575307.32 | IJ19: 261816.27 | IK19: 442035.49 | IL19: 152357.05 | IM19: 590726.84 | IN19: 449660.94 | IO19: 247363.51 | IP19: 321704.91 | IQ19: 245598.23 | IR19: 1370687.3 | IS19: 299018.38 | IT19: 307226.71 | IU19: 328192.61 | IV19: 124543.47 | IW19: 317358.56 | IX19: 24170117 | IY19: 108321.77 | IZ19: 182936.46 | JA19: 262831.18 | JB19: 430641.8 | JC19: 157170.17 | JD19: 136725.07 | JE19: 1239114.4 | JF19: 19893152 | JG19: 200738.23 | JH19: 215798.5 | JI19: 2506531.2 | JJ19: 378289.88 | JK19: 716470.03 | JL19: 394047.58 | JM19: 207849.91 | JN19: 62147.664 | JO19: 256845.1 | JP19: 299141.62 | JQ19: 1076569.4 | JR19: 4307538.9 | JS19: 1655060.9 | JT19: 2007558.2 | JU19: 142023.78 | JV19: 152455.77 | JW19: 231932.74 | JX19: 131145.68 | JY19: 181591.16 | JZ19: 1746797.7 | KA19: 469414.12 | KB19: 114546.68 | KC19: 241119.94 | KD19: 390059.88 | KE19: 284799.51 | KF19: 270686.19 | KG19: 981538.78 | KH19: 1727623.8 | KI19: 137061.52 | KJ19: 325069.39 | KK19: 1768524.3
A20: 327.24 | B20: Kaksikielisyys I (koko väestö) | C20: 45031287 | D20: 0 | E20: 15906299 | F20: 0 | G20: 0 | H20: 0 | I20: 0 | J20: 0 | K20: 0 | L20: 0 | M20: 0 | N20: 0 | O20: 7461111.3 | P20: 0 | Q20: 0 | R20: 0 | S20: 0 | T20: 0 | U20: 0 | V20: 0 | W20: 0 | X20: 0 | Y20: 0 | Z20: 174549.82 | AA20: 0 | AB20: 0 | AC20: 0 | AD20: 0 | AE20: 0 | AF20: 15906299 | AG20: 5794412.5 | AH20: 0 | AI20: 0 | AJ20: 0 | AK20: 0 | AL20: 0 | AM20: 0 | AN20: 0 | AO20: 0 | AP20: 0 | AQ20: 0 | AR20: 0 | AS20: 0 | AT20: 0 | AU20: 0 | AV20: 0 | AW20: 0 | AX20: 123490.56 | AY20: 0 | AZ20: 0 | BA20: 0 | BB20: 0 | BC20: 0 | BD20: 0 | BE20: 0 | BF20: 0 | BG20: 0 | BH20: 0 | BI20: 0 | BJ20: 0 | BK20: 0 | BL20: 0 | BM20: 0 | BN20: 0 | BO20: 0 | BP20: 0 | BQ20: 0 | BR20: 0 | BS20: 0 | BT20: 0 | BU20: 0 | BV20: 0 | BW20: 0 | BX20: 0 | BY20: 0 | BZ20: 0 | CA20: 28587.686 | CB20: 0 | CC20: 0 | CD20: 236352.36 | CE20: 0 | CF20: 0 | CG20: 0 | CH20: 0 | CI20: 0 | CJ20: 0 | CK20: 0 | CL20: 0 | CM20: 0 | CN20: 955786.23 | CO20: 0 | CP20: 0 | CQ20: 0 | CR20: 0 | CS20: 0 | CT20: 1107268.9 | CU20: 0 | CV20: 0 | CW20: 0 | CX20: 45447.091 | CY20: 0 | CZ20: 0 | DA20: 0 | DB20: 140029.27 | DC20: 143579.82 | DD20: 0 | DE20: 0 | DF20: 0 | DG20: 0 | DH20: 0 | DI20: 0 | DJ20: 0 | DK20: 0 | DL20: 0 | DM20: 0 | DN20: 0 | DO20: 0 | DP20: 145229.11 | DQ20: 0 | DR20: 0 | DS20: 0 | DT20: 0 | DU20: 0 | DV20: 0 | DW20: 55663.524 | DX20: 0 | DY20: 0 | DZ20: 0 | EA20: 0 | EB20: 0 | EC20: 0 | ED20: 0 | EE20: 0 | EF20: 0 | EG20: 0 | EH20: 0 | EI20: 0 | EJ20: 325184.93 | EK20: 0 | EL20: 0 | EM20: 136409.99 | EN20: 0 | EO20: 1040770.5 | EP20: 337004.84 | EQ20: 123513.47 | ER20: 0 | ES20: 0 | ET20: 0 | EU20: 0 | EV20: 0 | EW20: 0 | EX20: 0 | EY20: 0 | EZ20: 0 | FA20: 453371.39 | FB20: 0 | FC20: 0 | FD20: 38758.306 | FE20: 0 | FF20: 0 | FG20: 0 | FH20: 0 | FI20: 0 | FJ20: 0 | FK20: 0 | FL20: 0 | FM20: 0 | FN20: 0 | FO20: 218485.06 | FP20: 0 | FQ20: 0 | FR20: 0 | FS20: 0 | FT20: 0 | FU20: 0 | FV20: 0 | FW20: 0 | FX20: 0 | FY20: 0 | FZ20: 0 | GA20: 0 | GB20: 0 | GC20: 0 | GD20: 0 | GE20: 450278.97 | GF20: 258594.87 | GG20: 0 | GH20: 0 | GI20: 0 | GJ20: 0 | GK20: 0 | GL20: 0 | GM20: 0 | GN20: 0 | GO20: 0 | GP20: 0 | GQ20: 0 | GR20: 0 | GS20: 114900.51 | GT20: 0 | GU20: 0 | GV20: 0 | GW20: 0 | GX20: 0 | GY20: 0 | GZ20: 1188015.4 | HA20: 0 | HB20: 0 | HC20: 0 | HD20: 0 | HE20: 0 | HF20: 0 | HG20: 0 | HH20: 0 | HI20: 0 | HJ20: 0 | HK20: 0 | HL20: 0 | HM20: 0 | HN20: 0 | HO20: 0 | HP20: 0 | HQ20: 615185.02 | HR20: 0 | HS20: 0 | HT20: 0 | HU20: 0 | HV20: 0 | HW20: 0 | HX20: 0 | HY20: 0 | HZ20: 0 | IA20: 0 | IB20: 0 | IC20: 0 | ID20: 0 | IE20: 526993.84 | IF20: 141838.91 | IG20: 0 | IH20: 0 | II20: 0 | IJ20: 0 | IK20: 0 | IL20: 0 | IM20: 0 | IN20: 0 | IO20: 0 | IP20: 0 | IQ20: 0 | IR20: 0 | IS20: 0 | IT20: 0 | IU20: 0 | IV20: 0 | IW20: 0 | IX20: 0 | IY20: 0 | IZ20: 0 | JA20: 0 | JB20: 0 | JC20: 0 | JD20: 0 | JE20: 0 | JF20: 4802021.2 | JG20: 0 | JH20: 0 | JI20: 0 | JJ20: 0 | JK20: 0 | JL20: 0 | JM20: 0 | JN20: 0 | JO20: 0 | JP20: 169304.16 | JQ20: 0 | JR20: 1631170.3 | JS20: 0 | JT20: 0 | JU20: 0 | JV20: 0 | JW20: 0 | JX20: 0 | JY20: 0 | JZ20: 0 | KA20: 0 | KB20: 0 | KC20: 0 | KD20: 0 | KE20: 141678.56 | KF20: 0 | KG20: 0 | KH20: 0 | KI20: 0 | KJ20: 0 | KK20: 0
A21: 327.24 | B21: Kaksikielisyys II, (ruotsink.) | C21: 73642548 | D21: 0 | E21: 11366541 | F21: 0 | G21: 0 | H21: 0 | I21: 0 | J21: 0 | K21: 0 | L21: 0 | M21: 0 | N21: 0 | O21: 6131096.6 | P21: 0 | Q21: 0 | R21: 0 | S21: 0 | T21: 0 | U21: 0 | V21: 0 | W21: 0 | X21: 0 | Y21: 0 | Z21: 955910.58 | AA21: 0 | AB21: 0 | AC21: 0 | AD21: 0 | AE21: 0 | AF21: 11366541 | AG21: 1604444.6 | AH21: 0 | AI21: 0 | AJ21: 0 | AK21: 0 | AL21: 0 | AM21: 0 | AN21: 0 | AO21: 0 | AP21: 0 | AQ21: 0 | AR21: 0 | AS21: 0 | AT21: 0 | AU21: 0 | AV21: 0 | AW21: 0 | AX21: 832959.97 | AY21: 0 | AZ21: 0 | BA21: 0 | BB21: 0 | BC21: 0 | BD21: 0 | BE21: 0 | BF21: 0 | BG21: 0 | BH21: 0 | BI21: 0 | BJ21: 0 | BK21: 0 | BL21: 0 | BM21: 0 | BN21: 0 | BO21: 0 | BP21: 0 | BQ21: 0 | BR21: 0 | BS21: 0 | BT21: 0 | BU21: 0 | BV21: 0 | BW21: 0 | BX21: 0 | BY21: 0 | BZ21: 0 | CA21: 102560.29 | CB21: 0 | CC21: 0 | CD21: 949519.58 | CE21: 0 | CF21: 0 | CG21: 0 | CH21: 0 | CI21: 0 | CJ21: 0 | CK21: 0 | CL21: 0 | CM21: 0 | CN21: 1834520.5 | CO21: 0 | CP21: 0 | CQ21: 0 | CR21: 0 | CS21: 0 | CT21: 1716743.6 | CU21: 0 | CV21: 0 | CW21: 0 | CX21: 500932.45 | CY21: 0 | CZ21: 0 | DA21: 0 | DB21: 965649.24 | DC21: 1438887.4 | DD21: 0 | DE21: 0 | DF21: 0 | DG21: 0 | DH21: 0 | DI21: 0 | DJ21: 0 | DK21: 0 | DL21: 0 | DM21: 0 | DN21: 0 | DO21: 0 | DP21: 1259026.4 | DQ21: 0 | DR21: 0 | DS21: 0 | DT21: 0 | DU21: 0 | DV21: 0 | DW21: 211207.24 | DX21: 0 | DY21: 0 | DZ21: 0 | EA21: 0 | EB21: 0 | EC21: 0 | ED21: 0 | EE21: 0 | EF21: 0 | EG21: 0 | EH21: 0 | EI21: 0 | EJ21: 1670484.9 | EK21: 0 | EL21: 0 | EM21: 1660746.3 | EN21: 0 | EO21: 473238.13 | EP21: 2394798 | EQ21: 1385324.7 | ER21: 0 | ES21: 0 | ET21: 0 | EU21: 0 | EV21: 0 | EW21: 0 | EX21: 0 | EY21: 0 | EZ21: 0 | FA21: 4090542.5 | FB21: 0 | FC21: 0 | FD21: 47171.646 | FE21: 0 | FF21: 0 | FG21: 0 | FH21: 0 | FI21: 0 | FJ21: 0 | FK21: 0 | FL21: 0 | FM21: 0 | FN21: 0 | FO21: 2108116.1 | FP21: 0 | FQ21: 0 | FR21: 0 | FS21: 0 | FT21: 0 | FU21: 0 | FV21: 0 | FW21: 0 | FX21: 0 | FY21: 0 | FZ21: 0 | GA21: 0 | GB21: 0 | GC21: 0 | GD21: 0 | GE21: 3175412.6 | GF21: 3036332.3 | GG21: 0 | GH21: 0 | GI21: 0 | GJ21: 0 | GK21: 0 | GL21: 0 | GM21: 0 | GN21: 0 | GO21: 0 | GP21: 0 | GQ21: 0 | GR21: 0 | GS21: 98603.957 | GT21: 0 | GU21: 0 | GV21: 0 | GW21: 0 | GX21: 0 | GY21: 0 | GZ21: 4288359.1 | HA21: 0 | HB21: 0 | HC21: 0 | HD21: 0 | HE21: 0 | HF21: 0 | HG21: 0 | HH21: 0 | HI21: 0 | HJ21: 0 | HK21: 0 | HL21: 0 | HM21: 0 | HN21: 0 | HO21: 0 | HP21: 0 | HQ21: 5172751.4 | HR21: 0 | HS21: 0 | HT21: 0 | HU21: 0 | HV21: 0 | HW21: 0 | HX21: 0 | HY21: 0 | HZ21: 0 | IA21: 0 | IB21: 0 | IC21: 0 | ID21: 0 | IE21: 1879257.5 | IF21: 489672.12 | IG21: 0 | IH21: 0 | II21: 0 | IJ21: 0 | IK21: 0 | IL21: 0 | IM21: 0 | IN21: 0 | IO21: 0 | IP21: 0 | IQ21: 0 | IR21: 0 | IS21: 0 | IT21: 0 | IU21: 0 | IV21: 0 | IW21: 0 | IX21: 0 | IY21: 0 | IZ21: 0 | JA21: 0 | JB21: 0 | JC21: 0 | JD21: 0 | JE21: 0 | JF21: 3440791.2 | JG21: 0 | JH21: 0 | JI21: 0 | JJ21: 0 | JK21: 0 | JL21: 0 | JM21: 0 | JN21: 0 | JO21: 0 | JP21: 1883518.2 | JQ21: 0 | JR21: 4947849.2 | JS21: 0 | JT21: 0 | JU21: 0 | JV21: 0 | JW21: 0 | JX21: 0 | JY21: 0 | JZ21: 0 | KA21: 0 | KB21: 0 | KC21: 0 | KD21: 0 | KE21: 1529578.7 | KF21: 0 | KG21: 0 | KH21: 0 | KI21: 0 | KJ21: 0 | KK21: 0
