Workbook

Sheet Uppgifter om filen
B4: Materialets namn: | D4: Preliminära statsandelar för kommunerna 2027, september 2026
B5: Uppgifter om materialet: | D5: FM:s preliminära statsandelsberäkning, september 2026, och UKM:s statsandel enligt läget 3.8.2026
B6: Kontaktperson: | D6: Olli Riikonen, tfn 050 477 5619, olli.riikonen@kuntaliitto.fi
B7: Datum: | D7: 22.9.2026 (19.10.2026 avlägsnades formelreferenserna för säkerhets skull)
B8: Användningsvillkor:
B9: Du får
D11: Dela
D12: kopiera och sprida materialet vidare i vilket medium och format som helst
D14: Bearbeta
D15: remixa och bearbeta materialet samt skapa nytt material utifrån det
D16: för vilket ändamål som helst, även kommersiellt.

Sheet 1.a. Statsandelsberäkning
A1: Preliminär statsandelsberäkning för 2027, sammanfattning | V1: Kommunernas statsandelar och ersättningar för skatteförluster 2026, sammanfattning
A2: Sammandrag av FM:s preliminära statsandelsberäkning för 2027 + UKM:s statsandel enligt statsandelsbeslutet för 2026 | V2: Sammandrag av FM:s slutliga statsandelsberäkning för 2026 utan behovsprövade höjningar + UKM:s statsandel enligt statsandelsbesluten för 2026
A3: Kommunförbundets publikation 22.9.2026
A4: Källor: | V4: Källor:
A5: Preliminära beräkningsuppgifter för statsandelarna 2027 / FM, september 2026 | V5: Beräkningsuppgifter för statsandelarna 2026 / FM, juni 2026
A6: UKM:s statsandelar 2026 / UKM 3.8.2026 (Utbildningsstyrelsens beräkning 24.7.2026) | V6: UKM:s statsandelar 2026 / UKM 3.8.2026 (Utbildningsstyrelsens beräkning 24.7.2026)
A7: Förändringsberäkningar Kommunförbundet / Olli Riikonen | V7: Förändringsberäkningar Kommunförbundet / Olli Riikonen
A8: Numret i kolumnrubriken hänvisar till det bokföringskonto där posten i fråga bokförs. | V8: Numret i kolumnrubriken hänvisar till det bokföringskonto där posten i fråga bokförs.
A9: Kommunnr | B9: Kommun | C9: Invånarantal 31.12.2025 | D9: Statsandel för basservice utan utjämning och social- och hälsovårdsposter (F–E) | E9: Social- och hälsovårds-poster | F9: 5501 Statsandel för basservice utan utjämning (D+E) | G9: 5502 Utjämning av statsandelen på basis av skatteinkomster | H9: Kommunens statsandel för basservice totalt (F+G) | I9: 5890 Ersättning för skatteförluster | J9: FM:s statsandelar och ersättning för skatteförluster totalt (H+I) | K9: 5701 Statsandel för undervisnings- och kulturverksamhet (s.k. UKM-statsandel) 2026 | L9: Kommunens statsandelar totalt (J+K) | M9: Kommunens statsandelar totalt, euro/invånare | N9: Hemkommunsersättning, netto | O9: Utbetalning av statsandelar (statsandelar + hemkommunsersättningar) | P9: Landskapsnr | Q9: Välfärdsområdesnr | R9: Förändring av statsandelarna totalt, euro 2026–2027 | S9: Förändring totalt, % | T9: Förändring totalt, euro/invånare | V9: Kommunnr | W9: Kommun | X9: Invånarantal 31.12.2024 | Y9: Statsandel för basservice utan utjämning och social- och hälsovårdsposter (AA–Z) | Z9: Social- och hälsovårdsposter | AA9: 5501 Statsandel för basservice utan utjämning (Y+Z) | AB9: 5502 Utjämning av statsandelen på basis av skatteinkomster | AC9: Kommunens statsandel för basservice totalt (AA+AB) | AD9: 5890 Ersättning för skattebortfall | AE9: FM:s statsandelar och ersättning för skattebortfall totalt | AF9: 5701 Statsandel för undervisnings- och kulturverksamhet (s.k. UKM-statsandel) 2026 | AG9: Kommunens statsandelar totalt (AE+AF) | AH9: Kommunens statsandelar totalt, euro/invånare | AI9: Hemkommunsersättning, netto | AJ9: Utbetalning av statsandelar (statsandelar + hemkommunsersättningar) | AK9: Landskapsnr | AL9: Välfärdsområdesnr
B10: TOTALT | C10: 5622045 | D10: 2.5988348e+09 | E10: 0.27999703 | F10: 2.5988348e+09 | G10: 8.0492514e+08 | H10: 3.4037599e+09 | I10: 6.165e+08 | J10: 4.0202599e+09 | K10: 153721870 | L10: 4.1739818e+09 | M10: 742.43123 | N10: -2.7181064e+08 | O10: 3.9021711e+09 | P10: 0 | Q10: 0 | R10: -28268220 | S10: -0.0067269249 | T10: -5.0281028 | W10: TOTALT | X10: 5605317 | Y10: 2.7390108e+09 | Z10: 0.27999703 | AA10: 2.7390108e+09 | AB10: 7.8251737e+08 | AC10: 3.5215281e+09 | AD10: 5.27e+08 | AE10: 4.0485281e+09 | AF10: 153721870 | AG10: 4.20225e+09 | AH10: 749.68998 | AI10: -2.5286194e+08 | AJ10: 3.9493881e+09 | AK10: 0 | AL10: 0
A11: 5 | B11: Alajärvi | C11: 8982 | D11: 4566114.2 | E11: 1057381.1 | F11: 5623495.3 | G11: 5336568.5 | H11: 10960064 | I11: 1524212.6 | J11: 12484276 | K11: 525570 | L11: 13009846 | M11: 1448.4354 | N11: -520411.02 | O11: 12489435 | P11: 14 | Q11: 14 | R11: 117704.54 | S11: 0.0091299448 | T11: 13.104492 | V11: 5 | W11: Alajärvi | X11: 9078 | Y11: 4806528.8 | Z11: 1070292.2 | AA11: 5876821 | AB11: 5075761.3 | AC11: 10952582 | AD11: 1413989.6 | AE11: 12366572 | AF11: 525570 | AG11: 12892142 | AH11: 1420.1522 | AI11: -399462.17 | AJ11: 12492680 | AK11: 14 | AL11: 14
A12: 9 | B12: Alavieska | C12: 2384 | D12: 1497790.4 | E12: 494035.1 | F12: 1991825.5 | G12: 1766431.5 | H12: 3758257 | I12: 392967.77 | J12: 4151224.8 | K12: -538205 | L12: 3613019.8 | M12: 1515.5284 | N12: 110890.63 | O12: 3723910.4 | P12: 17 | Q12: 17 | R12: -101727.59 | S12: -0.027384794 | T12: -42.67097 | V12: 9 | W12: Alavieska | X12: 2410 | Y12: 1620188.4 | Z12: 497475.54 | AA12: 2117664 | AB12: 1776047 | AC12: 3893711 | AD12: 359241.4 | AE12: 4252952.4 | AF12: -538205 | AG12: 3714747.4 | AH12: 1541.3889 | AI12: 113072 | AJ12: 3827819.4 | AK12: 17 | AL12: 17
A13: 10 | B13: Alavus | C13: 10634 | D13: 4626380.7 | E13: -916360.13 | F13: 3710020.5 | G13: 6680702.6 | H13: 10390723 | I13: 1802651.7 | J13: 12193375 | K13: -767804 | L13: 11425571 | M13: 1074.4377 | N13: -79431.641 | O13: 11346139 | P13: 14 | Q13: 14 | R13: -38187.6 | S13: -0.0033311589 | T13: -3.5910852 | V13: 10 | W13: Alavus | X13: 10780 | Y13: 4872991.1 | Z13: -1067280.9 | AA13: 3805710.2 | AB13: 6775281.5 | AC13: 10580992 | AD13: 1650570.7 | AE13: 12231562 | AF13: -767804 | AG13: 11463758 | AH13: 1063.4284 | AI13: 8922.0875 | AJ13: 11472680 | AK13: 14 | AL13: 14
A14: 16 | B14: Asikkala | C14: 7841 | D14: 323478.51 | E14: 3783635.9 | F14: 4107114.5 | G14: 2363417.2 | H14: 6470531.7 | I14: 1093228.5 | J14: 7563760.2 | K14: -637863 | L14: 6925897.2 | M14: 883.29259 | N14: 473416.27 | O14: 7399313.4 | P14: 7 | Q14: 7 | R14: -827378.34 | S14: -0.10671339 | T14: -105.51949 | V14: 16 | W14: Asikkala | X14: 7889 | Y14: 1073993.7 | Z14: 3915113.5 | AA14: 4989107.2 | AB14: 2433035 | AC14: 7422142.1 | AD14: 968996.37 | AE14: 8391138.5 | AF14: -637863 | AG14: 7753275.5 | AH14: 982.79573 | AI14: 483347.47 | AJ14: 8236623 | AK14: 7 | AL14: 7
A15: 18 | B15: Askola | C15: 4677 | D15: 2219179.3 | E15: -547602.15 | F15: 1671577.1 | G15: 1017533.3 | H15: 2689110.4 | I15: 501608.6 | J15: 3190719 | K15: -121633 | L15: 3069086 | M15: 656.20825 | N15: 706581.81 | O15: 3775667.8 | P15: 1 | Q15: 34 | R15: -96952.658 | S15: -0.030622702 | T15: -20.729668 | V15: 18 | W15: Askola | X15: 4651 | Y15: 2489657.5 | Z15: -612350.46 | AA15: 1877307 | AB15: 996978.65 | AC15: 2874285.7 | AD15: 413385.97 | AE15: 3287671.7 | AF15: -121633 | AG15: 3166038.7 | AH15: 680.72214 | AI15: 641595.26 | AJ15: 3807633.9 | AK15: 1 | AL15: 34
A16: 19 | B16: Aura | C16: 3937 | D16: 2066457.6 | E16: -712801.28 | F16: 1353656.4 | G16: 1375014.2 | H16: 2728670.6 | I16: 369193.06 | J16: 3097863.6 | K16: -964731 | L16: 2133132.6 | M16: 541.81677 | N16: 56515.474 | O16: 2189648.1 | P16: 2 | Q16: 2 | R16: -120455.98 | S16: -0.053450741 | T16: -30.595881 | V16: 19 | W16: Aura | X16: 3966 | Y16: 2094842.1 | Z16: -766701.56 | AA16: 1328140.5 | AB16: 1588957.8 | AC16: 2917098.4 | AD16: 301221.26 | AE16: 3218319.6 | AF16: -964731 | AG16: 2253588.6 | AH16: 568.22708 | AI16: 79592.087 | AJ16: 2333180.7 | AK16: 2 | AL16: 2
A17: 20 | B17: Akaa | C17: 16429 | D17: 5355738.6 | E17: -4489516.3 | F17: 866222.3 | G17: 6794825.4 | H17: 7661047.7 | I17: 1423814.2 | J17: 9084861.9 | K17: -2763453 | L17: 6321408.9 | M17: 384.77137 | N17: -96129.814 | O17: 6225279.1 | P17: 6 | Q17: 6 | R17: 217506.32 | S17: 0.035633976 | T17: 13.23917 | V17: 20 | W17: Akaa | X17: 16387 | Y17: 5703508.4 | Z17: -4713450.5 | AA17: 990057.9 | AB17: 6747448.9 | AC17: 7737506.8 | AD17: 1129848.8 | AE17: 8867355.6 | AF17: -2763453 | AG17: 6103902.6 | AH17: 372.48444 | AI17: -358561.91 | AJ17: 5745340.7 | AK17: 6 | AL17: 6
A18: 46 | B18: Enonkoski | C18: 1273 | D18: 1044539 | E18: 609099.58 | F18: 1653638.6 | G18: 460678.57 | H18: 2114317.2 | I18: 260111.19 | J18: 2374428.4 | K18: -381686 | L18: 1992742.4 | M18: 1565.3907 | N18: 540707.14 | O18: 2533449.5 | P18: 10 | Q18: 10 | R18: 12562.278 | S18: 0.006344008 | T18: 9.8682469 | V18: 46 | W18: Enonkoski | X18: 1288 | Y18: 952773.76 | Z18: 631100 | AA18: 1583873.8 | AB18: 532260.5 | AC18: 2116134.3 | AD18: 245731.84 | AE18: 2361866.1 | AF18: -381686 | AG18: 1980180.1 | AH18: 1537.4069 | AI18: 510944.1 | AJ18: 2491124.2 | AK18: 10 | AL18: 10
A19: 47 | B19: Enontekiö | C19: 1769 | D19: 2320694.6 | E19: 355521.56 | F19: 2676216.2 | G19: 294775.03 | H19: 2970991.2 | I19: 306294.05 | J19: 3277285.2 | K19: -46308 | L19: 3230977.2 | M19: 1826.4428 | N19: -53507.958 | O19: 3177469.3 | P19: 19 | Q19: 19 | R19: -205035.85 | S19: -0.059672606 | T19: -115.90495 | V19: 47 | W19: Enontekiö | X19: 1762 | Y19: 2396193.2 | Z19: 385232.79 | AA19: 2781426 | AB19: 415214.51 | AC19: 3196640.5 | AD19: 285680.62 | AE19: 3482321.1 | AF19: -46308 | AG19: 3436013.1 | AH19: 1950.0642 | AI19: -68903.25 | AJ19: 3367109.8 | AK19: 19 | AL19: 19
A20: 49 | B20: Espoo | C20: 325716 | D20: 3.2164575e+08 | E20: 1.4616114e+08 | F20: 4.6780689e+08 | G20: -25866900 | H20: 4.4193999e+08 | I20: 27145350 | J20: 4.6908534e+08 | K20: 8305398 | L20: 4.7739074e+08 | M20: 1465.6656 | N20: -19426448 | O20: 4.5796429e+08 | P20: 1 | Q20: 33 | R20: 1147827 | S20: 0.0024101713 | T20: 3.5240118 | V20: 49 | W20: Espoo | X20: 320931 | Y20: 3.201854e+08 | Z20: 1.5116946e+08 | AA20: 4.7135486e+08 | AB20: -25136908 | AC20: 4.4621795e+08 | AD20: 21719562 | AE20: 4.6793752e+08 | AF20: 8305398 | AG20: 4.7624291e+08 | AH20: 1483.9418 | AI20: -19057102 | AJ20: 4.5718581e+08 | AK20: 1 | AL20: 33
A21: 50 | B21: Eura | C21: 11005 | D21: 2397093.9 | E21: -965338.08 | F21: 1431755.8 | G21: 2924786.7 | H21: 4356542.5 | I21: 1282106.5 | J21: 5638649 | K21: -1286895 | L21: 4351754 | M21: 395.43426 | N21: 360606.73 | O21: 4712360.7 | P21: 4 | Q21: 4 | R21: -593755.86 | S21: -0.12005959 | T21: -53.953281 | V21: 50 | W21: Eura | X21: 11084 | Y21: 3075083.8 | Z21: -1097089.3 | AA21: 1977994.4 | AB21: 3171299.7 | AC21: 5149294.2 | AD21: 1083110.7 | AE21: 6232404.9 | AF21: -1286895 | AG21: 4945509.9 | AH21: 446.18458 | AI21: 273015.88 | AJ21: 5218525.7 | AK21: 4 | AL21: 4
A22: 51 | B22: Eurajoki | C22: 8920 | D22: 2800596.2 | E22: -8194793.7 | F22: -5394197.4 | G22: -267086.25 | H22: -5661283.7 | I22: 1440172.8 | J22: -4221110.8 | K22: -746766 | L22: -4967876.8 | M22: -556.93686 | N22: 14668.561 | O22: -4953208.3 | P22: 4 | Q22: 4 | R22: -509856.76 | S22: -0.11436843 | T22: -57.15883 | V22: 51 | W22: Eurajoki | X22: 9052 | Y22: 3668408.5 | Z22: -8320008.2 | AA22: -4651599.6 | AB22: -341571.7 | AC22: -4993171.3 | AD22: 1281917.3 | AE22: -3711254.1 | AF22: -746766 | AG22: -4458020.1 | AH22: -492.49007 | AI22: -6978.6625 | AJ22: -4464998.7 | AK22: 4 | AL22: 4
... A32: 79 | B32: Harjavalta | C32: 6565 | D32: 1088623.4 | E32: -1673522.1 | F32: -584898.76 | G32: -419529.23 | H32: -1004428 | I32: 686137.06 | J32: -318290.92 | K32: -76868 | L32: -395158.92 | M32: -60.191763 | N32: 7380.408 | O32: -387778.51 | P32: 4 | Q32: 4 | R32: -70545.146 | S32: -0.21732025 | T32: -10.745643 | V32: 79 | W32: Harjavalta | X32: 6647 | Y32: 1260439.1 | Z32: -1765322.5 | AA32: -504883.41 | AB32: -317898.59 | AC32: -822782 | AD32: 575036.22 | AE32: -247745.78 | AF32: -76868 | AG32: -324613.78 | AH32: -48.836133 | AI32: 49557.338 | AJ32: -275056.44 | AK32: 4 | AL32: 4
A33: 81 | B33: Hartola | C33: 2401 | D33: 22164.957 | E33: -155180.8 | F33: -133015.85 | G33: 265789.4 | H33: 132773.56 | I33: 494708.08 | J33: 627481.64 | K33: -744608 | L33: -117126.36 | M33: -48.782324 | N33: -107015.92 | O33: -224142.27 | P33: 7 | Q33: 7 | R33: -187366.37 | S33: inte meningsfull | T33: -78.036805 | V33: 81 | W33: Hartola | X33: 2482 | Y33: 97304.34 | Z33: -151561.8 | AA33: -54257.465 | AB33: 398264.71 | AC33: 344007.24 | AD33: 470840.77 | AE33: 814848.01 | AF33: -744608 | AG33: 70240.01 | AH33: 28.299762 | AI33: -171374.75 | AJ33: -101134.74 | AK33: 7 | AL33: 7
A34: 82 | B34: Hattula | C34: 9346 | D34: 3231680.5 | E34: 93459.116 | F34: 3325139.6 | G34: 1645745.3 | H34: 4970884.9 | I34: 819611.64 | J34: 5790496.5 | K34: -2196127 | L34: 3594369.5 | M34: 384.58908 | N34: -42326.64 | O34: 3552042.9 | P34: 5 | Q34: 5 | R34: 1049166.5 | S34: 0.41221329 | T34: 112.25835 | V34: 82 | W34: Hattula | X34: 9361 | Y34: 3473480.6 | Z34: 106617.7 | AA34: 3580098.3 | AB34: 523213.92 | AC34: 4103312.3 | AD34: 638017.76 | AE34: 4741330 | AF34: -2196127 | AG34: 2545203 | AH34: 271.89435 | AI34: 759.7025 | AJ34: 2545962.7 | AK34: 5 | AL34: 5
A35: 86 | B35: Hausjärvi | C35: 7862 | D35: 2675880.3 | E35: -480961.98 | F35: 2194918.3 | G35: 2420625.8 | H35: 4615544.2 | I35: 838830.65 | J35: 5454374.8 | K35: -1186904 | L35: 4267470.8 | M35: 542.7971 | N35: -7103.6427 | O35: 4260367.2 | P35: 5 | Q35: 5 | R35: -62279.578 | S35: -0.014384104 | T35: -7.9215948 | V35: 86 | W35: Hausjärvi | X35: 7901 | Y35: 2868779.4 | Z35: -590135.53 | AA35: 2278643.9 | AB35: 2536218.7 | AC35: 4814862.6 | AD35: 701791.78 | AE35: 5516654.4 | AF35: -1186904 | AG35: 4329750.4 | AH35: 548.0003 | AI35: 23144.425 | AJ35: 4352894.8 | AK35: 5 | AL35: 5
A36: 90 | B36: Heinävesi | C36: 2888 | D36: 1037826.1 | E36: -1395164.6 | F36: -357338.51 | G36: 567197.3 | H36: 209858.79 | I36: 560710.73 | J36: 770569.52 | K36: -451712 | L36: 318857.52 | M36: 110.40773 | N36: -36994.295 | O36: 281863.22 | P36: 12 | Q36: 12 | R36: -364551.47 | S36: -0.5334309 | T36: -126.22973 | V36: 90 | W36: Heinävesi | X36: 2929 | Y36: 1214928.5 | Z36: -1436775.8 | AA36: -221847.34 | AB36: 827417.58 | AC36: 605570.24 | AD36: 529550.75 | AE36: 1135121 | AF36: -451712 | AG36: 683408.99 | AH36: 233.32502 | AI36: -26501.25 | AJ36: 656907.74 | AK36: 12 | AL36: 12
A37: 91 | B37: Helsinki | C37: 694392 | D37: 3.7971993e+08 | E37: 51335851 | F37: 4.3105578e+08 | G37: -60175059 | H37: 3.7088073e+08 | I37: 81090538 | J37: 4.5197126e+08 | K37: 58267327 | L37: 5.1023859e+08 | M37: 734.79906 | N37: -1.2727526e+08 | O37: 3.8296333e+08 | P37: 1 | Q37: 31 | R37: 28107155 | S37: 0.058297702 | T37: 40.47736 | V37: 91 | W37: Helsinki | X37: 684018 | Y37: 3.6634472e+08 | Z37: 43805943 | AA37: 4.1015067e+08 | AB37: -57146063 | AC37: 3.530046e+08 | AD37: 70859505 | AE37: 4.2386411e+08 | AF37: 58267327 | AG37: 4.8213144e+08 | AH37: 704.85197 | AI37: -1.2043121e+08 | AJ37: 3.6170023e+08 | AK37: 1 | AL37: 31
A38: 92 | B38: Vantaa | C38: 252956 | D38: 2.4030928e+08 | E38: -27833347 | F38: 2.1247594e+08 | G38: -1503615.3 | H38: 2.1097232e+08 | I38: 22740654 | J38: 2.3371297e+08 | K38: 44548683 | L38: 2.7826166e+08 | M38: 1100.0398 | N38: -7270449.1 | O38: 2.7099121e+08 | P38: 1 | Q38: 32 | R38: 4275543.5 | S38: 0.015604964 | T38: 16.902321 | V38: 92 | W38: Vantaa | X38: 251269 | Y38: 2.4051505e+08 | Z38: -27491948 | AA38: 2.130231e+08 | AB38: -2595864.4 | AC38: 2.1042723e+08 | AD38: 19010198 | AE38: 2.2943743e+08 | AF38: 44548683 | AG38: 2.7398611e+08 | AH38: 1090.4095 | AI38: -7487020.1 | AJ38: 2.6649909e+08 | AK38: 1 | AL38: 32
A39: 97 | B39: Hirvensalmi | C39: 2023 | D39: 463708.74 | E39: -339939.37 | F39: 123769.37 | G39: 131016.62 | H39: 254785.99 | I39: 381359 | J39: 636144.99 | K39: -513243 | L39: 122901.99 | M39: 60.752341 | N39: 65132.101 | O39: 188034.09 | P39: 10 | Q39: 10 | R39: -220684.02 | S39: -0.64229629 | T39: -109.0875 | V39: 97 | W39: Hirvensalmi | X39: 2059 | Y39: 608472.3 | Z39: -305634.46 | AA39: 302837.84 | AB39: 198554.8 | AC39: 501392.63 | AD39: 355436.37 | AE39: 856829 | AF39: -513243 | AG39: 343586 | AH39: 166.87033 | AI39: 13745.315 | AJ39: 357331.32 | AK39: 10 | AL39: 10
A40: 98 | B40: Hollola | C40: 22775 | D40: 8325051.3 | E40: 6018666.7 | F40: 14343718 | G40: 6296751.2 | H40: 20640469 | I40: 2195020.6 | J40: 22835490 | K40: -5535804 | L40: 17299686 | M40: 759.59104 | N40: -3382441 | O40: 13917245 | P40: 7 | Q40: 7 | R40: 112966.63 | S40: 0.0065729027 | T40: 4.9601157 | V40: 98 | W40: Hollola | X40: 22849 | Y40: 8503742.5 | Z40: 6395069.2 | AA40: 14898812 | AB40: 6071419.2 | AC40: 20970231 | AD40: 1752292.3 | AE40: 22722523 | AF40: -5535804 | AG40: 17186719 | AH40: 752.18693 | AI40: -2635231.3 | AJ40: 14551488 | AK40: 7 | AL40: 7
A41: 102 | B41: Huittinen | C41: 9546 | D41: 1905525.7 | E41: 255394.45 | F41: 2160920.2 | G41: 3571704.8 | H41: 5732624.9 | I41: 1575762.3 | J41: 7308387.2 | K41: 830210 | L41: 8138597.2 | M41: 852.56623 | N41: 158771.03 | O41: 8297368.2 | P41: 4 | Q41: 4 | R41: -280988.63 | S41: -0.033373213 | T41: -29.435222 | V41: 102 | W41: Huittinen | X41: 9555 | Y41: 1982827.2 | Z41: 269095.75 | AA41: 2251923 | AB41: 3890123.3 | AC41: 6142046.3 | AD41: 1447329.5 | AE41: 7589375.8 | AF41: 830210 | AG41: 8419585.8 | AH41: 881.17068 | AI41: 191074.01 | AJ41: 8610659.8 | AK41: 4 | AL41: 4
A42: 103 | B42: Humppila | C42: 2074 | D42: 18936.002 | E42: 129927.43 | F42: 148863.43 | G42: 1071814.4 | H42: 1220677.8 | I42: 377683.69 | J42: 1598361.5 | K42: -546962 | L42: 1051399.5 | M42: 506.94287 | N42: 7472.6631 | O42: 1058872.2 | P42: 5 | Q42: 5 | R42: -148711.8 | S42: -0.12391501 | T42: -71.702894 | V42: 103 | W42: Humppila | X42: 2094 | Y42: 158721.73 | Z42: 132965.76 | AA42: 291687.49 | AB42: 1101990 | AC42: 1393677.5 | AD42: 353395.84 | AE42: 1747073.3 | AF42: -546962 | AG42: 1200111.3 | AH42: 573.11906 | AI42: 47702.25 | AJ42: 1247813.6 | AK42: 5 | AL42: 5
A43: 105 | B43: Hyrynsalmi | C43: 1984 | D43: 1084145.5 | E43: 674653.1 | F43: 1758798.6 | G43: 867278.21 | H43: 2626076.8 | I43: 390032.91 | J43: 3016109.8 | K43: -483888 | L43: 2532221.8 | M43: 1276.3214 | N43: -64578.57 | O43: 2467643.2 | P43: 18 | Q43: 18 | R43: -301604.7 | S43: -0.1064302 | T43: -152.0185 | V43: 105 | W43: Hyrynsalmi | X43: 2002 | Y43: 1192173.7 | Z43: 709007.23 | AA43: 1901180.9 | AB43: 1049361.4 | AC43: 2950542.3 | AD43: 367172.16 | AE43: 3317714.5 | AF43: -483888 | AG43: 2833826.5 | AH43: 1415.4977 | AI43: -19434.25 | AJ43: 2814392.2 | AK43: 18 | AL43: 18
A44: 106 | B44: Hyvinkää | C44: 47015 | D44: 13370800 | E44: -1609694.4 | F44: 11761105 | G44: -57403.94 | H44: 11703701 | I44: 4338218 | J44: 16041919 | K44: -990726 | L44: 15051193 | M44: 320.13598 | N44: -340273.71 | O44: 14710920 | P44: 1 | Q44: 35 | R44: -1639133.2 | S44: -0.098208577 | T44: -34.864048 | V44: 106 | W44: Hyvinkää | X44: 47031 | Y44: 15363412 | Z44: -1543898.6 | AA44: 13819513 | AB44: 367626.2 | AC44: 14187140 | AD44: 3493912.8 | AE44: 17681052 | AF44: -990726 | AG44: 16690326 | AH44: 354.87926 | AI44: -225454.97 | AJ44: 16464871 | AK44: 1 | AL44: 35
A45: 108 | B45: Hämeenkyrö | C45: 10249 | D45: 3720533.2 | E45: 816899.14 | F45: 4537432.3 | G45: 4631285.3 | H45: 9168717.6 | I45: 1063011.7 | J45: 10231729 | K45: -1454199 | L45: 8777530.3 | M45: 856.42797 | N45: 27768.785 | O45: 8805299.1 | P45: 6 | Q45: 6 | R45: -263911.69 | S45: -0.029189115 | T45: -25.749995 | V45: 108 | W45: Hämeenkyrö | X45: 10348 | Y45: 4288561.5 | Z45: 831320.3 | AA45: 5119881.8 | AB45: 4499072.1 | AC45: 9618953.9 | AD45: 876687.15 | AE45: 10495641 | AF45: -1454199 | AG45: 9041442 | AH45: 873.73811 | AI45: 40546.912 | AJ45: 9081988.9 | AK45: 6 | AL45: 6
... A302: 992 | B302: Äänekoski | C302: 17492 | D302: 4662584.5 | E302: -319434.92 | F302: 4343149.6 | G302: 5174610.9 | H302: 9517760.5 | I302: 1767027.6 | J302: 11284788 | K302: -842235 | L302: 10442553 | M302: 596.99023 | N302: 34189.74 | O302: 10476743 | P302: 13 | Q302: 13 | R302: 537022.14 | S302: 0.054214372 | T302: 30.701014 | V302: 992 | W302: Äänekoski | X302: 17740 | Y302: 5989209.3 | Z302: -222478.78 | AA302: 5766730.5 | AB302: 3507342.9 | AC302: 9274073.4 | AD302: 1473692.6 | AE302: 10747766 | AF302: -842235 | AG302: 9905531 | AH302: 558.37266 | AI302: -36342.048 | AJ302: 9869188.9 | AK302: 13 | AL302: 13

Sheet 1.b. Statsandelsberäkning_€inv
A1: Preliminär statsandelsberäkning för 2027, sammanfattning, belopp i euro/invånare | X1: Kommunernas statsandelar och ersättningar för skatteförluster 2026, sammanfattning
A2: Sammandrag av FM:s preliminära statsandelsberäkning för 2027 + UKM:s statsandel enligt statsandelsbeslutet för 2026 | X2: Sammandrag av FM:s slutliga statsandelsberäkning för 2026 utan behovsprövade höjningar + UKM:s statsandel enligt statsandelsbesluten för 2026
A3: Kommunförbundets publikation 22.9.2026
A4: Källor: | X4: Källor:
A5: Preliminära beräkningsuppgifter för statsandelarna 2027 / FM, september 2026 | X5: Beräkningsuppgifter för statsandelarna 2026 / FM, juni 2026
A6: UKM:s statsandelar 2026 / UKM 3.8.2026 (Utbildningsstyrelsens beräkning 24.7.2026) | X6: UKM:s statsandelar 2026 / UKM 3.8.2026 (Utbildningsstyrelsens beräkning 24.7.2026)
A7: Förändringsberäkningar Kommunförbundet / Olli Riikonen | X7: Förändringsberäkningar Kommunförbundet / Olli Riikonen
A8: Numret i kolumnrubriken hänvisar till det bokföringskonto där posten i fråga bokförs. | X8: Numret i kolumnrubriken hänvisar till det bokföringskonto där posten i fråga bokförs.
A9: Kommunnr | B9: Kommun | C9: Invånarantal 31.12.2025 | D9: Statsandel för basservice utan utjämning och social- och hälsovårdsposter (F–E) | E9: Social- och hälsovårdsposter | F9: 5501 Statsandel för basservice utan utjämning (D+E) | G9: 5502 Utjämning av statsandelen på basis av skatteinkomster | H9: Kommunens statsandel för basservice totalt (F+G) | I9: 5890 Ersättning för skatteförluster | J9: FM:s statsandelar och ersättning för skatteförluster totalt (H+I) | K9: 5701 Statsandel för undervisnings- och kulturverksamhet (s.k. UKM-statsandel) 2026 | L9: Kommunens statsandelar totalt (J+K) | M9: Hemkommunsersättning, netto | N9: Utbetalning av statsandelar (statsandelar + hemkommunsersättningar) | O9: Förändring av statsandelarna 2026–2027 | P9: Förändring totalt, % | Q9: Landskapsnr | R9: Välfärdsområdesnr | X9: Kommunnr | Y9: Kommun | Z9: Invånarantal 31.12.2024 | AA9: Statsandel för basservice utan utjämning och social- och hälsovårdsposter (AA–Z) | AB9: Social- och hälsovårdsposter | AC9: 5501 Statsandel för basservice utan utjämning (Y+Z) | AD9: 5502 Utjämning av statsandelen på basis av skatteinkomster | AE9: Kommunens statsandel för basservice totalt (AA+AB) | AF9: 5890 Ersättning för skatteförluster | AG9: FM:s statsandelar och ersättning för skatteförluster totalt (AD+AE) | AH9: 5701 Statsandel för undervisnings- och kulturverksamhet (s.k. UKM-statsandel) 2026 | AI9: Kommunens statsandelar totalt (AF+AG) | AJ9: Kommunens statsandelar totalt, euro/invånare | AK9: Hemkommunsersättning, netto | AL9: Utbetalning av statsandelar (statsandelar + hemkommunsersättningar) | AM9: Välfärdsområdesnr
B10: TOTALT | C10: 5622045 | D10: 462.25791 | E10: 4.9803413e-08 | F10: 462.25791 | G10: 143.17302 | H10: 605.43093 | I10: 109.65761 | J10: 715.08853 | K10: 27.342696 | L10: 742.43123 | M10: -48.34729 | N10: 694.08394 | O10: -5.0281028 | P10: -0.0067269249 | Q10: 0 | R10: 0 | Y10: TOTALT | Z10: 5605317 | AA10: 488.64511 | AB10: 4.9952041e-08 | AC10: 488.64511 | AD10: 139.6027 | AE10: 628.24781 | AF10: 94.017876 | AG10: 722.26569 | AH10: 27.424296 | AI10: 749.68998 | AJ10: -45.111086 | AK10: 704.5789 | AL10: 0 | AM10: 0
A11: 5 | B11: Alajärvi | C11: 8982 | D11: 508.36275 | E11: 117.72223 | F11: 626.08499 | G11: 594.14034 | H11: 1220.2253 | I11: 169.69635 | J11: 1389.9217 | K11: 58.513694 | L11: 1448.4354 | M11: -57.939325 | N11: 1390.496 | O11: 13.104492 | P11: 0.0091299448 | Q11: 14 | R11: 14 | X11: 5 | Y11: Alajärvi | Z11: 9078 | AA11: 529.47001 | AB11: 117.89956 | AC11: 647.36957 | AD11: 559.1277 | AE11: 1206.4973 | AF11: 155.76004 | AG11: 1362.2573 | AH11: 57.894911 | AI11: 1420.1522 | AJ11: -44.003324 | AK11: 1376.1489 | AL11: 14 | AM11: 14
A12: 9 | B12: Alavieska | C12: 2384 | D12: 628.26778 | E12: 207.22949 | F12: 835.49727 | G12: 740.95282 | H12: 1576.4501 | I12: 164.83547 | J12: 1741.2856 | K12: -225.75713 | L12: 1515.5284 | M12: 46.514526 | N12: 1562.0429 | O12: -42.67097 | P12: -0.027384794 | Q12: 17 | R12: 17 | X12: 9 | Y12: Alavieska | Z12: 2410 | AA12: 672.27735 | AB12: 206.42139 | AC12: 878.69874 | AD12: 736.94896 | AE12: 1615.6477 | AF12: 149.06282 | AG12: 1764.7105 | AH12: -223.32158 | AI12: 1541.3889 | AJ12: 46.917842 | AK12: 1588.3068 | AL12: 17 | AM12: 17
A13: 10 | B13: Alavus | C13: 10634 | D13: 435.05554 | E13: -86.172666 | F13: 348.88288 | G13: 628.23985 | H13: 977.12273 | I13: 169.51774 | J13: 1146.6405 | K13: -72.202746 | L13: 1074.4377 | M13: -7.469592 | N13: 1066.9681 | O13: -3.5910852 | P13: -0.0033311589 | Q13: 14 | R13: 14 | X13: 10 | Y13: Alavus | Z13: 10780 | AA13: 452.03999 | AB13: -99.005651 | AC13: 353.03434 | AD13: 628.50478 | AE13: 981.53912 | AF13: 153.11417 | AG13: 1134.6533 | AH13: -71.224861 | AI13: 1063.4284 | AJ13: 0.8276519 | AK13: 1064.2561 | AL13: 14 | AM13: 14
A14: 16 | B14: Asikkala | C14: 7841 | D14: 41.254752 | E14: 482.54508 | F14: 523.79983 | G14: 301.41783 | H14: 825.21766 | I14: 139.42463 | J14: 964.64229 | K14: -81.3497 | L14: 883.29259 | M14: 60.377027 | N14: 943.66961 | O14: -105.51949 | P14: -0.10671339 | Q14: 7 | R14: 7 | X14: 16 | Y14: Asikkala | Z14: 7889 | AA14: 136.13813 | AB14: 496.275 | AC14: 632.41313 | AD14: 308.40854 | AE14: 940.82167 | AF14: 122.8288 | AG14: 1063.6505 | AH14: -80.854734 | AI14: 982.79573 | AJ14: 61.268534 | AK14: 1044.0643 | AL14: 7 | AM14: 7
A15: 18 | B15: Askola | C15: 4677 | D15: 474.48776 | E15: -117.08406 | F15: 357.4037 | G15: 217.5611 | H15: 574.9648 | I15: 107.25008 | J15: 682.21488 | K15: -26.006628 | L15: 656.20825 | M15: 151.07586 | N15: 807.28411 | O15: -20.729668 | P15: -0.030622702 | Q15: 1 | R15: 34 | X15: 18 | Y15: Askola | Z15: 4651 | AA15: 535.2951 | AB15: -131.65996 | AC15: 403.63514 | AD15: 214.35791 | AE15: 617.99305 | AF15: 88.881095 | AG15: 706.87415 | AH15: -26.15201 | AI15: 680.72214 | AJ15: 137.94781 | AK15: 818.66995 | AL15: 1 | AM15: 34
A16: 19 | B16: Aura | C16: 3937 | D16: 524.88129 | E16: -181.05189 | F16: 343.8294 | G16: 349.25431 | H16: 693.08371 | I16: 93.775224 | J16: 786.85893 | K16: -245.04216 | L16: 541.81677 | M16: 14.354959 | N16: 556.17173 | O16: -30.595881 | P16: -0.053450741 | Q16: 2 | R16: 2 | X16: 19 | Y16: Aura | Z16: 3966 | AA16: 528.20022 | AB16: -193.3186 | AC16: 334.88163 | AD16: 400.64494 | AE16: 735.52656 | AF16: 75.950897 | AG16: 811.47746 | AH16: -243.25038 | AI16: 568.22708 | AJ16: 20.068605 | AK16: 588.29569 | AL16: 2 | AM16: 2
A17: 20 | B17: Akaa | C17: 16429 | D17: 325.99297 | E17: -273.26777 | F17: 52.7252 | G17: 413.58728 | H17: 466.31248 | I17: 86.664688 | J17: 552.97717 | K17: -168.20579 | L17: 384.77137 | M17: -5.8512274 | N17: 378.92015 | O17: 13.23917 | P17: 0.035633976 | Q17: 6 | R17: 6 | X17: 20 | Y17: Akaa | Z17: 16387 | AA17: 348.0508 | AB17: -287.63352 | AC17: 60.417276 | AD17: 411.7562 | AE17: 472.17348 | AF17: 68.947873 | AG17: 541.12135 | AH17: -168.63691 | AI17: 372.48444 | AJ17: -21.880876 | AK17: 350.60357 | AL17: 6 | AM17: 6
A18: 46 | B18: Enonkoski | C18: 1273 | D18: 820.53342 | E18: 478.47571 | F18: 1299.0091 | G18: 361.88418 | H18: 1660.8933 | I18: 204.3293 | J18: 1865.2226 | K18: -299.83189 | L18: 1565.3907 | M18: 424.75031 | N18: 1990.141 | O18: 9.8682469 | P18: 0.006344008 | Q18: 10 | R18: 10 | X18: 46 | Y18: Enonkoski | Z18: 1288 | AA18: 739.73118 | AB18: 489.98447 | AC18: 1229.7156 | AD18: 413.24573 | AE18: 1642.9614 | AF18: 190.78559 | AG18: 1833.747 | AH18: -296.34006 | AI18: 1537.4069 | AJ18: 396.69573 | AK18: 1934.1026 | AL18: 10 | AM18: 10
A19: 47 | B19: Enontekiö | C19: 1769 | D19: 1311.8681 | E19: 200.97318 | F19: 1512.8412 | G19: 166.63371 | H19: 1679.4749 | I19: 173.14531 | J19: 1852.6203 | K19: -26.177501 | L19: 1826.4428 | M19: -30.247574 | N19: 1796.1952 | O19: -115.90495 | P19: -0.059672606 | Q19: 19 | R19: 19 | X19: 47 | Y19: Enontekiö | Z19: 1762 | AA19: 1359.928 | AB19: 218.63382 | AC19: 1578.5618 | AD19: 235.64955 | AE19: 1814.2114 | AF19: 162.13429 | AG19: 1976.3457 | AH19: -26.281498 | AI19: 1950.0642 | AJ19: -39.105136 | AK19: 1910.959 | AL19: 19 | AM19: 19
A20: 49 | B20: Espoo | C20: 325716 | D20: 987.50368 | E20: 448.738 | F20: 1436.2417 | G20: -79.415505 | H20: 1356.8262 | I20: 83.340547 | J20: 1440.1667 | K20: 25.498895 | L20: 1465.6656 | M20: -59.642289 | N20: 1406.0233 | O20: 3.5240118 | P20: 0.0024101713 | Q20: 1 | R20: 33 | X20: 49 | Y20: Espoo | Z20: 320931 | AA20: 997.67675 | AB20: 471.03416 | AC20: 1468.7109 | AD20: -78.324961 | AE20: 1390.386 | AF20: 67.676733 | AG20: 1458.0627 | AH20: 25.879077 | AI20: 1483.9418 | AJ20: -59.380683 | AK20: 1424.5611 | AL20: 1 | AM20: 33
A21: 50 | B21: Eura | C21: 11005 | D21: 217.81862 | E21: -87.718136 | F21: 130.10048 | G21: 265.7689 | H21: 395.86938 | I21: 116.50218 | J21: 512.37156 | K21: -116.9373 | L21: 395.43426 | M21: 32.767536 | N21: 428.20179 | O21: -53.953281 | P21: -0.12005959 | Q21: 4 | R21: 4 | X21: 50 | Y21: Eura | Z21: 11084 | AA21: 277.43448 | AB21: -98.979551 | AC21: 178.45493 | AD21: 286.1151 | AE21: 464.57003 | AF21: 97.718394 | AG21: 562.28842 | AH21: -116.10384 | AI21: 446.18458 | AJ21: 24.63153 | AK21: 470.81611 | AL21: 4 | AM21: 4
A22: 51 | B22: Eurajoki | C22: 8920 | D22: 313.96819 | E22: -918.69884 | F22: -604.73065 | G22: -29.942404 | H22: -634.67306 | I22: 161.45435 | J22: -473.2187 | K22: -83.718161 | L22: -556.93686 | M22: 1.6444575 | N22: -555.29241 | O22: -57.15883 | P22: -0.11436843 | Q22: 4 | R22: 4 | X22: 51 | Y22: Eurajoki | Z22: 9052 | AA22: 405.25945 | AB22: -919.13479 | AC22: -513.87535 | AD22: -37.734391 | AE22: -551.60974 | AF22: 141.61702 | AG22: -409.99272 | AH22: -82.497349 | AI22: -492.49007 | AJ22: -0.77095255 | AK22: -493.26102 | AL22: 4 | AM22: 4
... A32: 79 | B32: Harjavalta | C32: 6565 | D32: 165.8223 | E32: -254.91579 | F32: -89.09349 | G32: -63.903919 | H32: -152.99741 | I32: 104.5144 | J32: -48.483004 | K32: -11.708759 | L32: -60.191763 | M32: 1.1242053 | N32: -59.067557 | O32: -10.745643 | P32: -0.21732025 | Q32: 4 | R32: 4 | X32: 79 | Y32: Harjavalta | Z32: 6647 | AA32: 189.62526 | AB32: -265.58185 | AC32: -75.956584 | AD32: -47.825874 | AE32: -123.78246 | AF32: 86.51064 | AG32: -37.271818 | AH32: -11.564315 | AI32: -48.836133 | AJ32: 7.4555946 | AK32: -41.380538 | AL32: 4 | AM32: 4
A33: 81 | B33: Hartola | C33: 2401 | D33: 9.2315524 | E33: -64.631738 | F33: -55.400186 | G33: 110.69946 | H33: 55.299274 | I33: 206.04252 | J33: 261.34179 | K33: -310.12411 | L33: -48.782324 | M33: -44.571394 | N33: -93.353717 | O33: -78.036805 | P33: inte meningsfull | Q33: 7 | R33: 7 | X33: 81 | Y33: Hartola | Z33: 2482 | AA33: 39.204005 | AB33: -61.064385 | AC33: -21.860381 | AD33: 160.4612 | AE33: 138.60082 | AF33: 189.70216 | AG33: 328.30299 | AH33: -300.00322 | AI33: 28.299762 | AJ33: -69.047039 | AK33: -40.747276 | AL33: 7 | AM33: 7
A34: 82 | B34: Hattula | C34: 9346 | D34: 345.7822 | E34: 9.9999054 | F34: 355.78211 | G34: 176.09087 | H34: 531.87298 | I34: 87.696516 | J34: 619.5695 | K34: -234.98042 | L34: 384.58908 | M34: -4.5288508 | N34: 380.06023 | O34: 112.25835 | P34: 0.41221329 | Q34: 5 | R34: 5 | X34: 82 | Y34: Hattula | Z34: 9361 | AA34: 371.05871 | AB34: 11.389564 | AC34: 382.44828 | AD34: 55.892952 | AE34: 438.34123 | AF34: 68.157008 | AG34: 506.49824 | AH34: -234.60389 | AI34: 271.89435 | AJ34: 0.081156126 | AK34: 271.97551 | AL34: 5 | AM34: 5
A35: 86 | B35: Hausjärvi | C35: 7862 | D35: 340.35619 | E35: -61.175525 | F35: 279.18066 | G35: 307.88932 | H35: 587.06998 | I35: 106.69431 | J35: 693.76429 | K35: -150.96718 | L35: 542.7971 | M35: -0.90354143 | N35: 541.89356 | O35: -7.9215948 | P35: -0.014384104 | Q35: 5 | R35: 5 | X35: 86 | Y35: Hausjärvi | Z35: 7901 | AA35: 363.09068 | AB35: -74.691246 | AC35: 288.39943 | AD35: 320.99971 | AE35: 609.39914 | AF35: 88.82316 | AG35: 698.2223 | AH35: -150.222 | AI35: 548.0003 | AJ35: 2.9293033 | AK35: 550.92961 | AL35: 5 | AM35: 5
A36: 90 | B36: Heinävesi | C36: 2888 | D36: 359.35805 | E36: -483.09022 | F36: -123.73217 | G36: 196.39796 | H36: 72.665786 | I36: 194.15191 | J36: 266.8177 | K36: -156.40997 | L36: 110.40773 | M36: -12.809659 | N36: 97.598068 | O36: -126.22973 | P36: -0.5334309 | Q36: 12 | R36: 12 | X36: 90 | Y36: Heinävesi | Z36: 2929 | AA36: 414.79293 | AB36: -490.5346 | AC36: -75.741666 | AD36: 282.49149 | AE36: 206.74983 | AF36: 180.79575 | AG36: 387.54558 | AH36: -154.22055 | AI36: 233.32502 | AJ36: -9.0478832 | AK36: 224.27714 | AL36: 12 | AM36: 12
A37: 91 | B37: Helsinki | C37: 694392 | D37: 546.838 | E37: 73.929208 | F37: 620.76721 | G37: -86.65863 | H37: 534.10858 | I37: 116.77919 | J37: 650.88777 | K37: 83.911288 | L37: 734.79906 | M37: -183.29021 | N37: 551.50885 | O37: 40.47736 | P37: 0.058297702 | Q37: 1 | R37: 31 | X37: 91 | Y37: Helsinki | Z37: 684018 | AA37: 535.57761 | AB37: 64.042092 | AC37: 599.6197 | AD37: -83.544677 | AE37: 516.07502 | AF37: 103.59304 | AG37: 619.66806 | AH37: 85.183909 | AI37: 704.85197 | AJ37: -176.06438 | AK37: 528.78759 | AL37: 1 | AM37: 31
A38: 92 | B38: Vantaa | C38: 252956 | D38: 950.00428 | E38: -110.03237 | F38: 839.97191 | G38: -5.9441771 | H38: 834.02774 | I38: 89.899641 | J38: 923.92738 | K38: 176.11238 | L38: 1100.0398 | M38: -28.741952 | N38: 1071.2978 | O38: 16.902321 | P38: 0.015604964 | Q38: 1 | R38: 32 | X38: 92 | Y38: Vantaa | Z38: 251269 | AA38: 957.20143 | AB38: -109.41241 | AC38: 847.78901 | AD38: -10.331017 | AE38: 837.45799 | AF38: 75.656756 | AG38: 913.11475 | AH38: 177.29478 | AI38: 1090.4095 | AJ38: -29.796832 | AK38: 1060.6127 | AL38: 1 | AM38: 32
A39: 97 | B39: Hirvensalmi | C39: 2023 | D39: 229.21836 | E39: -168.03726 | F39: 61.181102 | G39: 64.76353 | H39: 125.94463 | I39: 188.51162 | J39: 314.45625 | K39: -253.70391 | L39: 60.752341 | M39: 32.195799 | N39: 92.94814 | O39: -109.0875 | P39: -0.64229629 | Q39: 10 | R39: 10 | X39: 97 | Y39: Hirvensalmi | Z39: 2059 | AA39: 295.51836 | AB39: -148.4383 | AC39: 147.08006 | AD39: 96.432635 | AE39: 243.51269 | AF39: 172.62573 | AG39: 416.13842 | AH39: -249.26809 | AI39: 166.87033 | AJ39: 6.6757237 | AK39: 173.54605 | AL39: 10 | AM39: 10
A40: 98 | B40: Hollola | C40: 22775 | D40: 365.53463 | E40: 264.26638 | F40: 629.80101 | G40: 276.47645 | H40: 906.27746 | I40: 96.378512 | J40: 1002.656 | K40: -243.06494 | L40: 759.59104 | M40: -148.51552 | N40: 611.07552 | O40: 4.9601157 | P40: 0.0065729027 | Q40: 7 | R40: 7 | X40: 98 | Y40: Hollola | Z40: 22849 | AA40: 372.17132 | AB40: 279.88399 | AC40: 652.05531 | AD40: 265.71925 | AE40: 917.77456 | AF40: 76.690109 | AG40: 994.46467 | AH40: -242.27774 | AI40: 752.18693 | AJ40: -115.33246 | AK40: 636.85448 | AL40: 7 | AM40: 7
A41: 102 | B41: Huittinen | C41: 9546 | D41: 199.6151 | E41: 26.75408 | F41: 226.36918 | G41: 374.15721 | H41: 600.52639 | I41: 165.07043 | J41: 765.59682 | K41: 86.969411 | L41: 852.56623 | M41: 16.632205 | N41: 869.19843 | O41: -29.435222 | P41: -0.033373213 | Q41: 4 | R41: 4 | X41: 102 | Y41: Huittinen | Z41: 9555 | AA41: 207.51724 | AB41: 28.16282 | AC41: 235.68006 | AD41: 407.1296 | AE41: 642.80966 | AF41: 151.47353 | AG41: 794.28318 | AH41: 86.887493 | AI41: 881.17068 | AJ41: 19.99728 | AK41: 901.16796 | AL41: 4 | AM41: 4
A42: 103 | B42: Humppila | C42: 2074 | D42: 9.1301842 | E42: 62.645819 | F42: 71.776003 | G42: 516.78611 | H42: 588.56211 | I42: 182.104 | J42: 770.66611 | K42: -263.72324 | L42: 506.94287 | M42: 3.6030198 | N42: 510.54589 | O42: -71.702894 | P42: -0.12391501 | Q42: 5 | R42: 5 | X42: 103 | Y42: Humppila | Z42: 2094 | AA42: 75.798343 | AB42: 63.498451 | AC42: 139.29679 | AD42: 526.26074 | AE42: 665.55753 | AF42: 168.76592 | AG42: 834.32345 | AH42: -261.20439 | AI42: 573.11906 | AJ42: 22.780444 | AK42: 595.8995 | AL42: 5 | AM42: 5
A43: 105 | B43: Hyrynsalmi | C43: 1984 | D43: 546.44432 | E43: 340.04693 | F43: 886.49125 | G43: 437.13619 | H43: 1323.6274 | I43: 196.58917 | J43: 1520.2166 | K43: -243.89516 | L43: 1276.3214 | M43: -32.549682 | N43: 1243.7718 | O43: -152.0185 | P43: -0.1064302 | Q43: 18 | R43: 18 | X43: 105 | Y43: Hyrynsalmi | Z43: 2002 | AA43: 595.49134 | AB43: 354.14947 | AC43: 949.6408 | AD43: 524.15655 | AE43: 1473.7974 | AF43: 183.40268 | AG43: 1657.2 | AH43: -241.7023 | AI43: 1415.4977 | AJ43: -9.7074176 | AK43: 1405.7903 | AL43: 18 | AM43: 18
A44: 106 | B44: Hyvinkää | C44: 47015 | D44: 284.39433 | E44: -34.23789 | F44: 250.15644 | G44: -1.2209708 | H44: 248.93547 | I44: 92.273062 | J44: 341.20853 | K44: -21.072551 | L44: 320.13598 | M44: -7.2375563 | N44: 312.89843 | O44: -34.864048 | P44: -0.098208577 | Q44: 1 | R44: 35 | X44: 106 | Y44: Hyvinkää | Z44: 47031 | AA44: 326.66565 | AB44: -32.827255 | AC44: 293.83839 | AD44: 7.8166784 | AE44: 301.65507 | AF44: 74.28957 | AG44: 375.94464 | AH44: -21.065382 | AI44: 354.87926 | AJ44: -4.7937524 | AK44: 350.08551 | AL44: 1 | AM44: 35
A45: 108 | B45: Hämeenkyrö | C45: 10249 | D45: 363.01426 | E45: 79.705253 | F45: 442.71951 | G45: 451.8768 | H45: 894.59632 | I45: 103.71857 | J45: 998.31489 | K45: -141.88692 | L45: 856.42797 | M45: 2.7094141 | N45: 859.13739 | O45: -25.749995 | P45: -0.029189115 | Q45: 6 | R45: 6 | X45: 108 | Y45: Hämeenkyrö | Z45: 10348 | AA45: 414.43385 | AB45: 80.336326 | AC45: 494.77018 | AD45: 434.77697 | AE45: 929.54714 | AF45: 84.720443 | AG45: 1014.2676 | AH45: -140.52947 | AI45: 873.73811 | AJ45: 3.9183333 | AK45: 877.65645 | AL45: 6 | AM45: 6
... A302: 992 | B302: Äänekoski | C302: 17492 | D302: 266.55526 | E302: -18.261772 | F302: 248.29348 | G302: 295.82728 | H302: 544.12077 | I302: 101.01919 | J302: 645.13996 | K302: -48.149726 | L302: 596.99023 | M302: 1.954593 | N302: 598.94482 | O302: 30.701014 | P302: 0.054214372 | Q302: 13 | R302: 13 | X302: 992 | Y302: Äänekoski | Z302: 17740 | AA302: 337.61044 | AB302: -12.541081 | AC302: 325.06936 | AD302: 197.70817 | AE302: 522.77753 | AF302: 83.071734 | AG302: 605.84926 | AH302: -47.476607 | AI302: 558.37266 | AJ302: -2.0485934 | AK302: 556.32406 | AL302: 13 | AM302: 13

Sheet 2.a. Vos-laskelma
A1: Kuntien valtionosuudet ja veromenetysten korvaukset 2027, yhteenveto
A2: Laajempi tiivistelmä VM:n ennakollisesta vos-laskelmasta 2027
A3: Tällä sivulla on avattu VM:n peruspalvelujen valtionosuuden osatekijöitä laajemmin näkyväksi kuin 1.a. Vos-laskelma -välilehdellä (tämän taulukon sarake Q = sarake D välilehdellä 1.a.)
A4: 22.9.2026
G8: 1. | I8: 2. | J8: 3. | L8: Valtionosuuteen tehtävät vähennykset ja lisäykset | T8: 1+2+3 | U8: 4. | W8: 5. | Y8: 6.
A9: Kunta-nro | B9: Mk-nro | C9: Hva-nro | D9: Kunta | E9: Asukasluku 31.12.2025 | F9: Laskennalliset kustannukset yhteensä | G9: Valtionosuus laskennallisiin kustannuksiin kunnan omarahoitusosuuden (-1584,69 €/as.) jälkeen | H9: Valtionosuus-% kunnan laskennallisista kustannuksista | I9: Lisäosat yhteensä | J9: Valtionosuuteen tehtävät vähennykset ja lisäykset yhteensä | K9: Kumulatiivinen verotuloihin perustuvan tasauksen muutoksen neutralisointi | L9: Kunnan rahoitusosuus perustoimeentulotuesta | M9: Sote-uudistuksen muutosrajoitin | N9: Sote-uudistuksen järjestelmämuutoksen tasaus vuodelle 2026 | O9: Jälkikäteistarkistuksesta johtuva valtionosuuden lisäsiirtotarve vuodelta 2023, 501 milj. € (1/3) | P9: Määräaikaisen v 2024 tehdyn lisäyksen takaisinperintä (1/3) | Q9: Valtionosuusjärjestelmän 75 M€ leikkaus / -2 % (Lisätoimet 2025- ) | R9: TE25: Kunnan työttömyysetuuksien rahoitusvastuun laajentamisen korvaus | S9: Muut lisäykset ja vähennykset yhteensä | T9: Valtionosuus ennen verotuloihin perustuvaa valtionosuuden tasausta (G+I+J) | U9: Verotuloihin perustuva valtionosuuden tasaus | V9: Kunnan peruspalvelujen valtionosuus yhteensä (T+U) | W9: Veroperustemuutoksista johtuvien veromenetysten korvaus | X9: VM-vos = Peruspalvelujen valtionosuus ja veromenetysten korvaus YHTEENSÄ | Y9: OKM-vos 2026 YHTEENSÄ | Z9: VM+OKM -vos YHTEENSÄ
A10: 0 | B10: 0 | C10: 0 | D10: Kunnat yhteensä | E10: 5622045 | F10: 1.188684e+10 | G10: 2.9776416e+09 | H10: 0.250499 | I10: 3.2394281e+08 | J10: -7.0274964e+08 | K10: -1.2093019e+08 | L10: -4.8177096e+08 | M10: 0.27999702 | N10: 1.5657861e-08 | O10: -1.6708718e+08 | P10: -63978872 | Q10: -75000000 | R10: 2.1608102e+08 | S10: -10063461 | T10: 2.5988348e+09 | U10: 8.0492514e+08 | V10: 3.4037599e+09 | W10: 6.165e+08 | X10: 4.0202599e+09 | Y10: 153721870 | Z10: 4.1739818e+09
A11: 5 | B11: 14 | C11: 14 | D11: Alajärvi | E11: 8982 | F11: 19003914 | G11: 4770228.5 | H11: 0.25101295 | I11: 671516.87 | J11: 181749.96 | K11: -193202.82 | L11: -373551.55 | M11: 1109106.1 | N11: -51725.025 | O11: -266945.04 | P11: -102215.16 | Q11: -238067.87 | R11: 316760.57 | S11: -18409.26 | T11: 5623495.3 | U11: 5336568.5 | V11: 10960064 | W11: 1524212.6 | X11: 12484276 | Y11: 525570 | Z11: 13009846
A12: 9 | B12: 17 | C12: 17 | D12: Alavieska | E12: 2384 | F12: 5474378.7 | G12: 1696477.7 | H12: 0.30989411 | I12: 81600.156 | J12: 213747.59 | K12: -51279.84 | L12: -120313.38 | M12: 507818.31 | N12: -13783.201 | O12: -70852.48 | P12: -27129.92 | Q12: -81498.646 | R12: 76029.623 | S12: -5242.876 | T12: 1991825.5 | U12: 1766431.5 | V12: 3758257 | W12: 392967.77 | X12: 4151224.8 | Y12: -538205 | Z12: 3613019.8
A13: 10 | B13: 14 | C13: 14 | D13: Alavus | E13: 10634 | F13: 21549288 | G13: 4697694.5 | H13: 0.21799767 | I13: 763873.84 | J13: -1751547.9 | K13: -228737.34 | L13: -456596.26 | M13: -338822.05 | N13: -577538.08 | O13: -316042.48 | P13: -121014.92 | Q13: -225385.94 | R13: 534209.62 | S13: -21620.405 | T13: 3710020.5 | U13: 6680702.6 | V13: 10390723 | W13: 1802651.7 | X13: 12193375 | Y13: -767804 | Z13: 11425571
A14: 16 | B14: 7 | C14: 7 | D14: Asikkala | E14: 7841 | F14: 13184204 | G14: 758649.7 | H14: 0.057542321 | I14: 251126.79 | J14: 3097338 | K14: -168659.91 | L14: -333975.59 | M14: 2193579.7 | N14: 1590056.2 | O14: -233034.52 | P14: -89230.58 | Q14: -139394.84 | R14: 294529.83 | S14: -16532.374 | T14: 4107114.5 | U14: 2363417.2 | V14: 6470531.7 | W14: 1093228.5 | X14: 7563760.2 | Y14: -637863 | Z14: 6925897.2
A15: 18 | B15: 1 | C15: 34 | D15: Askola | E15: 4677 | F15: 9861572.5 | G15: 2449977.4 | H15: 0.24843679 | I15: 130336.94 | J15: -908737.22 | K15: -100602.27 | L15: -136196.36 | M15: -455651.56 | N15: -91950.59 | O15: -139000.44 | P15: -53224.26 | Q15: -58877.479 | R15: 135236.42 | S15: -8470.6785 | T15: 1671577.1 | U15: 1017533.3 | V15: 2689110.4 | W15: 501608.6 | X15: 3190719 | Y15: -121633 | Z15: 3069086
A16: 19 | B16: 2 | C16: 2 | D16: Aura | E16: 3937 | F16: 8561668.7 | G16: 2322744.2 | H16: 0.27129573 | I16: 103090.82 | J16: -1072178.6 | K16: -84684.87 | L16: -122901.2 | M16: -363181.43 | N16: -349619.85 | O16: -117007.64 | P16: -44803.06 | Q16: -60209.714 | R16: 77081.082 | S16: -6851.9474 | T16: 1353656.4 | U16: 1375014.2 | V16: 2728670.6 | W16: 369193.06 | X16: 3097863.6 | Y16: -964731 | Z16: 2133132.6
A17: 20 | B17: 6 | C17: 6 | D17: Akaa | E17: 16429 | F17: 32164269 | G17: 6129396.9 | H17: 0.1905654 | I17: 498334.67 | J17: -5761509.2 | K17: -353387.79 | L17: -1074485.5 | M17: -2785117.3 | N17: -1704398.9 | O17: -488269.88 | P17: -186962.02 | Q17: -167080.78 | R17: 1028469.9 | S17: -30276.838 | T17: 866222.3 | U17: 6794825.4 | V17: 7661047.7 | W17: 1423814.2 | X17: 9084861.9 | Y17: -2763453 | Z17: 6321408.9
A18: 46 | B18: 10 | C18: 10 | D18: Enonkoski | E18: 1273 | F18: 2991556.1 | G18: 974245.75 | H18: 0.32566521 | I18: 208472.07 | J18: 470920.8 | K18: -27382.23 | L18: -49261.91 | M18: 386486.76 | N18: 222612.82 | O18: -37833.56 | P18: -14486.74 | Q18: -45598.453 | R18: 39422.01 | S18: -3037.8952 | T18: 1653638.6 | U18: 460678.57 | V18: 2114317.2 | W18: 260111.19 | X18: 2374428.4 | Y18: -381686 | Z18: 1992742.4
A19: 47 | B19: 19 | C19: 19 | D19: Enontekiö | E19: 1769 | F19: 4322042.5 | G19: 1518725.9 | H19: 0.35139078 | I19: 956597.07 | J19: 200893.23 | K19: -38051.19 | L19: -20311.53 | M19: -127873.58 | N19: 483395.14 | O19: -52574.68 | P19: -20131.22 | Q19: -64528.815 | R19: 44772.3 | S19: -3803.1941 | T19: 2676216.2 | U19: 294775.03 | V19: 2970991.2 | W19: 306294.05 | X19: 3277285.2 | Y19: -46308 | Z19: 3230977.2
A20: 49 | B20: 1 | C20: 33 | D20: Espoo | E20: 325716 | F20: 8.7524135e+08 | G20: 3.5908247e+08 | H20: 0.4102668 | I20: 19717484 | J20: 89006942 | K20: -7006151.2 | L20: -35487621 | M20: 1.1640318e+08 | N20: 29757964 | O20: -9680279.5 | P20: -3706648.1 | Q20: -9699166.2 | R20: 9001638.3 | S20: -575975.03 | T20: 4.6780689e+08 | U20: -25866900 | V20: 4.4193999e+08 | W20: 27145350 | X20: 4.6908534e+08 | Y20: 8305398 | Z20: 4.7739074e+08
A21: 50 | B21: 4 | C21: 4 | D21: Eura | E21: 11005 | F21: 20349065 | G21: 2909551.5 | H21: 0.14298207 | I21: 317874.63 | J21: -1795670.3 | K21: -236717.55 | L21: -322338.41 | M21: -901823.83 | N21: -63514.253 | O21: -327068.6 | P21: -125236.9 | Q21: -94176.826 | R21: 295813.23 | S21: -20607.191 | T21: 1431755.8 | U21: 2924786.7 | V21: 4356542.5 | W21: 1282106.5 | X21: 5638649 | Y21: -1286895 | Z21: 4351754
... A302: 992 | B302: 13 | C302: 13 | D302: Äänekoski | E302: 17492 | F302: 33343225 | G302: 5623827.8 | H302: 0.16866478 | I302: 628417.14 | J302: -1909095.4 | K302: -376252.92 | L302: -1570295.9 | M302: -217370.52 | N302: -102064.41 | O302: -519862.24 | P302: -199058.96 | Q302: -208013.27 | R302: 1316622.2 | S302: -32799.319 | T302: 4343149.6 | U302: 5174610.9 | V302: 9517760.5 | W302: 1767027.6 | X302: 11284788 | Y302: -842235 | Z302: 10442553

Sheet 2.b. Vos-laskelma_€as
A1: Kuntien valtionosuudet ja veromenetysten korvaukset 2027, yhteenveto
A2: Laajempi tiivistelmä VM:n ennakollisesta vos-laskelmasta 2027
A3: Tällä sivulla on avattu VM:n peruspalvelujen valtionosuuden osatekijöitä laajemmin näkyväksi kuin 1.a. Vos-laskelma -välilehdellä (tämän taulukon sarake Q = sarake D välilehdellä 1.a.)
A4: 22.9.2026
G8: 1. | I8: 2. | J8: 3. | L8: Valtionosuuteen tehtävät vähennykset ja lisäykset | T8: 1+2+3 | U8: 4. | W8: 5. | Y8: 6.
A9: Kunta-nro | B9: Mk-nro | C9: Hva-nro | D9: Kunta | E9: Asukasluku 31.12.2025 | F9: Laskennalliset kustannukset yhteensä | G9: Valtionosuus laskennallisiin kustannuksiin kunnan omarahoitusosuuden (-1584,69 €/as.) jälkeen | H9: Valtionosuus-% kunnan laskennallisista kustannuksista | I9: Lisäosat yhteensä | J9: Valtionosuuteen tehtävät vähennykset ja lisäykset yhteensä | K9: Kumulatiivinen verotuloihin perustuvan tasauksen muutoksen neutralisointi | L9: Kunnan rahoitusosuus perustoimeentulotuesta | M9: Sote-uudistuksen muutosrajoitin | N9: Sote-uudistuksen järjestelmämuutoksen tasaus vuodelle 2026 | O9: Jälkikäteistarkistuksesta johtuva valtionosuuden lisäsiirtotarve vuodelta 2023, 501 milj. € (1/3) | P9: Määräaikaisen v 2024 tehdyn lisäyksen takaisinperintä (1/3) | Q9: Valtionosuusjärjestelmän 75 M€ leikkaus / -2 % (Lisätoimet 2025- ) | R9: TE25: Kunnan työttömyysetuuksien rahoitusvastuun laajentamisen korvaus | S9: Muut lisäykset ja vähennykset yhteensä | T9: Valtionosuus ennen verotuloihin perustuvaa valtionosuuden tasausta (G+I+J) | U9: Verotuloihin perustuva valtionosuuden tasaus | V9: Kunnan peruspalvelujen valtionosuus yhteensä (T+U) | W9: Veroperuste-muutoksista johtuvien veromenetysten korvaus | X9: VM-vos = Peruspalvelujen valtionosuus ja veromenetysten korvaus YHTEENSÄ | Y9: OKM-vos 2026 YHTEENSÄ | Z9: VM+OKM -vos YHTEENSÄ
A10: 0 | B10: 0 | C10: 0 | E10: 5622045 | F10: 2114.3267 | G10: 529.63674 | H10: 0.250499 | I10: 57.620103 | J10: -124.99894 | K10: -21.51 | L10: -85.693188 | M10: 4.9803411e-08 | N10: 2.7850828e-15 | O10: -29.72 | P10: -11.38 | Q10: -13.340341 | R10: 38.434594 | S10: -1.79 | T10: 462.25791 | U10: 143.17302 | V10: 605.43093 | W10: 109.65761 | X10: 715.08853 | Y10: 27.342696 | Z10: 742.43123
A11: 5 | B11: 14 | C11: 14 | D11: Alajärvi | E11: 8982 | F11: 2115.7776 | G11: 531.08757 | H11: 0.25101295 | I11: 74.76251 | J11: 20.23491 | K11: -21.51 | L11: -41.588906 | M11: 123.48098 | N11: -5.7587425 | O11: -29.72 | P11: -11.38 | Q11: -26.504996 | R11: 35.266151 | S11: -2.0495725 | T11: 626.08499 | U11: 594.14034 | V11: 1220.2253 | W11: 169.69635 | X11: 1389.9217 | Y11: 58.513694 | Z11: 1448.4354
A12: 9 | B12: 17 | C12: 17 | D12: Alavieska | E12: 2384 | F12: 2296.2998 | G12: 711.60979 | H12: 0.30989411 | I12: 34.228253 | J12: 89.659222 | K12: -21.51 | L12: -50.467022 | M12: 213.01103 | N12: -5.7815441 | O12: -29.72 | P12: -11.38 | Q12: -34.185673 | R12: 31.891621 | S12: -2.199193 | T12: 835.49727 | U12: 740.95282 | V12: 1576.4501 | W12: 164.83547 | X12: 1741.2856 | Y12: -225.75713 | Z12: 1515.5284
A13: 10 | B13: 14 | C13: 14 | D13: Alavus | E13: 10634 | F13: 2026.4518 | G13: 441.76176 | H13: 0.21799767 | I13: 71.833162 | J13: -164.71204 | K13: -21.51 | L13: -42.937395 | M13: -31.862145 | N13: -54.310521 | O13: -29.72 | P13: -11.38 | Q13: -21.194841 | R13: 50.235999 | S13: -2.0331395 | T13: 348.88288 | U13: 628.23985 | V13: 977.12273 | W13: 169.51774 | X13: 1146.6405 | Y13: -72.202746 | Z13: 1074.4377
A14: 16 | B14: 7 | C14: 7 | D14: Asikkala | E14: 7841 | F14: 1681.4442 | G14: 96.754203 | H14: 0.057542321 | I14: 32.027393 | J14: 395.01823 | K14: -21.51 | L14: -42.593494 | M14: 279.75765 | N14: 202.78743 | O14: -29.72 | P14: -11.38 | Q14: -17.777686 | R14: 37.562789 | S14: -2.1084522 | T14: 523.79983 | U14: 301.41783 | V14: 825.21766 | W14: 139.42463 | X14: 964.64229 | Y14: -81.3497 | Z14: 883.29259
A15: 18 | B15: 1 | C15: 34 | D15: Askola | E15: 4677 | F15: 2108.5252 | G15: 523.83523 | H15: 0.24843679 | I15: 27.867638 | J15: -194.29917 | K15: -21.51 | L15: -29.120453 | M15: -97.423896 | N15: -19.660165 | O15: -29.72 | P15: -11.38 | Q15: -12.588728 | R15: 28.915207 | S15: -1.811135 | T15: 357.4037 | U15: 217.5611 | V15: 574.9648 | W15: 107.25008 | X15: 682.21488 | Y15: -26.006628 | Z15: 656.20825
A16: 19 | B16: 2 | C16: 2 | D16: Aura | E16: 3937 | F16: 2174.6682 | G16: 589.9782 | H16: 0.27129573 | I16: 26.185119 | J16: -272.33392 | K16: -21.51 | L16: -31.216967 | M16: -92.248268 | N16: -88.803619 | O16: -29.72 | P16: -11.38 | Q16: -15.293298 | R16: 19.578634 | S16: -1.7403981 | T16: 343.8294 | U16: 349.25431 | V16: 693.08371 | W16: 93.775224 | X16: 786.85893 | Y16: -245.04216 | Z16: 541.81677
A17: 20 | B17: 6 | C17: 6 | D17: Akaa | E17: 16429 | F17: 1957.774 | G17: 373.08399 | H17: 0.1905654 | I17: 30.332623 | J17: -350.69141 | K17: -21.51 | L17: -65.401759 | M17: -169.52446 | N17: -103.74332 | O17: -29.72 | P17: -11.38 | Q17: -10.169869 | R17: 62.60088 | S17: -1.8428899 | T17: 52.7252 | U17: 413.58728 | V17: 466.31248 | W17: 86.664688 | X17: 552.97717 | Y17: -168.20579 | Z17: 384.77137
A18: 46 | B18: 10 | C18: 10 | D18: Enonkoski | E18: 1273 | F18: 2350.0048 | G18: 765.31481 | H18: 0.32566521 | I18: 163.76439 | J18: 369.92993 | K18: -21.51 | L18: -38.697494 | M18: 303.60311 | N18: 174.8726 | O18: -29.72 | P18: -11.38 | Q18: -35.819681 | R18: 30.9678 | S18: -2.3864063 | T18: 1299.0091 | U18: 361.88418 | V18: 1660.8933 | W18: 204.3293 | X18: 1865.2226 | Y18: -299.83189 | Z18: 1565.3907
A19: 47 | B19: 19 | C19: 19 | D19: Enontekiö | E19: 1769 | F19: 2443.2122 | G19: 858.52225 | H19: 0.35139078 | I19: 540.75584 | J19: 113.56316 | K19: -21.51 | L19: -11.481928 | M19: -72.285802 | N19: 273.25898 | O19: -29.72 | P19: -11.38 | Q19: -36.477567 | R19: 25.309384 | S19: -2.1499119 | T19: 1512.8412 | U19: 166.63371 | V19: 1679.4749 | W19: 173.14531 | X19: 1852.6203 | Y19: -26.177501 | Z19: 1826.4428
A20: 49 | B20: 1 | C20: 33 | D20: Espoo | E20: 325716 | F20: 2687.1304 | G20: 1102.4404 | H20: 0.4102668 | I20: 60.535818 | J20: 273.26549 | K20: -21.51 | L20: -108.95265 | M20: 357.3763 | N20: 91.361691 | O20: -29.72 | P20: -11.38 | Q20: -29.777985 | R20: 27.636463 | S20: -1.7683351 | T20: 1436.2417 | U20: -79.415505 | V20: 1356.8262 | W20: 83.340547 | X20: 1440.1667 | Y20: 25.498895 | Z20: 1465.6656
A21: 50 | B21: 4 | C21: 4 | D21: Eura | E21: 11005 | F21: 1849.0745 | G21: 264.38451 | H21: 0.14298207 | I21: 28.884564 | J21: -163.16859 | K21: -21.51 | L21: -29.290178 | M21: -81.946736 | N21: -5.7713996 | O21: -29.72 | P21: -11.38 | Q21: -8.5576398 | R21: 26.879894 | S21: -1.8725298 | T21: 130.10048 | U21: 265.7689 | V21: 395.86938 | W21: 116.50218 | X21: 512.37156 | Y21: -116.9373 | Z21: 395.43426
A22: 51 | B22: 4 | C22: 4 | D22: Eurajoki | E22: 8920 | F22: 1919.9054 | G22: 335.21538 | H22: 0.17459995 | I22: 36.632658 | J22: -976.57869 | K22: -21.51 | L22: -23.049712 | M22: -458.98749 | N22: -459.71135 | O22: -29.72 | P22: -11.38 | Q22: 0 | R22: 29.569861 | S22: -1.79 | T22: -604.73065 | U22: -29.942404 | V22: -634.67306 | W22: 161.45435 | X22: -473.2187 | Y22: -83.718161 | Z22: -556.93686
... A302: 992 | B302: 13 | C302: 13 | D302: Äänekoski | E302: 17492 | F302: 1906.1986 | G302: 321.50857 | H302: 0.16866478 | I302: 35.925974 | J302: -109.14106 | K302: -21.51 | L302: -89.772235 | M302: -12.426853 | N302: -5.8349193 | O302: -29.72 | P302: -11.38 | Q302: -11.891909 | R302: 75.269964 | S302: -1.875104 | T302: 248.29348 | U302: 295.82728 | V302: 544.12077 | W302: 101.01919 | X302: 645.13996 | Y302: -48.149726 | Z302: 596.99023

Sheet 3. Vos-muutos_tiivis_2026-27
A1: Kuntien valtionosuudet yhteensä 2026-27, muutosvertailu
A2: 22.9.2026
C9: Vos 2026 yhteensä | D9: Vos 2027 yhteensä | E9: Muutos 2026-27 | F9: Muutos, % | G9: Vos 2026 €/as. | H9: Vos 2027 €/as. | I9: Muutos €/as. | J9: % vos:sta -27 | K9: % väestöstä -25 | L9: Väestö 31.12.2024 | M9: Väestö 31.12.2025 | N9: Mk | O9: Hva
A10: Nro | B10: Manner-Suomi | C10: {=_xlfn.XLOOKUP(TRUE,ISBLANK('1.a. Statsandelsberäkning'!$V$10:$V$302),'1.a. Statsandelsberäkning'!$AG$10:$AG$302,"")} -> 4.20225e+09 | D10: {=_xlfn.XLOOKUP(TRUE,ISBLANK('1.a. Statsandelsberäkning'!$A$10:$A$302),'1.a. Statsandelsberäkning'!$L$10:$L$302,"")} -> 4.1739818e+09 | E10: =D10-C10 -> -28268220 | F10: =E10/C10 -> -0.0067269249 | G10: =C10/L10 -> 749.68998 | H10: =D10/M10 -> 742.43123 | I10: =H10-G10 -> -7.2587527 | J10: =C10/$C$10 -> 1 | K10: =M10/$M$10 -> 1 | L10: 5605317 | M10: {=_xlfn.XLOOKUP(TRUE,ISBLANK('1.a. Statsandelsberäkning'!$A$10:$A$302),'1.a. Statsandelsberäkning'!$C$10:$C$302,"")} -> 5622045 | N10: 0 | O10: 0
A11: 5 | B11: Alajärvi | C11: =_xlfn.XLOOKUP(IF(ISNUMBER($A11),IF($A11=0,"",$A11),""),'1.a. Statsandelsberäkning'!$V$10:$V$302,'1.a. Statsandelsberäkning'!$AG$10:$AG$302,"") -> 12892142 | D11: =_xlfn.XLOOKUP(IF(ISNUMBER($A11),IF($A11=0,"",$A11),""),'1.a. Statsandelsberäkning'!$A$10:$A$302,'1.a. Statsandelsberäkning'!$L$10:$L$302,"") -> 13009846 | E11: =D11-C11 -> 117704.54 | F11: =E11/C11 -> 0.0091299448 | G11: =C11/L11 -> 1420.1522 | H11: =D11/M11 -> 1448.4354 | I11: =H11-G11 -> 28.283139 | J11: =C11/$C$10 -> 0.0030679141 | K11: =M11/$M$10 -> 0.0015976393 | L11: 9078 | M11: =_xlfn.XLOOKUP(IF(ISNUMBER($A11),IF($A11=0,"",$A11),""),'1.a. Statsandelsberäkning'!$A$10:$A$302,'1.a. Statsandelsberäkning'!$C$10:$C$302,"") -> 8982 | N11: 14 | O11: 14
A12: 9 | B12: Alavieska | C12: =_xlfn.XLOOKUP(IF(ISNUMBER($A12),IF($A12=0,"",$A12),""),'1.a. Statsandelsberäkning'!$V$10:$V$302,'1.a. Statsandelsberäkning'!$AG$10:$AG$302,"") -> 3714747.4 | D12: =_xlfn.XLOOKUP(IF(ISNUMBER($A12),IF($A12=0,"",$A12),""),'1.a. Statsandelsberäkning'!$A$10:$A$302,'1.a. Statsandelsberäkning'!$L$10:$L$302,"") -> 3613019.8 | E12: =D12-C12 -> -101727.59 | F12: =E12/C12 -> -0.027384794 | G12: =C12/L12 -> 1541.3889 | H12: =D12/M12 -> 1515.5284 | I12: =H12-G12 -> -25.86052 | J12: =C12/$C$10 -> 0.00088399009 | K12: =M12/$M$10 -> 0.00042404499 | L12: 2410 | M12: =_xlfn.XLOOKUP(IF(ISNUMBER($A12),IF($A12=0,"",$A12),""),'1.a. Statsandelsberäkning'!$A$10:$A$302,'1.a. Statsandelsberäkning'!$C$10:$C$302,"") -> 2384 | N12: 17 | O12: 17
A13: 10 | B13: Alavus | C13: =_xlfn.XLOOKUP(IF(ISNUMBER($A13),IF($A13=0,"",$A13),""),'1.a. Statsandelsberäkning'!$V$10:$V$302,'1.a. Statsandelsberäkning'!$AG$10:$AG$302,"") -> 11463758 | D13: =_xlfn.XLOOKUP(IF(ISNUMBER($A13),IF($A13=0,"",$A13),""),'1.a. Statsandelsberäkning'!$A$10:$A$302,'1.a. Statsandelsberäkning'!$L$10:$L$302,"") -> 11425571 | E13: =D13-C13 -> -38187.6 | F13: =E13/C13 -> -0.0033311589 | G13: =C13/L13 -> 1063.4284 | H13: =D13/M13 -> 1074.4377 | I13: =H13-G13 -> 11.009305 | J13: =C13/$C$10 -> 0.0027280048 | K13: =M13/$M$10 -> 0.0018914825 | L13: 10780 | M13: =_xlfn.XLOOKUP(IF(ISNUMBER($A13),IF($A13=0,"",$A13),""),'1.a. Statsandelsberäkning'!$A$10:$A$302,'1.a. Statsandelsberäkning'!$C$10:$C$302,"") -> 10634 | N13: 14 | O13: 14
A14: 16 | B14: Asikkala | C14: =_xlfn.XLOOKUP(IF(ISNUMBER($A14),IF($A14=0,"",$A14),""),'1.a. Statsandelsberäkning'!$V$10:$V$302,'1.a. Statsandelsberäkning'!$AG$10:$AG$302,"") -> 7753275.5 | D14: =_xlfn.XLOOKUP(IF(ISNUMBER($A14),IF($A14=0,"",$A14),""),'1.a. Statsandelsberäkning'!$A$10:$A$302,'1.a. Statsandelsberäkning'!$L$10:$L$302,"") -> 6925897.2 | E14: =D14-C14 -> -827378.34 | F14: =E14/C14 -> -0.10671339 | G14: =C14/L14 -> 982.79573 | H14: =D14/M14 -> 883.29259 | I14: =H14-G14 -> -99.503143 | J14: =C14/$C$10 -> 0.0018450296 | K14: =M14/$M$10 -> 0.0013946882 | L14: 7889 | M14: =_xlfn.XLOOKUP(IF(ISNUMBER($A14),IF($A14=0,"",$A14),""),'1.a. Statsandelsberäkning'!$A$10:$A$302,'1.a. Statsandelsberäkning'!$C$10:$C$302,"") -> 7841 | N14: 7 | O14: 7
A15: 18 | B15: Askola | C15: =_xlfn.XLOOKUP(IF(ISNUMBER($A15),IF($A15=0,"",$A15),""),'1.a. Statsandelsberäkning'!$V$10:$V$302,'1.a. Statsandelsberäkning'!$AG$10:$AG$302,"") -> 3166038.7 | D15: =_xlfn.XLOOKUP(IF(ISNUMBER($A15),IF($A15=0,"",$A15),""),'1.a. Statsandelsberäkning'!$A$10:$A$302,'1.a. Statsandelsberäkning'!$L$10:$L$302,"") -> 3069086 | E15: =D15-C15 -> -96952.658 | F15: =E15/C15 -> -0.030622702 | G15: =C15/L15 -> 680.72214 | H15: =D15/M15 -> 656.20825 | I15: =H15-G15 -> -24.513884 | J15: =C15/$C$10 -> 0.00075341511 | K15: =M15/$M$10 -> 0.00083190369 | L15: 4651 | M15: =_xlfn.XLOOKUP(IF(ISNUMBER($A15),IF($A15=0,"",$A15),""),'1.a. Statsandelsberäkning'!$A$10:$A$302,'1.a. Statsandelsberäkning'!$C$10:$C$302,"") -> 4677 | N15: 1 | O15: 34
A16: 19 | B16: Aura | C16: =_xlfn.XLOOKUP(IF(ISNUMBER($A16),IF($A16=0,"",$A16),""),'1.a. Statsandelsberäkning'!$V$10:$V$302,'1.a. Statsandelsberäkning'!$AG$10:$AG$302,"") -> 2253588.6 | D16: =_xlfn.XLOOKUP(IF(ISNUMBER($A16),IF($A16=0,"",$A16),""),'1.a. Statsandelsberäkning'!$A$10:$A$302,'1.a. Statsandelsberäkning'!$L$10:$L$302,"") -> 2133132.6 | E16: =D16-C16 -> -120455.98 | F16: =E16/C16 -> -0.053450741 | G16: =C16/L16 -> 568.22708 | H16: =D16/M16 -> 541.81677 | I16: =H16-G16 -> -26.410312 | J16: =C16/$C$10 -> 0.00053628142 | K16: =M16/$M$10 -> 0.00070027899 | L16: 3966 | M16: =_xlfn.XLOOKUP(IF(ISNUMBER($A16),IF($A16=0,"",$A16),""),'1.a. Statsandelsberäkning'!$A$10:$A$302,'1.a. Statsandelsberäkning'!$C$10:$C$302,"") -> 3937 | N16: 2 | O16: 2
A17: 20 | B17: Akaa | C17: =_xlfn.XLOOKUP(IF(ISNUMBER($A17),IF($A17=0,"",$A17),""),'1.a. Statsandelsberäkning'!$V$10:$V$302,'1.a. Statsandelsberäkning'!$AG$10:$AG$302,"") -> 6103902.6 | D17: =_xlfn.XLOOKUP(IF(ISNUMBER($A17),IF($A17=0,"",$A17),""),'1.a. Statsandelsberäkning'!$A$10:$A$302,'1.a. Statsandelsberäkning'!$L$10:$L$302,"") -> 6321408.9 | E17: =D17-C17 -> 217506.32 | F17: =E17/C17 -> 0.035633976 | G17: =C17/L17 -> 372.48444 | H17: =D17/M17 -> 384.77137 | I17: =H17-G17 -> 12.28693 | J17: =C17/$C$10 -> 0.001452532 | K17: =M17/$M$10 -> 0.0029222463 | L17: 16387 | M17: =_xlfn.XLOOKUP(IF(ISNUMBER($A17),IF($A17=0,"",$A17),""),'1.a. Statsandelsberäkning'!$A$10:$A$302,'1.a. Statsandelsberäkning'!$C$10:$C$302,"") -> 16429 | N17: 6 | O17: 6
A18: 46 | B18: Enonkoski | C18: =_xlfn.XLOOKUP(IF(ISNUMBER($A18),IF($A18=0,"",$A18),""),'1.a. Statsandelsberäkning'!$V$10:$V$302,'1.a. Statsandelsberäkning'!$AG$10:$AG$302,"") -> 1980180.1 | D18: =_xlfn.XLOOKUP(IF(ISNUMBER($A18),IF($A18=0,"",$A18),""),'1.a. Statsandelsberäkning'!$A$10:$A$302,'1.a. Statsandelsberäkning'!$L$10:$L$302,"") -> 1992742.4 | E18: =D18-C18 -> 12562.278 | F18: =E18/C18 -> 0.006344008 | G18: =C18/L18 -> 1537.4069 | H18: =D18/M18 -> 1565.3907 | I18: =H18-G18 -> 27.983804 | J18: =C18/$C$10 -> 0.00047121901 | K18: =M18/$M$10 -> 0.00022643006 | L18: 1288 | M18: =_xlfn.XLOOKUP(IF(ISNUMBER($A18),IF($A18=0,"",$A18),""),'1.a. Statsandelsberäkning'!$A$10:$A$302,'1.a. Statsandelsberäkning'!$C$10:$C$302,"") -> 1273 | N18: 10 | O18: 10
